BEGIN:VCALENDAR
VERSION:2.0
PRODID:-//wp-events-plugin.com//7.2.3.1//EN
TZID:Europe/London
X-WR-TIMEZONE:Europe/London
BEGIN:VEVENT
UID:3246@larevistadelapalma.com
DTSTART:20240921T170000Z
DTEND:20240921T223000Z
DTSTAMP:20240918T173930Z
URL:https://www.larevistadelapalma.com/events/astrofest-2024-equinoccio-de
 -otono/
SUMMARY:Astrofest 2024: equinoccio de otoño
DESCRIPTION:El sábado\, 21 de septiembre\, se desarrollarán varias accion
 es en el Centro de Visitantes del Volcán de San Antonio para conmemorar e
 l equinoccio de otoño.\nEl Cabildo de La Palma\, a través de la empresa 
 pública Sodepal\, sigue desarrollando las actividades previstas en el Ast
 rofest 2024\, que consolidan a la Isla como referente mundial del astrotur
 ismo. De esa manera\, este próximo sábado\, 21 de septiembre\, se realiz
 arán actividades para celebrar el equinoccio de otoño en el Centro de Vi
 sitantes del Volcán de San Antonio. \n\nLas acciones que se llevarán a 
 cabo ese día comenzarán a las 18:00 horas con la observación solar con 
 telescopios y continuará con una charla impartida por el director de Astr
 onorte\, Miguel Calero\, a las 19:15 horas. A las 19:30 horas tendrá luga
 r el seguimiento de la sombra del sol en marcador\, a cargo del técnico d
 e Sodepal\, Antonio González. \n\nLa actividad continuará con la ponenc
 ia El cielo de los awara\, ofrecida por Miguel Martín\, de Iruere La Palm
 a y a esto le seguirá la proyección Imágenes 360 de yacimientos arqueol
 ógicos\, de la mano de Antonio González. La actividad finalizará con la
  nocturna a simple vista y con telescopios. \n\nEsta actividad es gratuit
 a\, dirigida a todas las edades\, ofrece una oportunidad única para disfr
 utar de los cielos de la isla\, uno de los mejores destinos mundiales para
  la observación astronómica.\nEncuentro de telescopios\nAdemás de esta 
 actividad\, el calendario Astrofest La Palma continúa en el mes de septie
 mbre con un encuentro de telescopios\, que tendrá lugar en la Casa de la 
 Cultura de Puntallana y sus alrededores\, de 20:00 a 23:00 horas. \n\nPar
 a más información sobre las actividades y eventos\, se puede visitar la 
 página web oficial del festival: astrofestlapalma.es.\n\n&nbsp\;
ATTACH;FMTTYPE=image/jpeg:https://www.larevistadelapalma.com/wp-content/up
 loads/2024/09/equinoccio.jpeg
CATEGORIES:Otras propuestas,Varios
LOCATION:Municipio de Fuencaliente\, Fuencaliente\, Fuencaliente\, 38740\, 
 España
GEO:28.479676;-17.840616
X-APPLE-STRUCTURED-LOCATION;VALUE=URI;X-ADDRESS=Fuencaliente\, Fuencaliente
 \, 38740\, España;X-APPLE-RADIUS=100;X-TITLE=Municipio de Fuencaliente:ge
 o:28.479676,-17.840616
END:VEVENT
END:VCALENDARBEGIN:VCALENDAR
VERSION:2.0
PRODID:-//wp-events-plugin.com//7.2.3.1//EN
TZID:Europe/London
X-WR-TIMEZONE:Europe/London
BEGIN:VEVENT
UID:3246@larevistadelapalma.com
DTSTART:20240921T170000Z
DTEND:20240921T223000Z
DTSTAMP:20240918T173930Z
URL:https://www.larevistadelapalma.com/events/astrofest-2024-equinoccio-de
 -otono/
SUMMARY:Astrofest 2024: equinoccio de otoño
DESCRIPTION:El sábado\, 21 de septiembre\, se desarrollarán varias accion
 es en el Centro de Visitantes del Volcán de San Antonio para conmemorar e
 l equinoccio de otoño.\nEl Cabildo de La Palma\, a través de la empresa 
 pública Sodepal\, sigue desarrollando las actividades previstas en el Ast
 rofest 2024\, que consolidan a la Isla como referente mundial del astrotur
 ismo. De esa manera\, este próximo sábado\, 21 de septiembre\, se realiz
 arán actividades para celebrar el equinoccio de otoño en el Centro de Vi
 sitantes del Volcán de San Antonio. \n\nLas acciones que se llevarán a 
 cabo ese día comenzarán a las 18:00 horas con la observación solar con 
 telescopios y continuará con una charla impartida por el director de Astr
 onorte\, Miguel Calero\, a las 19:15 horas. A las 19:30 horas tendrá luga
 r el seguimiento de la sombra del sol en marcador\, a cargo del técnico d
 e Sodepal\, Antonio González. \n\nLa actividad continuará con la ponenc
 ia El cielo de los awara\, ofrecida por Miguel Martín\, de Iruere La Palm
 a y a esto le seguirá la proyección Imágenes 360 de yacimientos arqueol
 ógicos\, de la mano de Antonio González. La actividad finalizará con la
  nocturna a simple vista y con telescopios. \n\nEsta actividad es gratuit
 a\, dirigida a todas las edades\, ofrece una oportunidad única para disfr
 utar de los cielos de la isla\, uno de los mejores destinos mundiales para
  la observación astronómica.\nEncuentro de telescopios\nAdemás de esta 
 actividad\, el calendario Astrofest La Palma continúa en el mes de septie
 mbre con un encuentro de telescopios\, que tendrá lugar en la Casa de la 
 Cultura de Puntallana y sus alrededores\, de 20:00 a 23:00 horas. \n\nPar
 a más información sobre las actividades y eventos\, se puede visitar la 
 página web oficial del festival: astrofestlapalma.es.\n\n&nbsp\;
ATTACH;FMTTYPE=image/jpeg:https://www.larevistadelapalma.com/wp-content/up
 loads/2024/09/equinoccio.jpeg
CATEGORIES:Otras propuestas,Varios
LOCATION:Municipio de Fuencaliente\, Fuencaliente\, Fuencaliente\, 38740\, 
 España
GEO:28.479676;-17.840616
X-APPLE-STRUCTURED-LOCATION;VALUE=URI;X-ADDRESS=Fuencaliente\, Fuencaliente
 \, 38740\, España;X-APPLE-RADIUS=100;X-TITLE=Municipio de Fuencaliente:ge
 o:28.479676,-17.840616
END:VEVENT
END:VCALENDAR