BEGIN:VCALENDAR
VERSION:2.0
PRODID:-//wp-events-plugin.com//7.2.3.1//EN
TZID:Europe/London
X-WR-TIMEZONE:Europe/London
BEGIN:VEVENT
UID:3741@larevistadelapalma.com
DTSTART:20250508T180000Z
DTEND:20250508T193000Z
DTSTAMP:20250505T195239Z
URL:https://www.larevistadelapalma.com/events/atardecer-literario-con-joel
 -perez-noguera-brea-baja/
SUMMARY:Atardecer Literario con Joel Pérez Noguera\, Breá Baja
DESCRIPTION:El jueves 8 de mayo\, a las 19 hs\, en la Biblioteca Pública M
 unicipal “Mauro Fernández Santos” de San Antonio se celebra un Atarde
 cer Literario con Joel Pérez Noguera\, presentando su nuevo libro "100 pr
 osas\, 9 musas".\nSe trata de la segunda presentación del Ciclo “Atarde
 cer Literario” de este año\, y esta moderado  y presentado por la escr
 itora Beatriz Gómez.\n\n“100 prosas\, 9 musas es un nuevo desafío del 
 autor\, guiado por nueve figuras que me inspiran\, me estremecen y me desp
 iertan. A través de cien piezas en prosa como formato\, rompiendo con los
  moldes anteriores. El libro entrelaza memoria\, amor\, raíz\, lucha y fu
 ego interior\, convirtiendo cada palabra en un acto de reverencia y rebeld
 ía.\n\nEstas musas son símbolos vivos de lo que transforma\, sostiene y 
 libera. Algunas habitan la carne\, otras la historia\, el paisaje\, la her
 ida o la esperanza. Con un lenguaje lírico\, filosófico y narrativo. Joe
 l Pérez Noguera construye un homenaje íntimo a la inspiración y el pode
 r de la palabra como memoria y semilla. Una obra para leer con el corazó
 n abierto\, ideal para quienes creen en el arte como forma de resistencia\
 , belleza y verdad.”\n\nSobre el autor:\n\n“Soy un rapero y poeta de l
 a Isla de La Palma. Me inicié en el arte de la escritura cuando era un ad
 olescente\, no obstante\, no tenía ningún hábito\, ni tampoco técnica\
 , simplemente escribía de forma experimental e intuitiva. Recuerdo vagame
 nte haber hecho alguna letra de rap\, y escribir algún que otro pensamien
 to. Fue a los 19\, cuando comencé a escribir dicho género urbano y a hac
 er freestyle (improvisar) con mis amigos de una forma más seria\, desarro
 llando nuevas habilidades que con el tiempo se convertirían en canciones.
 \n\nEn cuanto a la poesía\, recuerdo que empecé a los 24 años. En la et
 apa inicial\, se parecía un poco a lo que ya hacía con las letras de rap
 \, pero con el tiempo me di cuenta que son dos artes diferentes\, aunque t
 ienen ciertas similitudes. Al leer más y más libros de poesía\, y al in
 vestigar sobre los recursos del arte lírico\, fui perfeccionando mi escri
 tura\, y evolucionando en ambas facetas: La literaria y la musical.\n\nEn 
 el 2008 grabé mi primera canción llamada Un intento en myspace\, con una
  calidad musical muy pobre\, pero con una letra con contenido social como 
 es el acaso escolar\, No sería hasta el 2014 cuando grabé la primera can
 ción que me gustó\, llamada Sin Miedo\, producida por Darko.\n\nPosterio
 rmente grabé algunas canciones como Seda con Darko en el 2015\, entre otr
 as. No sería hasta el 2023 que publicaría mi primer álbum The True Walk
 er grabado en el laboratorio\, un año más tarde\, en el 2024\, publicar
 ía mi segundo álbum llamado Mar de Lava grabado en ElMankoStudio.\n\nEn 
 cuanto a la literatura he publicado cuatro libros en solitario: Contrastes
  en 2021\, Luz de Abora en 2022\, Viaje en el Viento en 2024 y 100 prosas\
 , 9 musas en el 2025.\n\nTambién he colaborado en Décimarentena publicad
 o en el 2010\, y en Don Eduardo Oramas Alayón\, hijo ilustre de la isla d
 e Tenerife publicado en 2023.\n\nAdemás\, he sido prologuista de Lanzarot
 e\, la Isla Dorada de mi niñez de Beatriz Gómez del año 2017\, y prolog
 uista de La Memoria del pescador de Carlos Francisco Gónzalez\, publicado
  en el 2023. Este mismo autor\, publicó Hombre Libre en 2024 y le hice el
  texto de la contraportada.\n\nHe participado en las tres ediciones de la 
 revista literaria ExpresArte\, siendo el codiseñador del logo\, he escrit
 o en el periódico digital elpaiscanario.com\, en la revista La Palma Jove
 n Magazine de la artista y gestora cultura Beatriz Gómez.\n\nActualmente 
 soy el coordinador del Club de Lectura de Villa de Mazo\, en el Espacio Li
 terario El Rincón de Alonsín\, junto a la artista Fátima Pérez Méndez
 .”\n\n
ATTACH;FMTTYPE=image/jpeg:https://www.larevistadelapalma.com/wp-content/up
 loads/2025/05/AtardecerLiterario-25-Mayo-JoelPerez-Cartel-scaled.jpg
CATEGORIES:Cine y Literatura,Literatura
LOCATION:Biblioteca Pública Municipal “Mauro Fernández Santos”\,  Bre
 ña Baja\, Calle El Monacal\, 55. San Antonio\, Breña Baja\, 38712\, Espa
 ña
GEO:28.648662;-17.768581
X-APPLE-STRUCTURED-LOCATION;VALUE=URI;X-ADDRESS=Calle El Monacal\, 55. San 
 Antonio\, Breña Baja\, 38712\, España;X-APPLE-RADIUS=100;X-TITLE=Bibliot
 eca Pública Municipal “Mauro Fernández Santos”\,  Breña Baja:geo:28
 .648662,-17.768581
END:VEVENT
END:VCALENDARBEGIN:VCALENDAR
VERSION:2.0
PRODID:-//wp-events-plugin.com//7.2.3.1//EN
TZID:Europe/London
X-WR-TIMEZONE:Europe/London
BEGIN:VEVENT
UID:3741@larevistadelapalma.com
DTSTART:20250508T180000Z
DTEND:20250508T193000Z
DTSTAMP:20250505T195239Z
URL:https://www.larevistadelapalma.com/events/atardecer-literario-con-joel
 -perez-noguera-brea-baja/
SUMMARY:Atardecer Literario con Joel Pérez Noguera\, Breá Baja
DESCRIPTION:El jueves 8 de mayo\, a las 19 hs\, en la Biblioteca Pública M
 unicipal “Mauro Fernández Santos” de San Antonio se celebra un Atarde
 cer Literario con Joel Pérez Noguera\, presentando su nuevo libro "100 pr
 osas\, 9 musas".\nSe trata de la segunda presentación del Ciclo “Atarde
 cer Literario” de este año\, y esta moderado  y presentado por la escr
 itora Beatriz Gómez.\n\n“100 prosas\, 9 musas es un nuevo desafío del 
 autor\, guiado por nueve figuras que me inspiran\, me estremecen y me desp
 iertan. A través de cien piezas en prosa como formato\, rompiendo con los
  moldes anteriores. El libro entrelaza memoria\, amor\, raíz\, lucha y fu
 ego interior\, convirtiendo cada palabra en un acto de reverencia y rebeld
 ía.\n\nEstas musas son símbolos vivos de lo que transforma\, sostiene y 
 libera. Algunas habitan la carne\, otras la historia\, el paisaje\, la her
 ida o la esperanza. Con un lenguaje lírico\, filosófico y narrativo. Joe
 l Pérez Noguera construye un homenaje íntimo a la inspiración y el pode
 r de la palabra como memoria y semilla. Una obra para leer con el corazó
 n abierto\, ideal para quienes creen en el arte como forma de resistencia\
 , belleza y verdad.”\n\nSobre el autor:\n\n“Soy un rapero y poeta de l
 a Isla de La Palma. Me inicié en el arte de la escritura cuando era un ad
 olescente\, no obstante\, no tenía ningún hábito\, ni tampoco técnica\
 , simplemente escribía de forma experimental e intuitiva. Recuerdo vagame
 nte haber hecho alguna letra de rap\, y escribir algún que otro pensamien
 to. Fue a los 19\, cuando comencé a escribir dicho género urbano y a hac
 er freestyle (improvisar) con mis amigos de una forma más seria\, desarro
 llando nuevas habilidades que con el tiempo se convertirían en canciones.
 \n\nEn cuanto a la poesía\, recuerdo que empecé a los 24 años. En la et
 apa inicial\, se parecía un poco a lo que ya hacía con las letras de rap
 \, pero con el tiempo me di cuenta que son dos artes diferentes\, aunque t
 ienen ciertas similitudes. Al leer más y más libros de poesía\, y al in
 vestigar sobre los recursos del arte lírico\, fui perfeccionando mi escri
 tura\, y evolucionando en ambas facetas: La literaria y la musical.\n\nEn 
 el 2008 grabé mi primera canción llamada Un intento en myspace\, con una
  calidad musical muy pobre\, pero con una letra con contenido social como 
 es el acaso escolar\, No sería hasta el 2014 cuando grabé la primera can
 ción que me gustó\, llamada Sin Miedo\, producida por Darko.\n\nPosterio
 rmente grabé algunas canciones como Seda con Darko en el 2015\, entre otr
 as. No sería hasta el 2023 que publicaría mi primer álbum The True Walk
 er grabado en el laboratorio\, un año más tarde\, en el 2024\, publicar
 ía mi segundo álbum llamado Mar de Lava grabado en ElMankoStudio.\n\nEn 
 cuanto a la literatura he publicado cuatro libros en solitario: Contrastes
  en 2021\, Luz de Abora en 2022\, Viaje en el Viento en 2024 y 100 prosas\
 , 9 musas en el 2025.\n\nTambién he colaborado en Décimarentena publicad
 o en el 2010\, y en Don Eduardo Oramas Alayón\, hijo ilustre de la isla d
 e Tenerife publicado en 2023.\n\nAdemás\, he sido prologuista de Lanzarot
 e\, la Isla Dorada de mi niñez de Beatriz Gómez del año 2017\, y prolog
 uista de La Memoria del pescador de Carlos Francisco Gónzalez\, publicado
  en el 2023. Este mismo autor\, publicó Hombre Libre en 2024 y le hice el
  texto de la contraportada.\n\nHe participado en las tres ediciones de la 
 revista literaria ExpresArte\, siendo el codiseñador del logo\, he escrit
 o en el periódico digital elpaiscanario.com\, en la revista La Palma Jove
 n Magazine de la artista y gestora cultura Beatriz Gómez.\n\nActualmente 
 soy el coordinador del Club de Lectura de Villa de Mazo\, en el Espacio Li
 terario El Rincón de Alonsín\, junto a la artista Fátima Pérez Méndez
 .”\n\n
ATTACH;FMTTYPE=image/jpeg:https://www.larevistadelapalma.com/wp-content/up
 loads/2025/05/AtardecerLiterario-25-Mayo-JoelPerez-Cartel-scaled.jpg
CATEGORIES:Cine y Literatura,Literatura
LOCATION:Biblioteca Pública Municipal “Mauro Fernández Santos”\,  Bre
 ña Baja\, Calle El Monacal\, 55. San Antonio\, Breña Baja\, 38712\, Espa
 ña
GEO:28.648662;-17.768581
X-APPLE-STRUCTURED-LOCATION;VALUE=URI;X-ADDRESS=Calle El Monacal\, 55. San 
 Antonio\, Breña Baja\, 38712\, España;X-APPLE-RADIUS=100;X-TITLE=Bibliot
 eca Pública Municipal “Mauro Fernández Santos”\,  Breña Baja:geo:28
 .648662,-17.768581
END:VEVENT
END:VCALENDAR