BEGIN:VCALENDAR
VERSION:2.0
PRODID:-//wp-events-plugin.com//7.2.3.1//EN
TZID:Europe/London
X-WR-TIMEZONE:Europe/London
BEGIN:VEVENT
UID:147@larevistadelapalma.com
DTSTART:20230707T180000Z
DTEND:20230707T200000Z
DTSTAMP:20230705T224755Z
URL:https://www.larevistadelapalma.com/events/atardecer-musical-con-xente-
 en-la-vinoteca-vega-norte/
SUMMARY:Atardecer musical con Xente en la Vinoteca Vega Norte
DESCRIPTION:Atardecer musical en la Vinoteca Vega Norte con la actuación d
 el cantautor Xente.\nReserva en el teléfono 822 255 523
ATTACH;FMTTYPE=image/jpeg:https://www.larevistadelapalma.com/wp-content/up
 loads/2023/07/Vega-Norte-Xente.jpg
CATEGORIES:Gastro,Otras propuestas
LOCATION:La Vinoteca de Vega Norte\, Cam. Bellido\, 3\, Tijarafe\, 38780\, 
 España
GEO:28.737774;-17.9661
X-APPLE-STRUCTURED-LOCATION;VALUE=URI;X-ADDRESS=Cam. Bellido\, 3\, Tijarafe
 \, 38780\, España;X-APPLE-RADIUS=100;X-TITLE=La Vinoteca de Vega Norte:ge
 o:28.737774,-17.9661
END:VEVENT
END:VCALENDARBEGIN:VCALENDAR
VERSION:2.0
PRODID:-//wp-events-plugin.com//7.2.3.1//EN
TZID:Europe/London
X-WR-TIMEZONE:Europe/London
BEGIN:VEVENT
UID:147@larevistadelapalma.com
DTSTART:20230707T180000Z
DTEND:20230707T200000Z
DTSTAMP:20230705T224755Z
URL:https://www.larevistadelapalma.com/events/atardecer-musical-con-xente-
 en-la-vinoteca-vega-norte/
SUMMARY:Atardecer musical con Xente en la Vinoteca Vega Norte
DESCRIPTION:Atardecer musical en la Vinoteca Vega Norte con la actuación d
 el cantautor Xente.\nReserva en el teléfono 822 255 523
ATTACH;FMTTYPE=image/jpeg:https://www.larevistadelapalma.com/wp-content/up
 loads/2023/07/Vega-Norte-Xente.jpg
CATEGORIES:Gastro,Otras propuestas
LOCATION:La Vinoteca de Vega Norte\, Cam. Bellido\, 3\, Tijarafe\, 38780\, 
 España
GEO:28.737774;-17.9661
X-APPLE-STRUCTURED-LOCATION;VALUE=URI;X-ADDRESS=Cam. Bellido\, 3\, Tijarafe
 \, 38780\, España;X-APPLE-RADIUS=100;X-TITLE=La Vinoteca de Vega Norte:ge
 o:28.737774,-17.9661
END:VEVENT
END:VCALENDAR