BEGIN:VCALENDAR
VERSION:2.0
PRODID:-//wp-events-plugin.com//7.2.3.1//EN
TZID:Europe/London
X-WR-TIMEZONE:Europe/London
BEGIN:VEVENT
UID:3618@larevistadelapalma.com
DTSTART:20250308T140000Z
DTEND:20250308T224500Z
DTSTAMP:20250302T160055Z
URL:https://www.larevistadelapalma.com/events/augustos-secret-carnaval-de-
 pinata/
SUMMARY:Augusto's Secret: Djs y Carnaval de Piñata
DESCRIPTION:Los tres de Caña\, Elvira y Grajasound\, verbenita+Djs.
ATTACH;FMTTYPE=image/jpeg:https://www.larevistadelapalma.com/wp-content/up
 loads/2025/02/Agusto-Secret.jpg
CATEGORIES:Festivales/Fiestas,Fiestas populares,Música,Otras propuestas
LOCATION:Municipio de Los Llanos de Aridane\, Los Llanos de Aridane\, Los L
 lanos de Aridane\, 38760\, España
GEO:28.660236;-17.913187
X-APPLE-STRUCTURED-LOCATION;VALUE=URI;X-ADDRESS=Los Llanos de Aridane\, Los
  Llanos de Aridane\, 38760\, España;X-APPLE-RADIUS=100;X-TITLE=Municipio 
 de Los Llanos de Aridane:geo:28.660236,-17.913187
END:VEVENT
END:VCALENDARBEGIN:VCALENDAR
VERSION:2.0
PRODID:-//wp-events-plugin.com//7.2.3.1//EN
TZID:Europe/London
X-WR-TIMEZONE:Europe/London
BEGIN:VEVENT
UID:3618@larevistadelapalma.com
DTSTART:20250308T140000Z
DTEND:20250308T224500Z
DTSTAMP:20250302T160055Z
URL:https://www.larevistadelapalma.com/events/augustos-secret-carnaval-de-
 pinata/
SUMMARY:Augusto's Secret: Djs y Carnaval de Piñata
DESCRIPTION:Los tres de Caña\, Elvira y Grajasound\, verbenita+Djs.
ATTACH;FMTTYPE=image/jpeg:https://www.larevistadelapalma.com/wp-content/up
 loads/2025/02/Agusto-Secret.jpg
CATEGORIES:Festivales/Fiestas,Fiestas populares,Música,Otras propuestas
LOCATION:Municipio de Los Llanos de Aridane\, Los Llanos de Aridane\, Los L
 lanos de Aridane\, 38760\, España
GEO:28.660236;-17.913187
X-APPLE-STRUCTURED-LOCATION;VALUE=URI;X-ADDRESS=Los Llanos de Aridane\, Los
  Llanos de Aridane\, 38760\, España;X-APPLE-RADIUS=100;X-TITLE=Municipio 
 de Los Llanos de Aridane:geo:28.660236,-17.913187
END:VEVENT
END:VCALENDAR