BEGIN:VCALENDAR
VERSION:2.0
PRODID:-//wp-events-plugin.com//7.2.3.1//EN
TZID:Europe/London
X-WR-TIMEZONE:Europe/London
BEGIN:VEVENT
UID:976@larevistadelapalma.com
DTSTART:20240105T190000Z
DTEND:20240105T210000Z
DTSTAMP:20240103T222444Z
URL:https://www.larevistadelapalma.com/events/auto-de-reyes-magos-en-garaf
 ia/
SUMMARY:Auto de Reyes Magos en Garafía
DESCRIPTION:\n\nLlega el broche de oro del programa navideño\, el 'Auto de
  los Reyes Magos'\, cuya representación es considerada la más antigua de
  Canarias\, según los datos que existen para datar la antigüedad de dich
 o acto\, que los documentos sitúan a finales del siglo XVIII y principios
  del XIX.\n\n\nSe trata de la obra teatral más antigua escrita en castell
 ano que se conoce\, con un total de 483 versos\, según un manuscrito del 
 texto que se conserva en la Iglesia de la Luz\, Santo Domingo\, y consta d
 e cuatro situaciones bien definidas:\n-Primera parte: comienza el Auto\, y
  los tres Reyes Magos recuerdan el Oriente de donde vienen\, las riquezas 
 y lujos que dejaron en los palacios que abandonaron por seguir la estrella
 .\n-Segunda parte: representa la llegada a Judea y la intervención de Her
 odes\, el cual es tildado de malvado por Baltasar desde un principio\, ant
 es aún de conocerse en la obra sus traiciones y planes.\n-Tercera parte: 
 hace referencia la llegada a Belén donde saludan a San José\, la Virgen 
 María y hacen sus ofrendas de oro\, incienso y mirra al niño Jesús.\n- 
 Cuarta parte: El final del Auto llega con el sueño de los Reyes y la apar
 ición del ángel el cual les revela los planes de Herodes y encamina a lo
 s Reyes a su tierra sin pasar por Judea y a la sagrada familia hacia Egipt
 o. La obra termina con la despedida emocionada de los Reyes.\n\n\nEn la ac
 tualidad\, finaliza con el reparto de regalos a los niños y niñas asiste
 ntes.\n\n\n
ATTACH;FMTTYPE=image/jpeg:https://www.larevistadelapalma.com/wp-content/up
 loads/2024/01/Auto-Reyes-Magos-Garafia.jpg
CATEGORIES:Fiestas populares,Otras propuestas
LOCATION:Municipio Villa de Garafía\, Garafía\, Garafía\, 38787\, Españ
 a
GEO:28.822803;-17.950221
X-APPLE-STRUCTURED-LOCATION;VALUE=URI;X-ADDRESS=Garafía\, Garafía\, 38787
 \, España;X-APPLE-RADIUS=100;X-TITLE=Municipio Villa de Garafía:geo:28.8
 22803,-17.950221
END:VEVENT
END:VCALENDARBEGIN:VCALENDAR
VERSION:2.0
PRODID:-//wp-events-plugin.com//7.2.3.1//EN
TZID:Europe/London
X-WR-TIMEZONE:Europe/London
BEGIN:VEVENT
UID:976@larevistadelapalma.com
DTSTART:20240105T190000Z
DTEND:20240105T210000Z
DTSTAMP:20240103T222444Z
URL:https://www.larevistadelapalma.com/events/auto-de-reyes-magos-en-garaf
 ia/
SUMMARY:Auto de Reyes Magos en Garafía
DESCRIPTION:\n\nLlega el broche de oro del programa navideño\, el 'Auto de
  los Reyes Magos'\, cuya representación es considerada la más antigua de
  Canarias\, según los datos que existen para datar la antigüedad de dich
 o acto\, que los documentos sitúan a finales del siglo XVIII y principios
  del XIX.\n\n\nSe trata de la obra teatral más antigua escrita en castell
 ano que se conoce\, con un total de 483 versos\, según un manuscrito del 
 texto que se conserva en la Iglesia de la Luz\, Santo Domingo\, y consta d
 e cuatro situaciones bien definidas:\n-Primera parte: comienza el Auto\, y
  los tres Reyes Magos recuerdan el Oriente de donde vienen\, las riquezas 
 y lujos que dejaron en los palacios que abandonaron por seguir la estrella
 .\n-Segunda parte: representa la llegada a Judea y la intervención de Her
 odes\, el cual es tildado de malvado por Baltasar desde un principio\, ant
 es aún de conocerse en la obra sus traiciones y planes.\n-Tercera parte: 
 hace referencia la llegada a Belén donde saludan a San José\, la Virgen 
 María y hacen sus ofrendas de oro\, incienso y mirra al niño Jesús.\n- 
 Cuarta parte: El final del Auto llega con el sueño de los Reyes y la apar
 ición del ángel el cual les revela los planes de Herodes y encamina a lo
 s Reyes a su tierra sin pasar por Judea y a la sagrada familia hacia Egipt
 o. La obra termina con la despedida emocionada de los Reyes.\n\n\nEn la ac
 tualidad\, finaliza con el reparto de regalos a los niños y niñas asiste
 ntes.\n\n\n
ATTACH;FMTTYPE=image/jpeg:https://www.larevistadelapalma.com/wp-content/up
 loads/2024/01/Auto-Reyes-Magos-Garafia.jpg
CATEGORIES:Fiestas populares,Otras propuestas
LOCATION:Municipio Villa de Garafía\, Garafía\, Garafía\, 38787\, Españ
 a
GEO:28.822803;-17.950221
X-APPLE-STRUCTURED-LOCATION;VALUE=URI;X-ADDRESS=Garafía\, Garafía\, 38787
 \, España;X-APPLE-RADIUS=100;X-TITLE=Municipio Villa de Garafía:geo:28.8
 22803,-17.950221
END:VEVENT
END:VCALENDAR