BEGIN:VCALENDAR
VERSION:2.0
PRODID:-//wp-events-plugin.com//7.2.3.1//EN
TZID:Europe/London
X-WR-TIMEZONE:Europe/London
BEGIN:VEVENT
UID:3938@larevistadelapalma.com
DTSTART:20250829T200000Z
DTEND:20250829T223000Z
DTSTAMP:20250826T220837Z
URL:https://www.larevistadelapalma.com/events/autocine-retro-y-tributo-a-e
 lvis-en-el-paso/
SUMMARY:Autocine retro y tributo a Elvis\, en El Paso
DESCRIPTION:El Club de Automóviles Antiguos El Paso organiza dos actos est
 e fin de semana. Uno de ellos es un autocine retro\, con vehículos de los
  años 60/70\, con proyección de la película Grease y tributo a Elvis co
 n Aaron White y the Pelvis Band. Un concierto que está incluido en la pro
 gramación del Festival Rock and Blues. \n\nSi te atreves puedes ir carac
 terizado al estilo Grease.\n\nEl día 31 de agosto\, tendrá lugar el segu
 ndo evento del Club\, una concentración de Vehículos Clásicos.
ATTACH;FMTTYPE=image/jpeg:https://www.larevistadelapalma.com/wp-content/up
 loads/2025/08/Imagen-de-WhatsApp-2025-08-26-a-las-12.19.51_ffa5946e-1.jpg
CATEGORIES:Cine y Literatura,Conciertos,Música,Varios
LOCATION:Municipio de El Paso\, El Paso\, La Palma \, El Paso\, 38750\, Esp
 aña
GEO:28.652378;-17.880396
X-APPLE-STRUCTURED-LOCATION;VALUE=URI;X-ADDRESS=El Paso\, La Palma \, El Pa
 so\, 38750\, España;X-APPLE-RADIUS=100;X-TITLE=Municipio de El Paso:geo:2
 8.652378,-17.880396
END:VEVENT
END:VCALENDARBEGIN:VCALENDAR
VERSION:2.0
PRODID:-//wp-events-plugin.com//7.2.3.1//EN
TZID:Europe/London
X-WR-TIMEZONE:Europe/London
BEGIN:VEVENT
UID:3938@larevistadelapalma.com
DTSTART:20250829T200000Z
DTEND:20250829T223000Z
DTSTAMP:20250826T220837Z
URL:https://www.larevistadelapalma.com/events/autocine-retro-y-tributo-a-e
 lvis-en-el-paso/
SUMMARY:Autocine retro y tributo a Elvis\, en El Paso
DESCRIPTION:El Club de Automóviles Antiguos El Paso organiza dos actos est
 e fin de semana. Uno de ellos es un autocine retro\, con vehículos de los
  años 60/70\, con proyección de la película Grease y tributo a Elvis co
 n Aaron White y the Pelvis Band. Un concierto que está incluido en la pro
 gramación del Festival Rock and Blues. \n\nSi te atreves puedes ir carac
 terizado al estilo Grease.\n\nEl día 31 de agosto\, tendrá lugar el segu
 ndo evento del Club\, una concentración de Vehículos Clásicos.
ATTACH;FMTTYPE=image/jpeg:https://www.larevistadelapalma.com/wp-content/up
 loads/2025/08/Imagen-de-WhatsApp-2025-08-26-a-las-12.19.51_ffa5946e-1.jpg
CATEGORIES:Cine y Literatura,Conciertos,Música,Varios
LOCATION:Municipio de El Paso\, El Paso\, La Palma \, El Paso\, 38750\, Esp
 aña
GEO:28.652378;-17.880396
X-APPLE-STRUCTURED-LOCATION;VALUE=URI;X-ADDRESS=El Paso\, La Palma \, El Pa
 so\, 38750\, España;X-APPLE-RADIUS=100;X-TITLE=Municipio de El Paso:geo:2
 8.652378,-17.880396
END:VEVENT
END:VCALENDAR