BEGIN:VCALENDAR
VERSION:2.0
PRODID:-//wp-events-plugin.com//7.2.3.1//EN
TZID:Europe/London
X-WR-TIMEZONE:Europe/London
BEGIN:VEVENT
UID:89@larevistadelapalma.com
DTSTART:20230706T200000Z
DTEND:20230706T213000Z
DTSTAMP:20230624T003200Z
URL:https://www.larevistadelapalma.com/events/awara-y-sal-concierto-solida
 rio/
SUMMARY:Awara y sal: concierto solidario
DESCRIPTION:Concierto solidario de Coral Awara. Por la compra de la entrada
  obtendrás un boleto para el Sorteo de Oro.
ATTACH;FMTTYPE=image/jpeg:https://www.larevistadelapalma.com/wp-content/up
 loads/2023/06/Awara-y-Sal-concierto-solidario.jpg
CATEGORIES:Conciertos,Música
LOCATION:Casa de la Cultura Braulio Martín Hernández de El Paso\, Av. Isl
 as Canarias\, 9\,\, El Paso\, 38750\, España
GEO:28.652923;-17.880463
X-APPLE-STRUCTURED-LOCATION;VALUE=URI;X-ADDRESS=Av. Islas Canarias\, 9\,\, 
 El Paso\, 38750\, España;X-APPLE-RADIUS=100;X-TITLE=Casa de la Cultura Br
 aulio Martín Hernández de El Paso:geo:28.652923,-17.880463
END:VEVENT
END:VCALENDARBEGIN:VCALENDAR
VERSION:2.0
PRODID:-//wp-events-plugin.com//7.2.3.1//EN
TZID:Europe/London
X-WR-TIMEZONE:Europe/London
BEGIN:VEVENT
UID:89@larevistadelapalma.com
DTSTART:20230706T200000Z
DTEND:20230706T213000Z
DTSTAMP:20230624T003200Z
URL:https://www.larevistadelapalma.com/events/awara-y-sal-concierto-solida
 rio/
SUMMARY:Awara y sal: concierto solidario
DESCRIPTION:Concierto solidario de Coral Awara. Por la compra de la entrada
  obtendrás un boleto para el Sorteo de Oro.
ATTACH;FMTTYPE=image/jpeg:https://www.larevistadelapalma.com/wp-content/up
 loads/2023/06/Awara-y-Sal-concierto-solidario.jpg
CATEGORIES:Conciertos,Música
LOCATION:Casa de la Cultura Braulio Martín Hernández de El Paso\, Av. Isl
 as Canarias\, 9\,\, El Paso\, 38750\, España
GEO:28.652923;-17.880463
X-APPLE-STRUCTURED-LOCATION;VALUE=URI;X-ADDRESS=Av. Islas Canarias\, 9\,\, 
 El Paso\, 38750\, España;X-APPLE-RADIUS=100;X-TITLE=Casa de la Cultura Br
 aulio Martín Hernández de El Paso:geo:28.652923,-17.880463
END:VEVENT
END:VCALENDAR