BEGIN:VCALENDAR
VERSION:2.0
PRODID:-//wp-events-plugin.com//7.2.3.1//EN
TZID:Europe/London
X-WR-TIMEZONE:Europe/London
BEGIN:VEVENT
UID:2994@larevistadelapalma.com
DTSTART:20240529T193000Z
DTEND:20240529T223000Z
DTSTAMP:20240521T115228Z
URL:https://www.larevistadelapalma.com/events/baile-de-candil-los-llanos-d
 e-aridane/
SUMMARY:Baile de Candil\, Los Llanos de Aridane
DESCRIPTION:El Ayuntamiento de Los Llanos de Aridane celebrará el miércol
 es 29 de mayo\, en la Plaza de España\, el Baile de Candil\, acto de cele
 bración del Día de Canarias en Los Llanos de Aridane. Una tradición qu
 e se había perdido y el Ayuntamiento rescató en pasado año 2017 \,en el
  marco de los actos conmemorativos previos a la celebración del Día de C
 anarias.\n\nPara ello\, la Concejalía de Cultura informa a continuación 
 los pasos a seguir para la reserva de mesas y otros consejos.\n\nReserva d
 e mesas:\n\n1. El plazo de las solicitudes estará hasta el 27 de mayo. La
 s reservas estarán disponibles hasta completar el aforo\, aunque habrá l
 ista de espera.\n\n2. El impreso de solicitud se podrá retirar en el Áre
 a de Cultura.\n3. La mesa seleccionada deberá ser ocupada antes de las 19
  horas del día del evento\, fijado el 29 de mayo\, o en su defecto se anu
 lará la reserva.\n\nPara el acceso al recinto del Baile de Candil es nece
 sario ir ataviado con vestimentas tradicional canaria. Ruegan a los asiste
 ntes que sean cuidadosos con los atuendos y los complementos\, pues se tra
 ta de homenajear la etnografía y la historia de nuestras Islas.
ATTACH;FMTTYPE=image/jpeg:https://www.larevistadelapalma.com/wp-content/up
 loads/2024/05/Baile-del-Candil.jpg
CATEGORIES:Fiestas populares,Otras propuestas
LOCATION:Plaza de España en Los Llanos de Aridane\, Plaza de España\, Los
  Llanos de Aridane\, 38760\, España
GEO:28.658934;-17.913174
X-APPLE-STRUCTURED-LOCATION;VALUE=URI;X-ADDRESS=Plaza de España\, Los Llan
 os de Aridane\, 38760\, España;X-APPLE-RADIUS=100;X-TITLE=Plaza de Españ
 a en Los Llanos de Aridane:geo:28.658934,-17.913174
END:VEVENT
END:VCALENDARBEGIN:VCALENDAR
VERSION:2.0
PRODID:-//wp-events-plugin.com//7.2.3.1//EN
TZID:Europe/London
X-WR-TIMEZONE:Europe/London
BEGIN:VEVENT
UID:2994@larevistadelapalma.com
DTSTART:20240529T193000Z
DTEND:20240529T223000Z
DTSTAMP:20240521T115228Z
URL:https://www.larevistadelapalma.com/events/baile-de-candil-los-llanos-d
 e-aridane/
SUMMARY:Baile de Candil\, Los Llanos de Aridane
DESCRIPTION:El Ayuntamiento de Los Llanos de Aridane celebrará el miércol
 es 29 de mayo\, en la Plaza de España\, el Baile de Candil\, acto de cele
 bración del Día de Canarias en Los Llanos de Aridane. Una tradición qu
 e se había perdido y el Ayuntamiento rescató en pasado año 2017 \,en el
  marco de los actos conmemorativos previos a la celebración del Día de C
 anarias.\n\nPara ello\, la Concejalía de Cultura informa a continuación 
 los pasos a seguir para la reserva de mesas y otros consejos.\n\nReserva d
 e mesas:\n\n1. El plazo de las solicitudes estará hasta el 27 de mayo. La
 s reservas estarán disponibles hasta completar el aforo\, aunque habrá l
 ista de espera.\n\n2. El impreso de solicitud se podrá retirar en el Áre
 a de Cultura.\n3. La mesa seleccionada deberá ser ocupada antes de las 19
  horas del día del evento\, fijado el 29 de mayo\, o en su defecto se anu
 lará la reserva.\n\nPara el acceso al recinto del Baile de Candil es nece
 sario ir ataviado con vestimentas tradicional canaria. Ruegan a los asiste
 ntes que sean cuidadosos con los atuendos y los complementos\, pues se tra
 ta de homenajear la etnografía y la historia de nuestras Islas.
ATTACH;FMTTYPE=image/jpeg:https://www.larevistadelapalma.com/wp-content/up
 loads/2024/05/Baile-del-Candil.jpg
CATEGORIES:Fiestas populares,Otras propuestas
LOCATION:Plaza de España en Los Llanos de Aridane\, Plaza de España\, Los
  Llanos de Aridane\, 38760\, España
GEO:28.658934;-17.913174
X-APPLE-STRUCTURED-LOCATION;VALUE=URI;X-ADDRESS=Plaza de España\, Los Llan
 os de Aridane\, 38760\, España;X-APPLE-RADIUS=100;X-TITLE=Plaza de Españ
 a en Los Llanos de Aridane:geo:28.658934,-17.913174
END:VEVENT
END:VCALENDAR