BEGIN:VCALENDAR
VERSION:2.0
PRODID:-//wp-events-plugin.com//7.2.3.1//EN
TZID:Europe/London
X-WR-TIMEZONE:Europe/London
BEGIN:VEVENT
UID:3514@larevistadelapalma.com
DTSTART:20241219T170000Z
DTEND:20241219T183000Z
DTSTAMP:20241217T162415Z
URL:https://www.larevistadelapalma.com/events/baile-y-acrobacias-con-vigor
 d-jazz-brena-alta/
SUMMARY:Baile y acrobacias con "Vigord Jazz"\, Breña Alta
DESCRIPTION:Este jueves\, 19 de diciembre\,  Vigord Jazz tiene preparado u
 n espectáculo de baile y acrobacias\, dentro de la programación de "Ilus
 ión con Asemba".
ATTACH;FMTTYPE=image/jpeg:https://www.larevistadelapalma.com/wp-content/up
 loads/2024/12/Vigord-Jazz.jpg
CATEGORIES:Danza,Espectáculos,Relax
LOCATION:Plaza Bujaz\, Breña Alta\, Calle Treinta de Mayo\, Breña Alta\, 
 38710\, España
GEO:28.662869;-17.788333
X-APPLE-STRUCTURED-LOCATION;VALUE=URI;X-ADDRESS=Calle Treinta de Mayo\, Bre
 ña Alta\, 38710\, España;X-APPLE-RADIUS=100;X-TITLE=Plaza Bujaz\, Breña
  Alta:geo:28.662869,-17.788333
END:VEVENT
END:VCALENDARBEGIN:VCALENDAR
VERSION:2.0
PRODID:-//wp-events-plugin.com//7.2.3.1//EN
TZID:Europe/London
X-WR-TIMEZONE:Europe/London
BEGIN:VEVENT
UID:3514@larevistadelapalma.com
DTSTART:20241219T170000Z
DTEND:20241219T183000Z
DTSTAMP:20241217T162415Z
URL:https://www.larevistadelapalma.com/events/baile-y-acrobacias-con-vigor
 d-jazz-brena-alta/
SUMMARY:Baile y acrobacias con "Vigord Jazz"\, Breña Alta
DESCRIPTION:Este jueves\, 19 de diciembre\,  Vigord Jazz tiene preparado u
 n espectáculo de baile y acrobacias\, dentro de la programación de "Ilus
 ión con Asemba".
ATTACH;FMTTYPE=image/jpeg:https://www.larevistadelapalma.com/wp-content/up
 loads/2024/12/Vigord-Jazz.jpg
CATEGORIES:Danza,Espectáculos,Relax
LOCATION:Plaza Bujaz\, Breña Alta\, Calle Treinta de Mayo\, Breña Alta\, 
 38710\, España
GEO:28.662869;-17.788333
X-APPLE-STRUCTURED-LOCATION;VALUE=URI;X-ADDRESS=Calle Treinta de Mayo\, Bre
 ña Alta\, 38710\, España;X-APPLE-RADIUS=100;X-TITLE=Plaza Bujaz\, Breña
  Alta:geo:28.662869,-17.788333
END:VEVENT
END:VCALENDAR