BEGIN:VCALENDAR
VERSION:2.0
PRODID:-//wp-events-plugin.com//7.2.3.1//EN
TZID:Europe/London
X-WR-TIMEZONE:Europe/London
BEGIN:VEVENT
UID:3792@larevistadelapalma.com
DTSTART:20250610T173000Z
DTEND:20250610T190000Z
DTSTAMP:20250605T204806Z
URL:https://www.larevistadelapalma.com/events/ballet-juana-de-arco-tijaraf
 e/
SUMMARY:Ballet: Juana de Arco\, Tijarafe
DESCRIPTION:Compañía Autodanza.\n\nIdea original\, coreógrafa y director
 a de escena Aroa De Francisco.\n\n&nbsp\;
ATTACH;FMTTYPE=image/jpeg:https://www.larevistadelapalma.com/wp-content/up
 loads/2025/06/Ballet-Juana-de-Arco.jpg
CATEGORIES:Danza,Espectáculos
LOCATION:Plaza Candelaria en Tijarafe\, Plaza de La Candelaria \, Tijarafe\
 , 38780\, España
GEO:28.711392;-17.955151
X-APPLE-STRUCTURED-LOCATION;VALUE=URI;X-ADDRESS=Plaza de La Candelaria \, T
 ijarafe\, 38780\, España;X-APPLE-RADIUS=100;X-TITLE=Plaza Candelaria en T
 ijarafe:geo:28.711392,-17.955151
END:VEVENT
END:VCALENDARBEGIN:VCALENDAR
VERSION:2.0
PRODID:-//wp-events-plugin.com//7.2.3.1//EN
TZID:Europe/London
X-WR-TIMEZONE:Europe/London
BEGIN:VEVENT
UID:3792@larevistadelapalma.com
DTSTART:20250610T173000Z
DTEND:20250610T190000Z
DTSTAMP:20250605T204806Z
URL:https://www.larevistadelapalma.com/events/ballet-juana-de-arco-tijaraf
 e/
SUMMARY:Ballet: Juana de Arco\, Tijarafe
DESCRIPTION:Compañía Autodanza.\n\nIdea original\, coreógrafa y director
 a de escena Aroa De Francisco.\n\n&nbsp\;
ATTACH;FMTTYPE=image/jpeg:https://www.larevistadelapalma.com/wp-content/up
 loads/2025/06/Ballet-Juana-de-Arco.jpg
CATEGORIES:Danza,Espectáculos
LOCATION:Plaza Candelaria en Tijarafe\, Plaza de La Candelaria \, Tijarafe\
 , 38780\, España
GEO:28.711392;-17.955151
X-APPLE-STRUCTURED-LOCATION;VALUE=URI;X-ADDRESS=Plaza de La Candelaria \, T
 ijarafe\, 38780\, España;X-APPLE-RADIUS=100;X-TITLE=Plaza Candelaria en T
 ijarafe:geo:28.711392,-17.955151
END:VEVENT
END:VCALENDAR