BEGIN:VCALENDAR
VERSION:2.0
PRODID:-//wp-events-plugin.com//7.2.3.1//EN
TZID:Europe/London
X-WR-TIMEZONE:Europe/London
BEGIN:VEVENT
UID:625@larevistadelapalma.com
DTSTART:20230825T200000Z
DTEND:20230825T225900Z
DTSTAMP:20230825T113602Z
URL:https://www.larevistadelapalma.com/events/barbie-party-en-los-llanos/
SUMMARY:Barbie Party en Los Llanos
DESCRIPTION:El viernes 25 los bares Utopía y El Ayuntamiento despiden el v
 erano con Barbie Party\, y allí andarán las Grajitas y Elvira.\nSe recom
 ienda el outfit Barbie o Ken. Habrán dos premios para las fotos más vota
 das.
ATTACH;FMTTYPE=image/jpeg:https://www.larevistadelapalma.com/wp-content/up
 loads/2023/08/Fiesta-Barbie.jpg
CATEGORIES:Conciertos,Música
LOCATION:Zona bares Utopía y Ayuntamiento. Los Llanos de Aridane\, C. Fern
 ández Taño\, Los Llanos de Aridane\, 38760\, España
GEO:28.659297;-17.911134
X-APPLE-STRUCTURED-LOCATION;VALUE=URI;X-ADDRESS=C. Fernández Taño\, Los L
 lanos de Aridane\, 38760\, España;X-APPLE-RADIUS=100;X-TITLE=Zona bares U
 topía y Ayuntamiento. Los Llanos de Aridane:geo:28.659297,-17.911134
END:VEVENT
END:VCALENDARBEGIN:VCALENDAR
VERSION:2.0
PRODID:-//wp-events-plugin.com//7.2.3.1//EN
TZID:Europe/London
X-WR-TIMEZONE:Europe/London
BEGIN:VEVENT
UID:625@larevistadelapalma.com
DTSTART:20230825T200000Z
DTEND:20230825T225900Z
DTSTAMP:20230825T113602Z
URL:https://www.larevistadelapalma.com/events/barbie-party-en-los-llanos/
SUMMARY:Barbie Party en Los Llanos
DESCRIPTION:El viernes 25 los bares Utopía y El Ayuntamiento despiden el v
 erano con Barbie Party\, y allí andarán las Grajitas y Elvira.\nSe recom
 ienda el outfit Barbie o Ken. Habrán dos premios para las fotos más vota
 das.
ATTACH;FMTTYPE=image/jpeg:https://www.larevistadelapalma.com/wp-content/up
 loads/2023/08/Fiesta-Barbie.jpg
CATEGORIES:Conciertos,Música
LOCATION:Zona bares Utopía y Ayuntamiento. Los Llanos de Aridane\, C. Fern
 ández Taño\, Los Llanos de Aridane\, 38760\, España
GEO:28.659297;-17.911134
X-APPLE-STRUCTURED-LOCATION;VALUE=URI;X-ADDRESS=C. Fernández Taño\, Los L
 lanos de Aridane\, 38760\, España;X-APPLE-RADIUS=100;X-TITLE=Zona bares U
 topía y Ayuntamiento. Los Llanos de Aridane:geo:28.659297,-17.911134
END:VEVENT
END:VCALENDAR