BEGIN:VCALENDAR
VERSION:2.0
PRODID:-//wp-events-plugin.com//7.2.3.1//EN
TZID:Europe/London
X-WR-TIMEZONE:Europe/London
BEGIN:VEVENT
UID:3867@larevistadelapalma.com
DTSTART:20250711T160000Z
DTEND:20250711T183000Z
DTSTAMP:20250711T151555Z
URL:https://www.larevistadelapalma.com/events/batalla-de-flores-fiestas-lu
 strales/
SUMMARY:Batalla de Flores (Fiestas Lustrales)
DESCRIPTION:Las denominadas “Batallas de Flores” o desfiles de carroz
 as se popularizaron a finales del siglo XIX en el Viejo Continente con ele
 mentos florales\, empleados en la decoración de los vehículos participan
 tes y en el lanzamiento de pétalos a las calles y plazas.\n\nEl programa 
 de la Bajada de la Virgen de 1895 incluyó una novedosa Batalla de Flores.
  Por aquel entonces la Bajada de la Virgen se celebraba entre los meses d
 e abril y mayo.\n\nEl recorrido del desfile saldrá desde la Plaza de la C
 onstitución y terminará en la Alameda y participarán otros municipios c
 omo Los Sauces\, Puntallana y Breña Baja. También la Escuela Municipal d
 e Danza\, y la Banda Municipal de Puntallana.
ATTACH;FMTTYPE=image/jpeg:https://www.larevistadelapalma.com/wp-content/up
 loads/2025/07/Desfile-de-carrozas-Bajada-de-la-Virgen-2015-9-1-1.png
CATEGORIES:Fiestas populares,Otras propuestas,Varios
LOCATION:Municipio de Santa Cruz de La Palma\, Santa Cruz de La Palma \, Sa
 nta Cruz de La Palma \, 38700\, España
GEO:28.688757;-17.765102
X-APPLE-STRUCTURED-LOCATION;VALUE=URI;X-ADDRESS=Santa Cruz de La Palma \, S
 anta Cruz de La Palma \, 38700\, España;X-APPLE-RADIUS=100;X-TITLE=Munici
 pio de Santa Cruz de La Palma:geo:28.688757,-17.765102
END:VEVENT
END:VCALENDARBEGIN:VCALENDAR
VERSION:2.0
PRODID:-//wp-events-plugin.com//7.2.3.1//EN
TZID:Europe/London
X-WR-TIMEZONE:Europe/London
BEGIN:VEVENT
UID:3867@larevistadelapalma.com
DTSTART:20250711T160000Z
DTEND:20250711T183000Z
DTSTAMP:20250711T151555Z
URL:https://www.larevistadelapalma.com/events/batalla-de-flores-fiestas-lu
 strales/
SUMMARY:Batalla de Flores (Fiestas Lustrales)
DESCRIPTION:Las denominadas “Batallas de Flores” o desfiles de carroz
 as se popularizaron a finales del siglo XIX en el Viejo Continente con ele
 mentos florales\, empleados en la decoración de los vehículos participan
 tes y en el lanzamiento de pétalos a las calles y plazas.\n\nEl programa 
 de la Bajada de la Virgen de 1895 incluyó una novedosa Batalla de Flores.
  Por aquel entonces la Bajada de la Virgen se celebraba entre los meses d
 e abril y mayo.\n\nEl recorrido del desfile saldrá desde la Plaza de la C
 onstitución y terminará en la Alameda y participarán otros municipios c
 omo Los Sauces\, Puntallana y Breña Baja. También la Escuela Municipal d
 e Danza\, y la Banda Municipal de Puntallana.
ATTACH;FMTTYPE=image/jpeg:https://www.larevistadelapalma.com/wp-content/up
 loads/2025/07/Desfile-de-carrozas-Bajada-de-la-Virgen-2015-9-1-1.png
CATEGORIES:Fiestas populares,Otras propuestas,Varios
LOCATION:Municipio de Santa Cruz de La Palma\, Santa Cruz de La Palma \, Sa
 nta Cruz de La Palma \, 38700\, España
GEO:28.688757;-17.765102
X-APPLE-STRUCTURED-LOCATION;VALUE=URI;X-ADDRESS=Santa Cruz de La Palma \, S
 anta Cruz de La Palma \, 38700\, España;X-APPLE-RADIUS=100;X-TITLE=Munici
 pio de Santa Cruz de La Palma:geo:28.688757,-17.765102
END:VEVENT
END:VCALENDAR