BEGIN:VCALENDAR
VERSION:2.0
PRODID:-//wp-events-plugin.com//7.2.3.1//EN
TZID:Europe/London
X-WR-TIMEZONE:Europe/London
BEGIN:VEVENT
UID:3131@larevistadelapalma.com
DTSTART:20240717T180000Z
DTEND:20240717T220000Z
DTSTAMP:20240710T222314Z
URL:https://www.larevistadelapalma.com/events/batalla-de-gallos-en-brena-b
 aja/
SUMMARY:Batalla de Gallos en Breña Baja
DESCRIPTION:El miércoles 17 de julio la Plaza de las Madres de San José s
 erá el escenario de una competición de improvisación con una "Batalla d
 e Gallos". Al finalizar\, "Noche Juvenil" con Dj. Equis y plataforma de vi
 deo 360º.\n\nLos participantes competirán en improvisación\, utilizando
  rimas para superar a sus oponentes. Habrá rondas en las que el público 
 propondrá palabras o temáticas para que los jóvenes improvisen.Además\
 , entre las rondas\, se presentarán actuaciones de artistas locales.\n\nN
 o te pierdas esta noche llena de talento y creatividad. Si quieres partici
 par escribe al tlfo: 628 429 615.\n\nLa actividad esta organizada por la A
 sociación Cultural "Datana" y el Ayuntamiento de Breña Baja con motivo d
 e las Fiestas Copatronales de Santiago Apóstol y Santa Ana.\n\n
ATTACH;FMTTYPE=image/jpeg:https://www.larevistadelapalma.com/wp-content/up
 loads/2024/07/batalla-de-gallos.jpg
CATEGORIES:Conciertos,Música
LOCATION:Plaza de las Madres\, San José\, Breña Baja\, 38712\, España
GEO:28.642202;-17.775828
X-APPLE-STRUCTURED-LOCATION;VALUE=URI;X-ADDRESS=San José\, Breña Baja\, 3
 8712\, España;X-APPLE-RADIUS=100;X-TITLE=Plaza de las Madres:geo:28.64220
 2,-17.775828
END:VEVENT
END:VCALENDARBEGIN:VCALENDAR
VERSION:2.0
PRODID:-//wp-events-plugin.com//7.2.3.1//EN
TZID:Europe/London
X-WR-TIMEZONE:Europe/London
BEGIN:VEVENT
UID:3131@larevistadelapalma.com
DTSTART:20240717T180000Z
DTEND:20240717T220000Z
DTSTAMP:20240710T222314Z
URL:https://www.larevistadelapalma.com/events/batalla-de-gallos-en-brena-b
 aja/
SUMMARY:Batalla de Gallos en Breña Baja
DESCRIPTION:El miércoles 17 de julio la Plaza de las Madres de San José s
 erá el escenario de una competición de improvisación con una "Batalla d
 e Gallos". Al finalizar\, "Noche Juvenil" con Dj. Equis y plataforma de vi
 deo 360º.\n\nLos participantes competirán en improvisación\, utilizando
  rimas para superar a sus oponentes. Habrá rondas en las que el público 
 propondrá palabras o temáticas para que los jóvenes improvisen.Además\
 , entre las rondas\, se presentarán actuaciones de artistas locales.\n\nN
 o te pierdas esta noche llena de talento y creatividad. Si quieres partici
 par escribe al tlfo: 628 429 615.\n\nLa actividad esta organizada por la A
 sociación Cultural "Datana" y el Ayuntamiento de Breña Baja con motivo d
 e las Fiestas Copatronales de Santiago Apóstol y Santa Ana.\n\n
ATTACH;FMTTYPE=image/jpeg:https://www.larevistadelapalma.com/wp-content/up
 loads/2024/07/batalla-de-gallos.jpg
CATEGORIES:Conciertos,Música
LOCATION:Plaza de las Madres\, San José\, Breña Baja\, 38712\, España
GEO:28.642202;-17.775828
X-APPLE-STRUCTURED-LOCATION;VALUE=URI;X-ADDRESS=San José\, Breña Baja\, 3
 8712\, España;X-APPLE-RADIUS=100;X-TITLE=Plaza de las Madres:geo:28.64220
 2,-17.775828
END:VEVENT
END:VCALENDAR