BEGIN:VCALENDAR
VERSION:2.0
PRODID:-//wp-events-plugin.com//7.2.3.1//EN
TZID:Europe/London
X-WR-TIMEZONE:Europe/London
BEGIN:VEVENT
UID:4001@larevistadelapalma.com
DTSTART:20251025T180000Z
DTEND:20251025T225900Z
DTSTAMP:20251007T205801Z
URL:https://www.larevistadelapalma.com/events/bbsf-halloween/
SUMMARY:BBSF Halloween
DESCRIPTION:Breña Baja Summer Fest- edición Halloween\n&nbsp\;
ATTACH;FMTTYPE=image/jpeg:https://www.larevistadelapalma.com/wp-content/up
 loads/2025/10/BBSF-Halloween.jpeg
CATEGORIES:Festivales/Fiestas,Música
LOCATION:Plaza de las Madres\, San José\, Breña Baja\, 38712\, España
GEO:28.642202;-17.775828
X-APPLE-STRUCTURED-LOCATION;VALUE=URI;X-ADDRESS=San José\, Breña Baja\, 3
 8712\, España;X-APPLE-RADIUS=100;X-TITLE=Plaza de las Madres:geo:28.64220
 2,-17.775828
END:VEVENT
END:VCALENDARBEGIN:VCALENDAR
VERSION:2.0
PRODID:-//wp-events-plugin.com//7.2.3.1//EN
TZID:Europe/London
X-WR-TIMEZONE:Europe/London
BEGIN:VEVENT
UID:4001@larevistadelapalma.com
DTSTART:20251025T180000Z
DTEND:20251025T225900Z
DTSTAMP:20251007T205801Z
URL:https://www.larevistadelapalma.com/events/bbsf-halloween/
SUMMARY:BBSF Halloween
DESCRIPTION:Breña Baja Summer Fest- edición Halloween\n&nbsp\;
ATTACH;FMTTYPE=image/jpeg:https://www.larevistadelapalma.com/wp-content/up
 loads/2025/10/BBSF-Halloween.jpeg
CATEGORIES:Festivales/Fiestas,Música
LOCATION:Plaza de las Madres\, San José\, Breña Baja\, 38712\, España
GEO:28.642202;-17.775828
X-APPLE-STRUCTURED-LOCATION;VALUE=URI;X-ADDRESS=San José\, Breña Baja\, 3
 8712\, España;X-APPLE-RADIUS=100;X-TITLE=Plaza de las Madres:geo:28.64220
 2,-17.775828
END:VEVENT
END:VCALENDAR