BEGIN:VCALENDAR
VERSION:2.0
PRODID:-//wp-events-plugin.com//7.2.3.1//EN
TZID:Europe/London
X-WR-TIMEZONE:Europe/London
BEGIN:VEVENT
UID:2955@larevistadelapalma.com
DTSTART:20240503T180000Z
DTEND:20240503T193000Z
DTSTAMP:20240423T225554Z
URL:https://www.larevistadelapalma.com/events/beatriz-alonso-y-miguel-mane
 scau-presentan-puertas-al-sur-en-la-casa-del-conde/
SUMMARY:Beatriz Alonso y Miguel Manescau presentan “Puertas al Sur” en 
 la Casa del Conde
DESCRIPTION:Un tributo a la música\, cantantes\, poetas y pensadores de Am
 érica Latina\, empleando textos\, melodías y armonías con las que se ha
 n desarrollado como músicos\, y que en este nuevo disco exhalan una visi
 ón original y contemporánea. Bossa\, tango\, fusión\, pinceladas de lat
 ín jazz\, fados… son algunos de los muchos sonidos que podemos disfruta
 r en este disco.\n\nPuertas Al Sur nace bajo la tutela del PROYECTO TIEMPO
  (Trabajo de Investigación y Evolución de las Músicas Populares). El pr
 oyecto trata de rendir homenaje a la cultura latinoamericana y a su riquez
 a literaria e imaginario cultural\, a través de temas representativos de 
 la identidad latina\, y otras canciones populares no tan conocidas\, que d
 ejan entrever la belleza de un música con historia y profundidad cargada 
 de mestizaje.\n\nEl espectáculo incluye\, además de obras musicales de g
 randes compositores\, las voces y las palabras de grandes intelectuales de
  este amplio territorio\, a través de audios que le permiten al espectado
 r ampliar el conocimiento sobre estos géneros musicales y figuras relevan
 tes del patrimonio cultural de Latinoamérica.\n\n\nEntrada: 15 € \n\nA
 pertura de taquilla a las 18:00 horas.
ATTACH;FMTTYPE=image/jpeg:https://www.larevistadelapalma.com/wp-content/up
 loads/2024/04/Beatriz-Alonso-y-Miguel-Manescau.jpg
CATEGORIES:Conciertos,Música
LOCATION:Casa del Conde\, Los Llanos de Aridane\, C/San Antonio\, 35 - Llan
 o de Argual\, Los Llanos de Aridane\, 38760\, España
GEO:28.655333;-17.926641
X-APPLE-STRUCTURED-LOCATION;VALUE=URI;X-ADDRESS=C/San Antonio\, 35 - Llano 
 de Argual\, Los Llanos de Aridane\, 38760\, España;X-APPLE-RADIUS=100;X-T
 ITLE=Casa del Conde\, Los Llanos de Aridane:geo:28.655333,-17.926641
END:VEVENT
END:VCALENDARBEGIN:VCALENDAR
VERSION:2.0
PRODID:-//wp-events-plugin.com//7.2.3.1//EN
TZID:Europe/London
X-WR-TIMEZONE:Europe/London
BEGIN:VEVENT
UID:2955@larevistadelapalma.com
DTSTART:20240503T180000Z
DTEND:20240503T193000Z
DTSTAMP:20240423T225554Z
URL:https://www.larevistadelapalma.com/events/beatriz-alonso-y-miguel-mane
 scau-presentan-puertas-al-sur-en-la-casa-del-conde/
SUMMARY:Beatriz Alonso y Miguel Manescau presentan “Puertas al Sur” en 
 la Casa del Conde
DESCRIPTION:Un tributo a la música\, cantantes\, poetas y pensadores de Am
 érica Latina\, empleando textos\, melodías y armonías con las que se ha
 n desarrollado como músicos\, y que en este nuevo disco exhalan una visi
 ón original y contemporánea. Bossa\, tango\, fusión\, pinceladas de lat
 ín jazz\, fados… son algunos de los muchos sonidos que podemos disfruta
 r en este disco.\n\nPuertas Al Sur nace bajo la tutela del PROYECTO TIEMPO
  (Trabajo de Investigación y Evolución de las Músicas Populares). El pr
 oyecto trata de rendir homenaje a la cultura latinoamericana y a su riquez
 a literaria e imaginario cultural\, a través de temas representativos de 
 la identidad latina\, y otras canciones populares no tan conocidas\, que d
 ejan entrever la belleza de un música con historia y profundidad cargada 
 de mestizaje.\n\nEl espectáculo incluye\, además de obras musicales de g
 randes compositores\, las voces y las palabras de grandes intelectuales de
  este amplio territorio\, a través de audios que le permiten al espectado
 r ampliar el conocimiento sobre estos géneros musicales y figuras relevan
 tes del patrimonio cultural de Latinoamérica.\n\n\nEntrada: 15 € \n\nA
 pertura de taquilla a las 18:00 horas.
ATTACH;FMTTYPE=image/jpeg:https://www.larevistadelapalma.com/wp-content/up
 loads/2024/04/Beatriz-Alonso-y-Miguel-Manescau.jpg
CATEGORIES:Conciertos,Música
LOCATION:Casa del Conde\, Los Llanos de Aridane\, C/San Antonio\, 35 - Llan
 o de Argual\, Los Llanos de Aridane\, 38760\, España
GEO:28.655333;-17.926641
X-APPLE-STRUCTURED-LOCATION;VALUE=URI;X-ADDRESS=C/San Antonio\, 35 - Llano 
 de Argual\, Los Llanos de Aridane\, 38760\, España;X-APPLE-RADIUS=100;X-T
 ITLE=Casa del Conde\, Los Llanos de Aridane:geo:28.655333,-17.926641
END:VEVENT
END:VCALENDAR