BEGIN:VCALENDAR
VERSION:2.0
PRODID:-//wp-events-plugin.com//7.2.3.1//EN
TZID:Europe/London
X-WR-TIMEZONE:Europe/London
BEGIN:VEVENT
UID:3596@larevistadelapalma.com
DTSTART:20250221T193000Z
DTEND:20250221T210000Z
DTSTAMP:20250212T154554Z
URL:https://www.larevistadelapalma.com/events/beethoven-para-elisa/
SUMMARY:"Beethoven para Elisa"
DESCRIPTION:Beethoven para Elisa\, es un espectáculo vitalista y musical p
 ara toda la familia que explora el tema de los límites de la educación c
 uando se confunden con la imposición. La obra habla del derecho a elegir 
 tu propio camino\, aunque estés «renunciando» a un talento impuesto que
  te iba a conducir a un supuesto destino de «reconocimiento y gloria».\n
 Teresa Malfatti\, amor platónico de Ludwig van Beethoven\, encarga al gen
 io que componga una pieza para piano dedicada a una joven prodigio\, Elisa
 bet Barensfeld\, que parece que está perdiendo la vocación por la músic
 a. Beethoven se obsesiona por complacer a Teresa utilizando todas las estr
 ategias a su disposición\, pero Elisa le enseñará que existe la vida m
 ás allá del genio\, del talento y de la música…\nManodesanto Producci
 ones trae a Santa Cruz de La Palma un espectáculo vitalista y musical par
 a toda la familia que explora los límites de la educación cuando se conf
 unden con imposición.\nComprar entradas &gt\;&gt\;\n\n\n 	Imagen destacad
 a vía Teatro Español.es\n\n&nbsp\;
ATTACH;FMTTYPE=image/jpeg:https://www.larevistadelapalma.com/wp-content/up
 loads/2025/02/BEETHOVEN-PARA-ELISA┬®´©A-ESMERALDA-MARTIN.webp
CATEGORIES:Espectáculos
LOCATION:Teatro Circo de Marte\, Calle Virgen de La Luz\, 5\, Santa Cruz de
  La Palma\, 38700\, España
GEO:28.682989;-17.765755
X-APPLE-STRUCTURED-LOCATION;VALUE=URI;X-ADDRESS=Calle Virgen de La Luz\, 5\
 , Santa Cruz de La Palma\, 38700\, España;X-APPLE-RADIUS=100;X-TITLE=Teat
 ro Circo de Marte:geo:28.682989,-17.765755
END:VEVENT
END:VCALENDARBEGIN:VCALENDAR
VERSION:2.0
PRODID:-//wp-events-plugin.com//7.2.3.1//EN
TZID:Europe/London
X-WR-TIMEZONE:Europe/London
BEGIN:VEVENT
UID:3596@larevistadelapalma.com
DTSTART:20250221T193000Z
DTEND:20250221T210000Z
DTSTAMP:20250212T154554Z
URL:https://www.larevistadelapalma.com/events/beethoven-para-elisa/
SUMMARY:"Beethoven para Elisa"
DESCRIPTION:Beethoven para Elisa\, es un espectáculo vitalista y musical p
 ara toda la familia que explora el tema de los límites de la educación c
 uando se confunden con la imposición. La obra habla del derecho a elegir 
 tu propio camino\, aunque estés «renunciando» a un talento impuesto que
  te iba a conducir a un supuesto destino de «reconocimiento y gloria».\n
 Teresa Malfatti\, amor platónico de Ludwig van Beethoven\, encarga al gen
 io que componga una pieza para piano dedicada a una joven prodigio\, Elisa
 bet Barensfeld\, que parece que está perdiendo la vocación por la músic
 a. Beethoven se obsesiona por complacer a Teresa utilizando todas las estr
 ategias a su disposición\, pero Elisa le enseñará que existe la vida m
 ás allá del genio\, del talento y de la música…\nManodesanto Producci
 ones trae a Santa Cruz de La Palma un espectáculo vitalista y musical par
 a toda la familia que explora los límites de la educación cuando se conf
 unden con imposición.\nComprar entradas &gt\;&gt\;\n\n\n 	Imagen destacad
 a vía Teatro Español.es\n\n&nbsp\;
ATTACH;FMTTYPE=image/jpeg:https://www.larevistadelapalma.com/wp-content/up
 loads/2025/02/BEETHOVEN-PARA-ELISA┬®´©A-ESMERALDA-MARTIN.webp
CATEGORIES:Espectáculos
LOCATION:Teatro Circo de Marte\, Calle Virgen de La Luz\, 5\, Santa Cruz de
  La Palma\, 38700\, España
GEO:28.682989;-17.765755
X-APPLE-STRUCTURED-LOCATION;VALUE=URI;X-ADDRESS=Calle Virgen de La Luz\, 5\
 , Santa Cruz de La Palma\, 38700\, España;X-APPLE-RADIUS=100;X-TITLE=Teat
 ro Circo de Marte:geo:28.682989,-17.765755
END:VEVENT
END:VCALENDAR