BEGIN:VCALENDAR
VERSION:2.0
PRODID:-//wp-events-plugin.com//7.2.3.1//EN
TZID:Europe/London
X-WR-TIMEZONE:Europe/London
BEGIN:VEVENT
UID:4036@larevistadelapalma.com
DTSTART:20251030T190000Z
DTEND:20251030T203000Z
DTSTAMP:20251028T115544Z
URL:https://www.larevistadelapalma.com/events/begona-grande-nombrarse-volc
 an/
SUMMARY:Begoña Grande presenta una performance inédita en el ciclo “Nom
 brarse Volcán – Otras poéticas posibles”
DESCRIPTION:En un tiempo en el que el arte a menudo parece desvanecerse ent
 re los pliegues cansados de la realidad\, la creadora Begoña Grande nos 
 convoca a un acto de fe: una performance sin título\, una acción efímer
 a que busca abrir un espacio de presencia dentro del ciclo “Nombrarse V
 olcán – Otras poéticas posibles”.\n\nEl ciclo “Nombrarse Volcán 
 – Otras poéticas posibles” reúne a distintas creadoras que\, desde 
 el cuerpo\, la palabra y la acción\, indagan en nuevas formas de decir y 
 sentir. La participación de Begoña Grande promete una experiencia inte
 nsa\, íntima y necesaria\, donde el arte se reconoce como respiración y 
 resistencia.\nUn manifiesto en voz y carne\n“A veces\, una siente que el
  arte ya no basta.”\n\nCon estas palabras\, Begoña Grande confronta l
 a fragilidad del gesto artístico ante un mundo que normaliza el dolor. Su
  texto —un pulso entre la impotencia y la fe— se despliega como prólo
 go de una acción donde el cuerpo es territorio\, herida y mirada. “¿Qu
 é herida se apaga con una performance? ¿Qué hambre puedo aliviar con mi
  arte?”\, se pregunta\, para luego intuir que\, tal vez\, el simple acto
  de mirarnos pueda calmar un instante este temblor que llevamos dentro.\n\
 nSu propuesta no busca respuestas: invita a sostener la presencia\, a deja
 r que lo efímero del arte roce lo insoportable de lo real. Una acción m
 ínima\, viva\, que encarna esa urgencia de seguir creando incluso cuando 
 todo parece arder.\nBegoña.\nBegoña Grande es performer\, poeta\, actr
 iz y cineasta euskalduna-mexicana\, residente en la isla de La Palma. Es
  directora del Festival de Audiovisuales Tiempo Sur y de la Escuela de 
 Cine para Jóvenes de La Palma\, proyectos que impulsan la creación audio
 visual rural y la formación de nuevas generaciones de cineastas. Como ge
 stora cultural\, promueve espacios de encuentro y transformación a travé
 s del arte.\n\nSu práctica artística explora la libertad del alma\, los 
 estados de conciencia modificados y lo performativo como medicina del cuer
 po y del espíritu. Su obra transita entre la vulnerabilidad y la fuerza\,
  entre el silencio y la rebelión\, configurando un lenguaje propio que un
 e poesía\, presencia y resistencia.\n\nEs cofundadora de las asociacione
 s Alter Conscience y La Osa Polar\, dos plataformas con un fuerte movimien
 to cultural en la isla de La Palma\, desde las que impulsa proyectos\, res
 idencias artísticas y acciones performativas centradas en el cuerpo\, la 
 memoria y la transformación social.\n\nSu lema —“Prefiero morir crean
 do que seguir viviendo muerta”— resume la radical honestidad que atrav
 iesa su obra y su vida.\n\n\n\nComisariado por Patricia Figuero\n\nPatrici
 a Figuero Correa es escritora\, comisaria y gestora cultural. Afincada en
  La Palma\, coordina el ciclo “Nombrarse Volcán – Otras poéticas po
 sibles”\, un espacio que entrelaza poesía\, cuerpo y territorio para ab
 rir diálogos entre creadoras contemporáneas.\n\nFormada en Ciencias de l
 a Información y en Terapia Gestalt\, desarrolla su trabajo entre la escri
 tura\, la dramaturgia y la performance. Su práctica curatorial propone un
 a mirada sensible hacia la memoria\, la escucha y la creación colectiva.
ATTACH;FMTTYPE=image/jpeg:https://www.larevistadelapalma.com/wp-content/up
 loads/2025/10/CARTEL.jpeg
CATEGORIES:Cine y Literatura,Literatura
LOCATION:Casa de La Cultura de Los Llanos de Aridane\, : C. Real\, 8\, Los 
 Llanos de Aridane \, 38760\, España
GEO:28.658651;-17.913512
X-APPLE-STRUCTURED-LOCATION;VALUE=URI;X-ADDRESS=: C. Real\, 8\, Los Llanos 
 de Aridane \, 38760\, España;X-APPLE-RADIUS=100;X-TITLE=Casa de La Cultur
 a de Los Llanos de Aridane:geo:28.658651,-17.913512
END:VEVENT
END:VCALENDARBEGIN:VCALENDAR
VERSION:2.0
PRODID:-//wp-events-plugin.com//7.2.3.1//EN
TZID:Europe/London
X-WR-TIMEZONE:Europe/London
BEGIN:VEVENT
UID:4036@larevistadelapalma.com
DTSTART:20251030T190000Z
DTEND:20251030T203000Z
DTSTAMP:20251028T115544Z
URL:https://www.larevistadelapalma.com/events/begona-grande-nombrarse-volc
 an/
SUMMARY:Begoña Grande presenta una performance inédita en el ciclo “Nom
 brarse Volcán – Otras poéticas posibles”
DESCRIPTION:En un tiempo en el que el arte a menudo parece desvanecerse ent
 re los pliegues cansados de la realidad\, la creadora Begoña Grande nos 
 convoca a un acto de fe: una performance sin título\, una acción efímer
 a que busca abrir un espacio de presencia dentro del ciclo “Nombrarse V
 olcán – Otras poéticas posibles”.\n\nEl ciclo “Nombrarse Volcán 
 – Otras poéticas posibles” reúne a distintas creadoras que\, desde 
 el cuerpo\, la palabra y la acción\, indagan en nuevas formas de decir y 
 sentir. La participación de Begoña Grande promete una experiencia inte
 nsa\, íntima y necesaria\, donde el arte se reconoce como respiración y 
 resistencia.\nUn manifiesto en voz y carne\n“A veces\, una siente que el
  arte ya no basta.”\n\nCon estas palabras\, Begoña Grande confronta l
 a fragilidad del gesto artístico ante un mundo que normaliza el dolor. Su
  texto —un pulso entre la impotencia y la fe— se despliega como prólo
 go de una acción donde el cuerpo es territorio\, herida y mirada. “¿Qu
 é herida se apaga con una performance? ¿Qué hambre puedo aliviar con mi
  arte?”\, se pregunta\, para luego intuir que\, tal vez\, el simple acto
  de mirarnos pueda calmar un instante este temblor que llevamos dentro.\n\
 nSu propuesta no busca respuestas: invita a sostener la presencia\, a deja
 r que lo efímero del arte roce lo insoportable de lo real. Una acción m
 ínima\, viva\, que encarna esa urgencia de seguir creando incluso cuando 
 todo parece arder.\nBegoña.\nBegoña Grande es performer\, poeta\, actr
 iz y cineasta euskalduna-mexicana\, residente en la isla de La Palma. Es
  directora del Festival de Audiovisuales Tiempo Sur y de la Escuela de 
 Cine para Jóvenes de La Palma\, proyectos que impulsan la creación audio
 visual rural y la formación de nuevas generaciones de cineastas. Como ge
 stora cultural\, promueve espacios de encuentro y transformación a travé
 s del arte.\n\nSu práctica artística explora la libertad del alma\, los 
 estados de conciencia modificados y lo performativo como medicina del cuer
 po y del espíritu. Su obra transita entre la vulnerabilidad y la fuerza\,
  entre el silencio y la rebelión\, configurando un lenguaje propio que un
 e poesía\, presencia y resistencia.\n\nEs cofundadora de las asociacione
 s Alter Conscience y La Osa Polar\, dos plataformas con un fuerte movimien
 to cultural en la isla de La Palma\, desde las que impulsa proyectos\, res
 idencias artísticas y acciones performativas centradas en el cuerpo\, la 
 memoria y la transformación social.\n\nSu lema —“Prefiero morir crean
 do que seguir viviendo muerta”— resume la radical honestidad que atrav
 iesa su obra y su vida.\n\n\n\nComisariado por Patricia Figuero\n\nPatrici
 a Figuero Correa es escritora\, comisaria y gestora cultural. Afincada en
  La Palma\, coordina el ciclo “Nombrarse Volcán – Otras poéticas po
 sibles”\, un espacio que entrelaza poesía\, cuerpo y territorio para ab
 rir diálogos entre creadoras contemporáneas.\n\nFormada en Ciencias de l
 a Información y en Terapia Gestalt\, desarrolla su trabajo entre la escri
 tura\, la dramaturgia y la performance. Su práctica curatorial propone un
 a mirada sensible hacia la memoria\, la escucha y la creación colectiva.
ATTACH;FMTTYPE=image/jpeg:https://www.larevistadelapalma.com/wp-content/up
 loads/2025/10/CARTEL.jpeg
CATEGORIES:Cine y Literatura,Literatura
LOCATION:Casa de La Cultura de Los Llanos de Aridane\, : C. Real\, 8\, Los 
 Llanos de Aridane \, 38760\, España
GEO:28.658651;-17.913512
X-APPLE-STRUCTURED-LOCATION;VALUE=URI;X-ADDRESS=: C. Real\, 8\, Los Llanos 
 de Aridane \, 38760\, España;X-APPLE-RADIUS=100;X-TITLE=Casa de La Cultur
 a de Los Llanos de Aridane:geo:28.658651,-17.913512
END:VEVENT
END:VCALENDAR