BEGIN:VCALENDAR
VERSION:2.0
PRODID:-//wp-events-plugin.com//7.2.3.1//EN
TZID:Europe/London
X-WR-TIMEZONE:Europe/London
BEGIN:VEVENT
UID:3028@larevistadelapalma.com
DTSTART:20240613T180000Z
DTEND:20240613T193000Z
DTSTAMP:20240530T173718Z
URL:https://www.larevistadelapalma.com/events/big-band-escuela-insular-mus
 ica-los-llanos/
SUMMARY:Big Band de la Escuela Insular de Música de La Palma en El Secader
 o
DESCRIPTION:La Big Band de la Escuela Insular de Música ofrecerá un conci
 erto el próximo 6 de junio en la Plaza de Montserrat\, en San Andrés y S
 auces\, a las 19:00 h\, y el 13 de junio en El Secadero\, Los Llanos de A
 ridane.
ATTACH;FMTTYPE=image/jpeg:https://www.larevistadelapalma.com/wp-content/up
 loads/2024/05/Big-Band-Escuela-Insular-Musica-La-Palma.jpg
CATEGORIES:Conciertos,Música
LOCATION:Espacio Cultural El Secadero\, C. Rosal\, 3\,\, Los Llanos de Arid
 ane\, 38760\, España
GEO:28.659406;-17.907147
X-APPLE-STRUCTURED-LOCATION;VALUE=URI;X-ADDRESS=C. Rosal\, 3\,\, Los Llanos
  de Aridane\, 38760\, España;X-APPLE-RADIUS=100;X-TITLE=Espacio Cultural 
 El Secadero:geo:28.659406,-17.907147
END:VEVENT
END:VCALENDARBEGIN:VCALENDAR
VERSION:2.0
PRODID:-//wp-events-plugin.com//7.2.3.1//EN
TZID:Europe/London
X-WR-TIMEZONE:Europe/London
BEGIN:VEVENT
UID:3028@larevistadelapalma.com
DTSTART:20240613T180000Z
DTEND:20240613T193000Z
DTSTAMP:20240530T173718Z
URL:https://www.larevistadelapalma.com/events/big-band-escuela-insular-mus
 ica-los-llanos/
SUMMARY:Big Band de la Escuela Insular de Música de La Palma en El Secader
 o
DESCRIPTION:La Big Band de la Escuela Insular de Música ofrecerá un conci
 erto el próximo 6 de junio en la Plaza de Montserrat\, en San Andrés y S
 auces\, a las 19:00 h\, y el 13 de junio en El Secadero\, Los Llanos de A
 ridane.
ATTACH;FMTTYPE=image/jpeg:https://www.larevistadelapalma.com/wp-content/up
 loads/2024/05/Big-Band-Escuela-Insular-Musica-La-Palma.jpg
CATEGORIES:Conciertos,Música
LOCATION:Espacio Cultural El Secadero\, C. Rosal\, 3\,\, Los Llanos de Arid
 ane\, 38760\, España
GEO:28.659406;-17.907147
X-APPLE-STRUCTURED-LOCATION;VALUE=URI;X-ADDRESS=C. Rosal\, 3\,\, Los Llanos
  de Aridane\, 38760\, España;X-APPLE-RADIUS=100;X-TITLE=Espacio Cultural 
 El Secadero:geo:28.659406,-17.907147
END:VEVENT
END:VCALENDAR