BEGIN:VCALENDAR
VERSION:2.0
PRODID:-//wp-events-plugin.com//7.2.3.1//EN
TZID:Europe/London
X-WR-TIMEZONE:Europe/London
BEGIN:VEVENT
UID:3027@larevistadelapalma.com
DTSTART:20240606T180000Z
DTEND:20240606T193000Z
DTSTAMP:20240530T175619Z
URL:https://www.larevistadelapalma.com/events/big-band-escuela-musica-la-p
 alma/
SUMMARY:Big Band de la Escuela Insular de Música de La Palma en San André
 s y Sauces
DESCRIPTION:La Big Band de la Escuela Insular de Música ofrecerá un conci
 erto el próximo 6 de junio en la Plaza de Montserrat\, en San Andrés y S
 auces\, a las 19:00 h\, y el 13 de junio en El Secadero\, Los Llanos de A
 ridane.
ATTACH;FMTTYPE=image/jpeg:https://www.larevistadelapalma.com/wp-content/up
 loads/2024/05/Big-Band-Escuela-Insular-Musica-La-Palma.jpg
CATEGORIES:Conciertos,Música
LOCATION:Plaza de Montserrat en San Andrés y Sauces\, Calle Montserrat\, S
 an Andrés y Sauces\, 38729\, España
GEO:28.784222;-17.799155
X-APPLE-STRUCTURED-LOCATION;VALUE=URI;X-ADDRESS=Calle Montserrat\, San Andr
 és y Sauces\, 38729\, España;X-APPLE-RADIUS=100;X-TITLE=Plaza de Montser
 rat en San Andrés y Sauces:geo:28.784222,-17.799155
END:VEVENT
END:VCALENDARBEGIN:VCALENDAR
VERSION:2.0
PRODID:-//wp-events-plugin.com//7.2.3.1//EN
TZID:Europe/London
X-WR-TIMEZONE:Europe/London
BEGIN:VEVENT
UID:3027@larevistadelapalma.com
DTSTART:20240606T180000Z
DTEND:20240606T193000Z
DTSTAMP:20240530T175619Z
URL:https://www.larevistadelapalma.com/events/big-band-escuela-musica-la-p
 alma/
SUMMARY:Big Band de la Escuela Insular de Música de La Palma en San André
 s y Sauces
DESCRIPTION:La Big Band de la Escuela Insular de Música ofrecerá un conci
 erto el próximo 6 de junio en la Plaza de Montserrat\, en San Andrés y S
 auces\, a las 19:00 h\, y el 13 de junio en El Secadero\, Los Llanos de A
 ridane.
ATTACH;FMTTYPE=image/jpeg:https://www.larevistadelapalma.com/wp-content/up
 loads/2024/05/Big-Band-Escuela-Insular-Musica-La-Palma.jpg
CATEGORIES:Conciertos,Música
LOCATION:Plaza de Montserrat en San Andrés y Sauces\, Calle Montserrat\, S
 an Andrés y Sauces\, 38729\, España
GEO:28.784222;-17.799155
X-APPLE-STRUCTURED-LOCATION;VALUE=URI;X-ADDRESS=Calle Montserrat\, San Andr
 és y Sauces\, 38729\, España;X-APPLE-RADIUS=100;X-TITLE=Plaza de Montser
 rat en San Andrés y Sauces:geo:28.784222,-17.799155
END:VEVENT
END:VCALENDAR