BEGIN:VCALENDAR
VERSION:2.0
PRODID:-//wp-events-plugin.com//7.2.3.1//EN
TZID:Europe/London
X-WR-TIMEZONE:Europe/London
BEGIN:VEVENT
UID:3373@larevistadelapalma.com
DTSTART;VALUE=DATE:20241115
DTEND;VALUE=DATE:20241216
DTSTAMP:20241031T131331Z
URL:https://www.larevistadelapalma.com/events/biomorphos-expo-jose-luis-sa
 ntos/
SUMMARY:"Biomorphos"\, exposición de José Luis Santos
DESCRIPTION:El artista grancanario José Luis Santos expone una muestra de
  pinturas y collages en el Colegio Oficial de Arquitectos de Santa Cruz de
  La Palma.\n\nHorario:\n\nDe martes a viernes\, de 18:30 horas a 20:30 hor
 as.\n\n\n\n&nbsp\;\n\n\n\n\n\n\n\n\n\n\nVer esta publicación en Instagram
 \n\n\n\n\n\n\n\n\n\n\n\n\n\n\n\n\n\n\n\n\n\n\n&nbsp\;\nUna publicación co
 mpartida por SANTOS taller abierto (@santostallerabierto)\n\n\n
ATTACH;FMTTYPE=image/jpeg:https://www.larevistadelapalma.com/wp-content/up
 loads/2024/10/BIOMORPHOS-scaled.jpg
CATEGORIES:Exposiciones
LOCATION:Colegio Oficial de Arquitectos de La Palma - COA.LP\, C. Virgen de
  la Luz\, 11\, Santa Cruz De La Palma\, Santa Cruz de Tenerife\, 38700\, E
 spaña
GEO:28.682511;-17.766064
X-APPLE-STRUCTURED-LOCATION;VALUE=URI;X-ADDRESS=C. Virgen de la Luz\, 11\, 
 Santa Cruz De La Palma\, Santa Cruz de Tenerife\, 38700\, España;X-APPLE-
 RADIUS=100;X-TITLE=Colegio Oficial de Arquitectos de La Palma - COA.LP:geo
 :28.682511,-17.766064
END:VEVENT
END:VCALENDARBEGIN:VCALENDAR
VERSION:2.0
PRODID:-//wp-events-plugin.com//7.2.3.1//EN
TZID:Europe/London
X-WR-TIMEZONE:Europe/London
BEGIN:VEVENT
UID:3373@larevistadelapalma.com
DTSTART;VALUE=DATE:20241115
DTEND;VALUE=DATE:20241216
DTSTAMP:20241031T131331Z
URL:https://www.larevistadelapalma.com/events/biomorphos-expo-jose-luis-sa
 ntos/
SUMMARY:"Biomorphos"\, exposición de José Luis Santos
DESCRIPTION:El artista grancanario José Luis Santos expone una muestra de
  pinturas y collages en el Colegio Oficial de Arquitectos de Santa Cruz de
  La Palma.\n\nHorario:\n\nDe martes a viernes\, de 18:30 horas a 20:30 hor
 as.\n\n\n\n&nbsp\;\n\n\n\n\n\n\n\n\n\n\nVer esta publicación en Instagram
 \n\n\n\n\n\n\n\n\n\n\n\n\n\n\n\n\n\n\n\n\n\n\n&nbsp\;\nUna publicación co
 mpartida por SANTOS taller abierto (@santostallerabierto)\n\n\n
ATTACH;FMTTYPE=image/jpeg:https://www.larevistadelapalma.com/wp-content/up
 loads/2024/10/BIOMORPHOS-scaled.jpg
CATEGORIES:Exposiciones
LOCATION:Colegio Oficial de Arquitectos de La Palma - COA.LP\, C. Virgen de
  la Luz\, 11\, Santa Cruz De La Palma\, Santa Cruz de Tenerife\, 38700\, E
 spaña
GEO:28.682511;-17.766064
X-APPLE-STRUCTURED-LOCATION;VALUE=URI;X-ADDRESS=C. Virgen de la Luz\, 11\, 
 Santa Cruz De La Palma\, Santa Cruz de Tenerife\, 38700\, España;X-APPLE-
 RADIUS=100;X-TITLE=Colegio Oficial de Arquitectos de La Palma - COA.LP:geo
 :28.682511,-17.766064
END:VEVENT
END:VCALENDAR