BEGIN:VCALENDAR
VERSION:2.0
PRODID:-//wp-events-plugin.com//7.2.3.1//EN
TZID:Europe/London
X-WR-TIMEZONE:Europe/London
BEGIN:VEVENT
UID:3624@larevistadelapalma.com
DTSTART:20250309T110000Z
DTEND:20250309T160000Z
DTSTAMP:20250226T215540Z
URL:https://www.larevistadelapalma.com/events/boda-de-los-60-carnaval-de-s
 an-andres-y-sauces/
SUMMARY:Boda de los 60: Carnaval de San Andrés y Sauces
DESCRIPTION:El municipio de San Andrés y Sauces celebra un año más uno d
 e sus actos más populares de su carnaval\, "la boda de los 60"\, que esta
 rá acompañada de actuaciones musicales y batucada.\nPrograma:\n\n\n&nbsp
 \;
ATTACH;FMTTYPE=image/jpeg:https://www.larevistadelapalma.com/wp-content/up
 loads/2025/02/Boda-los-60-san-andres-y-S-2024.jpg
CATEGORIES:Fiestas populares,Otras propuestas
LOCATION:Municipio de San Andrés y Sauces\, San Andrés y Sauces\, San And
 rés y Sauces\, 38720\, España
GEO:28.801722;-17.779166
X-APPLE-STRUCTURED-LOCATION;VALUE=URI;X-ADDRESS=San Andrés y Sauces\, San 
 Andrés y Sauces\, 38720\, España;X-APPLE-RADIUS=100;X-TITLE=Municipio de
  San Andrés y Sauces:geo:28.801722,-17.779166
END:VEVENT
END:VCALENDARBEGIN:VCALENDAR
VERSION:2.0
PRODID:-//wp-events-plugin.com//7.2.3.1//EN
TZID:Europe/London
X-WR-TIMEZONE:Europe/London
BEGIN:VEVENT
UID:3624@larevistadelapalma.com
DTSTART:20250309T110000Z
DTEND:20250309T160000Z
DTSTAMP:20250226T215540Z
URL:https://www.larevistadelapalma.com/events/boda-de-los-60-carnaval-de-s
 an-andres-y-sauces/
SUMMARY:Boda de los 60: Carnaval de San Andrés y Sauces
DESCRIPTION:El municipio de San Andrés y Sauces celebra un año más uno d
 e sus actos más populares de su carnaval\, "la boda de los 60"\, que esta
 rá acompañada de actuaciones musicales y batucada.\nPrograma:\n\n\n&nbsp
 \;
ATTACH;FMTTYPE=image/jpeg:https://www.larevistadelapalma.com/wp-content/up
 loads/2025/02/Boda-los-60-san-andres-y-S-2024.jpg
CATEGORIES:Fiestas populares,Otras propuestas
LOCATION:Municipio de San Andrés y Sauces\, San Andrés y Sauces\, San And
 rés y Sauces\, 38720\, España
GEO:28.801722;-17.779166
X-APPLE-STRUCTURED-LOCATION;VALUE=URI;X-ADDRESS=San Andrés y Sauces\, San 
 Andrés y Sauces\, 38720\, España;X-APPLE-RADIUS=100;X-TITLE=Municipio de
  San Andrés y Sauces:geo:28.801722,-17.779166
END:VEVENT
END:VCALENDAR