BEGIN:VCALENDAR
VERSION:2.0
PRODID:-//wp-events-plugin.com//7.2.3.1//EN
TZID:Europe/London
X-WR-TIMEZONE:Europe/London
BEGIN:VEVENT
UID:3314@larevistadelapalma.com
DTSTART:20241005T220000Z
DTEND:20241005T225900Z
DTSTAMP:20241003T235205Z
URL:https://www.larevistadelapalma.com/events/borrachito-fogatero-mazo-24/
SUMMARY:Borrachito Fogatero\, Mazo
DESCRIPTION:El Baile del Borrachito Fogatero\, declarado Bien de Interés C
 ultural\, tendrá lugar el sábado\, 5 de octubre.\nEl Ayuntamiento de Vil
 la de Mazo celebra esta semana sus Fiestas en Honor a Nuestra Señora de l
 os Dolores\, con el esperado Baile del Borrachito Fogatero como acto centr
 al.\nEl Borrachito Fogatero\, declarado Bien de Interés Cultural en 2014\
 , es un baile tradicional que destaca por la danza de un muñeco de aproxi
 madamente tres metros de altura\, el cual desprende fuego a su alrededor m
 ientras una lluvia pirotécnica ilumina el perímetro de la plaza.\nDurant
 e el Borrachito Fogatero habrá un servicio especial de guaguas con dos la
 nzaderas (ruta norte y ruta sur). Las personas interesadas podrán comprar
  sus tickets en la web de lapalmashuttle.com\n El sábado 5 de octubre l
 a jornada comenzará a las 11:00 horas con una MasterClass de Zumba en la 
 plaza del Llano del Lodero\, un concurso de dibujos infantil sobre el Borr
 achito Fogatero y una yincana en parejas con pruebas de agua. A las 16:00 
 horas se realizará una exposición de coches clásicos y de competición 
 a lo largo del Camino Llano del Lodero. Será a las 23:00 horas\, cuando c
 omience la verbena popular contará con las actuaciones de la Orquesta Tro
 picana's\, el Grupo Saoco y el Grupo Acuatro. Posteriormente\, se llevará
  a cabo el tradicional pasacalles y baile del Borrachito Fogatero.\n
ATTACH;FMTTYPE=image/jpeg:https://www.larevistadelapalma.com/wp-content/up
 loads/2024/10/Borrachito-fogatero.jpg
CATEGORIES:Fiestas populares,Otras propuestas
LOCATION:Municipio de Villa de Mazo\, Villa de Mazo\, Villa de Mazo\, 38730
 \, España
GEO:28.622071;-17.780675
X-APPLE-STRUCTURED-LOCATION;VALUE=URI;X-ADDRESS=Villa de Mazo\, Villa de Ma
 zo\, 38730\, España;X-APPLE-RADIUS=100;X-TITLE=Municipio de Villa de Mazo
 :geo:28.622071,-17.780675
END:VEVENT
END:VCALENDARBEGIN:VCALENDAR
VERSION:2.0
PRODID:-//wp-events-plugin.com//7.2.3.1//EN
TZID:Europe/London
X-WR-TIMEZONE:Europe/London
BEGIN:VEVENT
UID:3314@larevistadelapalma.com
DTSTART:20241005T220000Z
DTEND:20241005T225900Z
DTSTAMP:20241003T235205Z
URL:https://www.larevistadelapalma.com/events/borrachito-fogatero-mazo-24/
SUMMARY:Borrachito Fogatero\, Mazo
DESCRIPTION:El Baile del Borrachito Fogatero\, declarado Bien de Interés C
 ultural\, tendrá lugar el sábado\, 5 de octubre.\nEl Ayuntamiento de Vil
 la de Mazo celebra esta semana sus Fiestas en Honor a Nuestra Señora de l
 os Dolores\, con el esperado Baile del Borrachito Fogatero como acto centr
 al.\nEl Borrachito Fogatero\, declarado Bien de Interés Cultural en 2014\
 , es un baile tradicional que destaca por la danza de un muñeco de aproxi
 madamente tres metros de altura\, el cual desprende fuego a su alrededor m
 ientras una lluvia pirotécnica ilumina el perímetro de la plaza.\nDurant
 e el Borrachito Fogatero habrá un servicio especial de guaguas con dos la
 nzaderas (ruta norte y ruta sur). Las personas interesadas podrán comprar
  sus tickets en la web de lapalmashuttle.com\n El sábado 5 de octubre l
 a jornada comenzará a las 11:00 horas con una MasterClass de Zumba en la 
 plaza del Llano del Lodero\, un concurso de dibujos infantil sobre el Borr
 achito Fogatero y una yincana en parejas con pruebas de agua. A las 16:00 
 horas se realizará una exposición de coches clásicos y de competición 
 a lo largo del Camino Llano del Lodero. Será a las 23:00 horas\, cuando c
 omience la verbena popular contará con las actuaciones de la Orquesta Tro
 picana's\, el Grupo Saoco y el Grupo Acuatro. Posteriormente\, se llevará
  a cabo el tradicional pasacalles y baile del Borrachito Fogatero.\n
ATTACH;FMTTYPE=image/jpeg:https://www.larevistadelapalma.com/wp-content/up
 loads/2024/10/Borrachito-fogatero.jpg
CATEGORIES:Fiestas populares,Otras propuestas
LOCATION:Municipio de Villa de Mazo\, Villa de Mazo\, Villa de Mazo\, 38730
 \, España
GEO:28.622071;-17.780675
X-APPLE-STRUCTURED-LOCATION;VALUE=URI;X-ADDRESS=Villa de Mazo\, Villa de Ma
 zo\, 38730\, España;X-APPLE-RADIUS=100;X-TITLE=Municipio de Villa de Mazo
 :geo:28.622071,-17.780675
END:VEVENT
END:VCALENDAR