BEGIN:VCALENDAR
VERSION:2.0
PRODID:-//wp-events-plugin.com//7.2.3.1//EN
TZID:Europe/London
X-WR-TIMEZONE:Europe/London
BEGIN:VEVENT
UID:3263@larevistadelapalma.com
DTSTART:20241002T190000Z
DTEND:20241002T203000Z
DTSTAMP:20240929T191933Z
URL:https://www.larevistadelapalma.com/events/breaking-bach/
SUMMARY:‘Breaking Bach’
DESCRIPTION:¿Cómo reaccionaría Johann Sebastian Bach si despertara en el
  momento presente y viera su música replicada por IA? \n¿Se sorprenderí
 a el genio del Barroco del resultado? ¿Qué uso haría en su música de e
 sa tecnología?  Esto es BREAKING BACH.\n\nEl IV Festival Contemporáneo 
 presenta el concierto ‘Breaking Bach’\, una propuesta del músico Carl
 es Marigó (piano)\, con realización de vídeo en directo a cargo de Alex
  Tentor.\n\nUn programa en el que conviven obras de Bach con la creación 
 actual más vanguardista de músicos como los canarios Daniel Roca\, Laura
  Vega y Manuel Bonino\, así como del propio Marigó y de Joan Magrané. T
 ambién habrá lugar para la IA\, a través de un software desarrollado pa
 ra este proyecto en 2022.\nComprar entradas &gt\;&gt\;\n\n\nSe trata del m
 ismo espectáculo que el festival ofreció el pasado año en Tenerife y Gr
 an Canaria\, que fue muy aplaudido por el público\, con una puesta en esc
 ena realmente dinámica y sorprendente. \n\nEl prestigioso pianista propon
 e un viaje que combina obras del genio alemán con la creación actua. Es 
 un jugueteo en el que distintos compositores se enfrentan a dialogar con J
 ohann Sebastian Bach. Precisamente\, en su obra para teclado es donde Bach
  exploró no solo los límites del instrumento\, sino también de las regl
 as musicales de su época\, sino también de las reglas musicales de su é
 poca\, haciendo de bisagra para las siguientes. Así\, Bach aún hace preg
 untas que no se sabe bien cómo responder y es desde ahí desde donde part
 en las obras de este concierto.\nSe escucharán estudios (Daniel Roca) con
 vertidos en objeto de concierto\, es decir\, donde lo íntimo se vuelve p
 úblico\; o una lectura contemporánea de la fantasía musical (Joan Magra
 né)\, que es un despliegue de ideas musicales. También una visita canari
 a de Bach (Laura Vega) al estilo de la apropiación brasileira que hizo\, 
 hace unas cuantas décadas\, Heitor Villa-Lobos\, imaginando otras geograf
 ías para el compositor alemán.\nAparece también el carácter contemplat
 ivo de la religiosidad bachiana (Manuel Bonino)\, o el piano preparado\, i
 ntervenido\, que devuelve al moderno el sonido metálico del clave en el q
 ue componía Bach e inventa sonoridades inesperadas.\nCasi ya de manera in
 evitable\, irrumpe la inteligencia artificial\, que extrae los estilos com
 positivos y los congela hasta engañar a nuestros oídos. Lo que parecía 
 perteneciente a un futuro lejano\, se ha convertido en un presente que aú
 n no sabemos cómo asumir. “Si esta innovadora propuesta permite repensa
 r a Bach desde la escritura contemporánea\, la inteligencia artificial no
 s mira e interpela sobre el alcance y sentido de toda creación hoy. El re
 to está abierto”\, destaca la musicóloga Marina Hervás en los textos 
 que acompañan el programa de conciertos.\n\nCarles Marigó es un pianist
 a y creador que investiga nuevas formas de expresión artística\, combina
 ndo innovación e historia. Ha actuado en España\, Suiza\, Portugal\, Ale
 mania\, Dinamarca\, Inglaterra\, Rusia y Nueva Zelanda\, entre otros país
 es\, como solista\, en agrupaciones y con orquesta. Miembro fundador de la
  Cía. RAU (Barcelona) y del colectivo Lo Desconcert (Colonia\, Alemania).
  Músico creador residente en varios espacios\, tiene en su haber múltipl
 es estrenos propios y de otros autores. Formado en Barcelona y Moscú\, ta
 mbién ha desarrollado su faceta como improvisador. Es profesor en la ESMU
 C y en el Conservatorio del Liceu y está especializado en la Metodología
  IEM (Instituto de Educación Musical Emilio Molina). \n\nAlex Tentor es
  un guitarrista\, artista sonoro y musicólogo especializado en nueva mús
 ica\, tanto en su carrera solista como de intérprete de cámara\, y en el
  desarrollo de propuestas pedagógicas\, conferencias y masterclasses. Ha 
 colaborado con importantes formaciones internacionales especialistas en cr
 eación actual. Activo comisario de nuevo repertorio para su instrumento\,
  ha estrenado obras de Elena Rykova\, Arturo Corrales\, Bára Gísladótti
 r\, Morgan Ågren\, José María Sánchez Verdú\, Jeeyoung Joo Diego Jim
 énez Tamame\, Aleksandra Bajde\, Guillermo Cobo y Avshalom Ariel\, entre 
 otros. Actualmente es profesor de guitarra en la Escola Superior de Músic
 a de Catalunya de Barcelona.\n\nPROGRAMA BREAKING BACH:\n\nJ. S. BACH VS. 
 DANIEL ROCA\n\n 	Daniel Roca - Estudio para piano n. 1 (1998) [4’] (Aut
 or canario)\n 	Johann Sebastian Bach - Preludio en Do mayor (Klavier-Büch
 lein vor Wilhelm Friedemann\, BWV 924: n. 2) [1’]\n 	Daniel Roca - Estud
 io para piano n. 2 (1998) [4’]\n 	Johann Sebastian Bach - Preludio en Re
  mayor (Das Wohltemperierte Klavier II\, BWV 850: n. 3) [2’]\n\nJ. S. BA
 CH VS. JOAN MAGRANÉ\n\n 	Johann Sebastian Bach - Preludio (Fantasía) en 
 la menor (BWV 922) [7’]\n 	Joan Magrané - Fantasiestück 3 (2020) [5’
 ]\n\nJ. S. BACH VS CARLES MARIGÓ\n\n 	Johann Sebastian Bach - Preludio en
  Do menor (Das Wohltemperierte Klavier I\, BWV 847: n. 2) [2’]\n 	Carles
  Marigó - Trencadís (2021) [6’]\n\nJ. S. BACH VS. LAURA VEGA\n\n 	Laur
 a Vega - Bachiana Canariense para piano [4’] (Autora canaria)\n 	Johann
  Sebastian Bach - Concerto nach Italienischem Gusto BWV 971 (selección)\n
 \nJ. S. BACH VS. MANUEL BONINO\n\n 	Manuel Bonino - Una reflexión [4’]
  (Autor canario)\n 	Johann Sebastian Bach - Erbarme dich mein\, O Herre G
 ott BWV 721 [4’]\n 	Carles Marigó - Improvisación [4’]\n\nJ. S. BACH
  VS. INTELIGENCIA ARTIFICIAL\n\n 	Johann Sebastian Bach / IA programada po
 r Alex Tentor / Carles Marigó\n 	Improvisación sobre temas de Bach [8’
 ]\n\n&nbsp\;\n\nEl Festival Contemporáneo es un proyecto del Instituto 
 Canario de Desarrollo Cultural (Gobierno de Canarias)\, organizado por el 
 Festival Internacional de Música de Canarias.
ATTACH;FMTTYPE=image/jpeg:https://www.larevistadelapalma.com/wp-content/up
 loads/2024/09/Breaking_Bach.jpg
CATEGORIES:Conciertos,Música
LOCATION:Teatro Circo de Marte\, Calle Virgen de La Luz\, 5\, Santa Cruz de
  La Palma\, 38700\, España
GEO:28.682989;-17.765755
X-APPLE-STRUCTURED-LOCATION;VALUE=URI;X-ADDRESS=Calle Virgen de La Luz\, 5\
 , Santa Cruz de La Palma\, 38700\, España;X-APPLE-RADIUS=100;X-TITLE=Teat
 ro Circo de Marte:geo:28.682989,-17.765755
END:VEVENT
END:VCALENDARBEGIN:VCALENDAR
VERSION:2.0
PRODID:-//wp-events-plugin.com//7.2.3.1//EN
TZID:Europe/London
X-WR-TIMEZONE:Europe/London
BEGIN:VEVENT
UID:3263@larevistadelapalma.com
DTSTART:20241002T190000Z
DTEND:20241002T203000Z
DTSTAMP:20240929T191933Z
URL:https://www.larevistadelapalma.com/events/breaking-bach/
SUMMARY:‘Breaking Bach’
DESCRIPTION:¿Cómo reaccionaría Johann Sebastian Bach si despertara en el
  momento presente y viera su música replicada por IA? \n¿Se sorprenderí
 a el genio del Barroco del resultado? ¿Qué uso haría en su música de e
 sa tecnología?  Esto es BREAKING BACH.\n\nEl IV Festival Contemporáneo 
 presenta el concierto ‘Breaking Bach’\, una propuesta del músico Carl
 es Marigó (piano)\, con realización de vídeo en directo a cargo de Alex
  Tentor.\n\nUn programa en el que conviven obras de Bach con la creación 
 actual más vanguardista de músicos como los canarios Daniel Roca\, Laura
  Vega y Manuel Bonino\, así como del propio Marigó y de Joan Magrané. T
 ambién habrá lugar para la IA\, a través de un software desarrollado pa
 ra este proyecto en 2022.\nComprar entradas &gt\;&gt\;\n\n\nSe trata del m
 ismo espectáculo que el festival ofreció el pasado año en Tenerife y Gr
 an Canaria\, que fue muy aplaudido por el público\, con una puesta en esc
 ena realmente dinámica y sorprendente. \n\nEl prestigioso pianista propon
 e un viaje que combina obras del genio alemán con la creación actua. Es 
 un jugueteo en el que distintos compositores se enfrentan a dialogar con J
 ohann Sebastian Bach. Precisamente\, en su obra para teclado es donde Bach
  exploró no solo los límites del instrumento\, sino también de las regl
 as musicales de su época\, sino también de las reglas musicales de su é
 poca\, haciendo de bisagra para las siguientes. Así\, Bach aún hace preg
 untas que no se sabe bien cómo responder y es desde ahí desde donde part
 en las obras de este concierto.\nSe escucharán estudios (Daniel Roca) con
 vertidos en objeto de concierto\, es decir\, donde lo íntimo se vuelve p
 úblico\; o una lectura contemporánea de la fantasía musical (Joan Magra
 né)\, que es un despliegue de ideas musicales. También una visita canari
 a de Bach (Laura Vega) al estilo de la apropiación brasileira que hizo\, 
 hace unas cuantas décadas\, Heitor Villa-Lobos\, imaginando otras geograf
 ías para el compositor alemán.\nAparece también el carácter contemplat
 ivo de la religiosidad bachiana (Manuel Bonino)\, o el piano preparado\, i
 ntervenido\, que devuelve al moderno el sonido metálico del clave en el q
 ue componía Bach e inventa sonoridades inesperadas.\nCasi ya de manera in
 evitable\, irrumpe la inteligencia artificial\, que extrae los estilos com
 positivos y los congela hasta engañar a nuestros oídos. Lo que parecía 
 perteneciente a un futuro lejano\, se ha convertido en un presente que aú
 n no sabemos cómo asumir. “Si esta innovadora propuesta permite repensa
 r a Bach desde la escritura contemporánea\, la inteligencia artificial no
 s mira e interpela sobre el alcance y sentido de toda creación hoy. El re
 to está abierto”\, destaca la musicóloga Marina Hervás en los textos 
 que acompañan el programa de conciertos.\n\nCarles Marigó es un pianist
 a y creador que investiga nuevas formas de expresión artística\, combina
 ndo innovación e historia. Ha actuado en España\, Suiza\, Portugal\, Ale
 mania\, Dinamarca\, Inglaterra\, Rusia y Nueva Zelanda\, entre otros país
 es\, como solista\, en agrupaciones y con orquesta. Miembro fundador de la
  Cía. RAU (Barcelona) y del colectivo Lo Desconcert (Colonia\, Alemania).
  Músico creador residente en varios espacios\, tiene en su haber múltipl
 es estrenos propios y de otros autores. Formado en Barcelona y Moscú\, ta
 mbién ha desarrollado su faceta como improvisador. Es profesor en la ESMU
 C y en el Conservatorio del Liceu y está especializado en la Metodología
  IEM (Instituto de Educación Musical Emilio Molina). \n\nAlex Tentor es
  un guitarrista\, artista sonoro y musicólogo especializado en nueva mús
 ica\, tanto en su carrera solista como de intérprete de cámara\, y en el
  desarrollo de propuestas pedagógicas\, conferencias y masterclasses. Ha 
 colaborado con importantes formaciones internacionales especialistas en cr
 eación actual. Activo comisario de nuevo repertorio para su instrumento\,
  ha estrenado obras de Elena Rykova\, Arturo Corrales\, Bára Gísladótti
 r\, Morgan Ågren\, José María Sánchez Verdú\, Jeeyoung Joo Diego Jim
 énez Tamame\, Aleksandra Bajde\, Guillermo Cobo y Avshalom Ariel\, entre 
 otros. Actualmente es profesor de guitarra en la Escola Superior de Músic
 a de Catalunya de Barcelona.\n\nPROGRAMA BREAKING BACH:\n\nJ. S. BACH VS. 
 DANIEL ROCA\n\n 	Daniel Roca - Estudio para piano n. 1 (1998) [4’] (Aut
 or canario)\n 	Johann Sebastian Bach - Preludio en Do mayor (Klavier-Büch
 lein vor Wilhelm Friedemann\, BWV 924: n. 2) [1’]\n 	Daniel Roca - Estud
 io para piano n. 2 (1998) [4’]\n 	Johann Sebastian Bach - Preludio en Re
  mayor (Das Wohltemperierte Klavier II\, BWV 850: n. 3) [2’]\n\nJ. S. BA
 CH VS. JOAN MAGRANÉ\n\n 	Johann Sebastian Bach - Preludio (Fantasía) en 
 la menor (BWV 922) [7’]\n 	Joan Magrané - Fantasiestück 3 (2020) [5’
 ]\n\nJ. S. BACH VS CARLES MARIGÓ\n\n 	Johann Sebastian Bach - Preludio en
  Do menor (Das Wohltemperierte Klavier I\, BWV 847: n. 2) [2’]\n 	Carles
  Marigó - Trencadís (2021) [6’]\n\nJ. S. BACH VS. LAURA VEGA\n\n 	Laur
 a Vega - Bachiana Canariense para piano [4’] (Autora canaria)\n 	Johann
  Sebastian Bach - Concerto nach Italienischem Gusto BWV 971 (selección)\n
 \nJ. S. BACH VS. MANUEL BONINO\n\n 	Manuel Bonino - Una reflexión [4’]
  (Autor canario)\n 	Johann Sebastian Bach - Erbarme dich mein\, O Herre G
 ott BWV 721 [4’]\n 	Carles Marigó - Improvisación [4’]\n\nJ. S. BACH
  VS. INTELIGENCIA ARTIFICIAL\n\n 	Johann Sebastian Bach / IA programada po
 r Alex Tentor / Carles Marigó\n 	Improvisación sobre temas de Bach [8’
 ]\n\n&nbsp\;\n\nEl Festival Contemporáneo es un proyecto del Instituto 
 Canario de Desarrollo Cultural (Gobierno de Canarias)\, organizado por el 
 Festival Internacional de Música de Canarias.
ATTACH;FMTTYPE=image/jpeg:https://www.larevistadelapalma.com/wp-content/up
 loads/2024/09/Breaking_Bach.jpg
CATEGORIES:Conciertos,Música
LOCATION:Teatro Circo de Marte\, Calle Virgen de La Luz\, 5\, Santa Cruz de
  La Palma\, 38700\, España
GEO:28.682989;-17.765755
X-APPLE-STRUCTURED-LOCATION;VALUE=URI;X-ADDRESS=Calle Virgen de La Luz\, 5\
 , Santa Cruz de La Palma\, 38700\, España;X-APPLE-RADIUS=100;X-TITLE=Teat
 ro Circo de Marte:geo:28.682989,-17.765755
END:VEVENT
END:VCALENDAR