BEGIN:VCALENDAR
VERSION:2.0
PRODID:-//wp-events-plugin.com//7.2.3.1//EN
TZID:Europe/London
X-WR-TIMEZONE:Europe/London
BEGIN:VEVENT
UID:3442@larevistadelapalma.com
DTSTART:20241206T193000Z
DTEND:20241206T224500Z
DTSTAMP:20241202T213048Z
URL:https://www.larevistadelapalma.com/events/brena-alta-light-night/
SUMMARY:Breña Alta Light Night
DESCRIPTION:Este viernes 6 de diciembre Breña Alta inaugura el encendido n
 avideño con la participación de Alex Fernández\, con Mariachi Mencey\, 
 por primera vez en La Palma\, antes del concierto que ofrecerá en la Isla
  al día siguiente\, junto a su padre Alejandro Fernández.\nTambién esta
 rá la canaria Cristina Ramos\, Oscar Martinez DJ y Renzzo El Selector \,
  una noche que conducirá la popular Eloísa González.
ATTACH;FMTTYPE=image/jpeg:https://www.larevistadelapalma.com/wp-content/up
 loads/2024/11/Light-Night-B-Alta.jpg
CATEGORIES:Conciertos,Fiestas populares,Música,Otras propuestas
LOCATION:Plaza Bujaz\, Breña Alta\, Calle Treinta de Mayo\, Breña Alta\, 
 38710\, España
GEO:28.662869;-17.788333
X-APPLE-STRUCTURED-LOCATION;VALUE=URI;X-ADDRESS=Calle Treinta de Mayo\, Bre
 ña Alta\, 38710\, España;X-APPLE-RADIUS=100;X-TITLE=Plaza Bujaz\, Breña
  Alta:geo:28.662869,-17.788333
END:VEVENT
END:VCALENDARBEGIN:VCALENDAR
VERSION:2.0
PRODID:-//wp-events-plugin.com//7.2.3.1//EN
TZID:Europe/London
X-WR-TIMEZONE:Europe/London
BEGIN:VEVENT
UID:3442@larevistadelapalma.com
DTSTART:20241206T193000Z
DTEND:20241206T224500Z
DTSTAMP:20241202T213048Z
URL:https://www.larevistadelapalma.com/events/brena-alta-light-night/
SUMMARY:Breña Alta Light Night
DESCRIPTION:Este viernes 6 de diciembre Breña Alta inaugura el encendido n
 avideño con la participación de Alex Fernández\, con Mariachi Mencey\, 
 por primera vez en La Palma\, antes del concierto que ofrecerá en la Isla
  al día siguiente\, junto a su padre Alejandro Fernández.\nTambién esta
 rá la canaria Cristina Ramos\, Oscar Martinez DJ y Renzzo El Selector \,
  una noche que conducirá la popular Eloísa González.
ATTACH;FMTTYPE=image/jpeg:https://www.larevistadelapalma.com/wp-content/up
 loads/2024/11/Light-Night-B-Alta.jpg
CATEGORIES:Conciertos,Fiestas populares,Música,Otras propuestas
LOCATION:Plaza Bujaz\, Breña Alta\, Calle Treinta de Mayo\, Breña Alta\, 
 38710\, España
GEO:28.662869;-17.788333
X-APPLE-STRUCTURED-LOCATION;VALUE=URI;X-ADDRESS=Calle Treinta de Mayo\, Bre
 ña Alta\, 38710\, España;X-APPLE-RADIUS=100;X-TITLE=Plaza Bujaz\, Breña
  Alta:geo:28.662869,-17.788333
END:VEVENT
END:VCALENDAR