BEGIN:VCALENDAR
VERSION:2.0
PRODID:-//wp-events-plugin.com//7.2.3.1//EN
TZID:Europe/London
X-WR-TIMEZONE:Europe/London
BEGIN:VEVENT
UID:3693@larevistadelapalma.com
DTSTART;VALUE=DATE:20250421
DTEND;VALUE=DATE:20250427
DTSTAMP:20250415T164651Z
URL:https://www.larevistadelapalma.com/events/brena-baja-celebra-la-semana
 -del-libro/
SUMMARY:Breña Baja celebra la Semana del Libro
DESCRIPTION:El 23 de abril se conmemora el “Día Mundial del Libro” y p
 ara celebrarlo la Concejalía de Cultura del Ayuntamiento de Breña Baja h
 a preparado varios actos durante toda esa semana\, del 21 al 26 de abril. 
 Con la participación activa de los centros escolares\, la Biblioteca Púb
 lica Municipal “Mauro Fernández Santos” y la colaboración del Cabild
 o Insular de La Palma.\n\nActividades que persiguen la inquietud\, la crea
 tividad y la ilusión por un proceso dinámico que anime a la lectura y a 
 la escritura.\n\nLunes 21 abril\n\nEn horario de mañana\, comienza la sem
 ana con el tradicional reparto de libros por los centros educativos del mu
 nicipio.\n\n16 h. Visita de la Asociación Padisbalta y Taller Espectácul
 o “Pintacuentos” con Tiziana Maio. Biblioteca Municipal\, San Antonio.
 \n\nMartes 22 abril\n\nHorario de Mañana: Talleres de Escritura Creativa 
 impartido por Beatriz Gómez. IES “Las Breñas”\n\n17 h. Cucú-Tras co
 n Elena Revuelta. Biblioteca Municipal\, San Antonio.\n\nMiércoles 23 abr
 il\, Día del Libro\n\nHorario de Mañana: Proyección documental “La Mi
 rada Femenina de la Literatura Canaria” por Beatriz Gómez\, con charla 
 posterior con la directora y la escritora Belén Lorenzo. IES “Las Breñ
 as”. Un documental que cuenta con la intervención de ocho insignes escr
 itoras canarias: Elsa López\, Rosario Valcárcel\, Lucía Rosa González\
 , Inmaculada Hernández Ortega\, Belén Lorenzo\, Lucy Gómez\, Ana Herná
 ndez de Dolara y Sandra Lorenzo.\n\n\n\n11.00 h. El Gallo Kiriko (títeres
  de mesa) por la Compañía Tal Cual Troupe. Escuela Infantil “Doña Pep
 ita”.\n\n18.30 h. “El sueño de Pippi” con Tiziana Maio y Jan Van Re
 eth. Espectáculo para publico familiar con juegos y música\, inspirado e
 n las aventuras de Pippi Calzaslargas. Biblioteca Municipal\, San Antonio.
 \n\nJueves 24 abril\n\n19 h.  Atardecer Literario con la presentación de
 l libro “La nieve negra” de Lucía Rosa González. Recorre con sugeren
 te sensibilidad el periodo previo a la erupción hasta las actuales cicatr
 ices que el volcán imprime en las gentes. Presenta Beatriz Gómez. Biblio
 teca Municipal\, San Antonio.\n\n\n\nViernes 25 abril\n\n20 h. Obra de tea
 tro “Versos Encerrados\, Poesía en Teatro de Sombras” por los alumnos
  de Teatro de Breña Baja y bajo la dirección de Nina Chumakov y la Banda
  Municipal de Música de Breña Baja\, bajo la dirección de Pablo Arrocha
  Morales. Sociedad Juventud Española\, San Antonio.\n\nSábado 26 abril\n
 \n19 h.  Concierto de Música Fusión con un Dúo de Guitarra y Timple (J
 avier Infante y Alexis Lemes)  presentando “Guiguan\, composiciones ori
 ginales y notas poéticas”.  Presenta Seca Herrera. Biblioteca Municipa
 l\, San Antonio.\n\nDe igual manera desde la Concejalía de Cultura se inv
 ita\, a lo largo de toda la semana del libro\, a salir por los rincones de
 l municipio a leer tu libro favorito. En este sentido\, cabe recordar que 
 además de contar Breña Baja con la Biblioteca Municipal\, se cuenta en l
 os diferentes barrios del municipio con pequeñas librerías fijas o minib
 iblios que funcionan mediante un sistema de autoservicio. San José\, San 
 Antonio (por El Rincón)\, Las Ledas\, El Socorro\, La Polvacera\, Finca A
 mado y Los Cancajos cuentan con estos puntos descentralizados para el fome
 nto de la lectura.\n\nPara mayor información e inscripciones contactar co
 n la propia Biblioteca (Tlfo: 608 17 90 60 / biblioteca@bbaja.es) o al Ay
 untamiento de Breña Baja (tlfo. 922 43 59 55\, exts 3032 / 3034).
ATTACH;FMTTYPE=image/jpeg:https://www.larevistadelapalma.com/wp-content/up
 loads/2025/04/Semana-Libro-B-Bja.jpg
CATEGORIES:Cine y Literatura,Literatura
LOCATION:Municipio de Breña Baja\, Breña Baja\, Breña Baja\, 38712\, Esp
 aña
GEO:28.641297;-17.772467
X-APPLE-STRUCTURED-LOCATION;VALUE=URI;X-ADDRESS=Breña Baja\, Breña Baja\,
  38712\, España;X-APPLE-RADIUS=100;X-TITLE=Municipio de Breña Baja:geo:2
 8.641297,-17.772467
END:VEVENT
END:VCALENDARBEGIN:VCALENDAR
VERSION:2.0
PRODID:-//wp-events-plugin.com//7.2.3.1//EN
TZID:Europe/London
X-WR-TIMEZONE:Europe/London
BEGIN:VEVENT
UID:3693@larevistadelapalma.com
DTSTART;VALUE=DATE:20250421
DTEND;VALUE=DATE:20250427
DTSTAMP:20250415T164651Z
URL:https://www.larevistadelapalma.com/events/brena-baja-celebra-la-semana
 -del-libro/
SUMMARY:Breña Baja celebra la Semana del Libro
DESCRIPTION:El 23 de abril se conmemora el “Día Mundial del Libro” y p
 ara celebrarlo la Concejalía de Cultura del Ayuntamiento de Breña Baja h
 a preparado varios actos durante toda esa semana\, del 21 al 26 de abril. 
 Con la participación activa de los centros escolares\, la Biblioteca Púb
 lica Municipal “Mauro Fernández Santos” y la colaboración del Cabild
 o Insular de La Palma.\n\nActividades que persiguen la inquietud\, la crea
 tividad y la ilusión por un proceso dinámico que anime a la lectura y a 
 la escritura.\n\nLunes 21 abril\n\nEn horario de mañana\, comienza la sem
 ana con el tradicional reparto de libros por los centros educativos del mu
 nicipio.\n\n16 h. Visita de la Asociación Padisbalta y Taller Espectácul
 o “Pintacuentos” con Tiziana Maio. Biblioteca Municipal\, San Antonio.
 \n\nMartes 22 abril\n\nHorario de Mañana: Talleres de Escritura Creativa 
 impartido por Beatriz Gómez. IES “Las Breñas”\n\n17 h. Cucú-Tras co
 n Elena Revuelta. Biblioteca Municipal\, San Antonio.\n\nMiércoles 23 abr
 il\, Día del Libro\n\nHorario de Mañana: Proyección documental “La Mi
 rada Femenina de la Literatura Canaria” por Beatriz Gómez\, con charla 
 posterior con la directora y la escritora Belén Lorenzo. IES “Las Breñ
 as”. Un documental que cuenta con la intervención de ocho insignes escr
 itoras canarias: Elsa López\, Rosario Valcárcel\, Lucía Rosa González\
 , Inmaculada Hernández Ortega\, Belén Lorenzo\, Lucy Gómez\, Ana Herná
 ndez de Dolara y Sandra Lorenzo.\n\n\n\n11.00 h. El Gallo Kiriko (títeres
  de mesa) por la Compañía Tal Cual Troupe. Escuela Infantil “Doña Pep
 ita”.\n\n18.30 h. “El sueño de Pippi” con Tiziana Maio y Jan Van Re
 eth. Espectáculo para publico familiar con juegos y música\, inspirado e
 n las aventuras de Pippi Calzaslargas. Biblioteca Municipal\, San Antonio.
 \n\nJueves 24 abril\n\n19 h.  Atardecer Literario con la presentación de
 l libro “La nieve negra” de Lucía Rosa González. Recorre con sugeren
 te sensibilidad el periodo previo a la erupción hasta las actuales cicatr
 ices que el volcán imprime en las gentes. Presenta Beatriz Gómez. Biblio
 teca Municipal\, San Antonio.\n\n\n\nViernes 25 abril\n\n20 h. Obra de tea
 tro “Versos Encerrados\, Poesía en Teatro de Sombras” por los alumnos
  de Teatro de Breña Baja y bajo la dirección de Nina Chumakov y la Banda
  Municipal de Música de Breña Baja\, bajo la dirección de Pablo Arrocha
  Morales. Sociedad Juventud Española\, San Antonio.\n\nSábado 26 abril\n
 \n19 h.  Concierto de Música Fusión con un Dúo de Guitarra y Timple (J
 avier Infante y Alexis Lemes)  presentando “Guiguan\, composiciones ori
 ginales y notas poéticas”.  Presenta Seca Herrera. Biblioteca Municipa
 l\, San Antonio.\n\nDe igual manera desde la Concejalía de Cultura se inv
 ita\, a lo largo de toda la semana del libro\, a salir por los rincones de
 l municipio a leer tu libro favorito. En este sentido\, cabe recordar que 
 además de contar Breña Baja con la Biblioteca Municipal\, se cuenta en l
 os diferentes barrios del municipio con pequeñas librerías fijas o minib
 iblios que funcionan mediante un sistema de autoservicio. San José\, San 
 Antonio (por El Rincón)\, Las Ledas\, El Socorro\, La Polvacera\, Finca A
 mado y Los Cancajos cuentan con estos puntos descentralizados para el fome
 nto de la lectura.\n\nPara mayor información e inscripciones contactar co
 n la propia Biblioteca (Tlfo: 608 17 90 60 / biblioteca@bbaja.es) o al Ay
 untamiento de Breña Baja (tlfo. 922 43 59 55\, exts 3032 / 3034).
ATTACH;FMTTYPE=image/jpeg:https://www.larevistadelapalma.com/wp-content/up
 loads/2025/04/Semana-Libro-B-Bja.jpg
CATEGORIES:Cine y Literatura,Literatura
LOCATION:Municipio de Breña Baja\, Breña Baja\, Breña Baja\, 38712\, Esp
 aña
GEO:28.641297;-17.772467
X-APPLE-STRUCTURED-LOCATION;VALUE=URI;X-ADDRESS=Breña Baja\, Breña Baja\,
  38712\, España;X-APPLE-RADIUS=100;X-TITLE=Municipio de Breña Baja:geo:2
 8.641297,-17.772467
END:VEVENT
END:VCALENDAR