BEGIN:VCALENDAR
VERSION:2.0
PRODID:-//wp-events-plugin.com//7.2.3.1//EN
TZID:Europe/London
X-WR-TIMEZONE:Europe/London
BEGIN:VEVENT
UID:66@larevistadelapalma.com
DTSTART:20230805T190000Z
DTEND:20230805T225900Z
DTSTAMP:20230731T200710Z
URL:https://www.larevistadelapalma.com/events/brena-baja-summer-fest/
SUMMARY:Breña Baja Summer Fest
DESCRIPTION:El BBSF (Breña Baja Summer Fest) es un evento de música elect
 rónica para mayores de 15 años.
ATTACH;FMTTYPE=image/jpeg:https://www.larevistadelapalma.com/wp-content/up
 loads/2023/06/Brena-Baja-Summer-Fest-23.jpg
CATEGORIES:Festivales/Fiestas,Música
LOCATION:Recinto Municipal de San José\, Cta. de San José\, 174C\, Breña
  Baja\, 38712\, España
GEO:28.645651;-17.774931
X-APPLE-STRUCTURED-LOCATION;VALUE=URI;X-ADDRESS=Cta. de San José\, 174C\, 
 Breña Baja\, 38712\, España;X-APPLE-RADIUS=100;X-TITLE=Recinto Municipal
  de San José:geo:28.645651,-17.774931
END:VEVENT
END:VCALENDARBEGIN:VCALENDAR
VERSION:2.0
PRODID:-//wp-events-plugin.com//7.2.3.1//EN
TZID:Europe/London
X-WR-TIMEZONE:Europe/London
BEGIN:VEVENT
UID:66@larevistadelapalma.com
DTSTART:20230805T190000Z
DTEND:20230805T225900Z
DTSTAMP:20230731T200710Z
URL:https://www.larevistadelapalma.com/events/brena-baja-summer-fest/
SUMMARY:Breña Baja Summer Fest
DESCRIPTION:El BBSF (Breña Baja Summer Fest) es un evento de música elect
 rónica para mayores de 15 años.
ATTACH;FMTTYPE=image/jpeg:https://www.larevistadelapalma.com/wp-content/up
 loads/2023/06/Brena-Baja-Summer-Fest-23.jpg
CATEGORIES:Festivales/Fiestas,Música
LOCATION:Recinto Municipal de San José\, Cta. de San José\, 174C\, Breña
  Baja\, 38712\, España
GEO:28.645651;-17.774931
X-APPLE-STRUCTURED-LOCATION;VALUE=URI;X-ADDRESS=Cta. de San José\, 174C\, 
 Breña Baja\, 38712\, España;X-APPLE-RADIUS=100;X-TITLE=Recinto Municipal
  de San José:geo:28.645651,-17.774931
END:VEVENT
END:VCALENDAR