BEGIN:VCALENDAR
VERSION:2.0
PRODID:-//wp-events-plugin.com//7.2.3.1//EN
TZID:Europe/London
X-WR-TIMEZONE:Europe/London
BEGIN:VEVENT
UID:654@larevistadelapalma.com
DTSTART:20230915T180000Z
DTEND:20230915T200000Z
DTSTAMP:20230911T200734Z
URL:https://www.larevistadelapalma.com/events/brisas-el-paso-taller-de-esc
 ritura-de-novela-con-julieta-martin-fuentes/
SUMMARY:Brisas El Paso: Taller de escritura de novela con Julieta Martín F
 uentes
DESCRIPTION:Con la llegada de septiembre se reanuda la agenda cultural de l
 a Biblioteca y esta vez\, además de las habituales\, se proponen novedade
 s. La primera\, un Taller de Escritura de Novela que lleva por nombre Bri
 sas El Paso. Dirigido por la escritora y periodista Julieta Martín Fuen
 tes parte con la intención de desvelar los entresijos que posibilitarán
  la escritura de una novela: estructura\, narrador\, personajes\, escenari
 os\, cronología…\n\nAdemás de esas nociones magistrales\, Julieta ac
 ompañará\, mediante tutorías\, a quienes quieran terminar de dar forma 
 a su historia a la vez que guiará a las personas que sin proyecto\, prete
 ndan disfrutar de la escritura creativa.\n\nHabrá dos encuentros por mes\
 , previa inscripción ya que las plazas son limitadas y en cada uno se abo
 rdará un aspecto diferente\; son muchos los elementos que hacen posible l
 a cocción de una historia y se compaginarán con la asistencia a quien ne
 cesite revisión y o asesoramiento.\n\nLa primera cita\, el 15 de septiem
 bre\, lleva por título Tú eres lo único que necesitas para emprender e
 ste gran viaje y tendrá lugar a las 19.00 en el Auditorio de la Casa 
 de la Cultura Braulio Martín.\n\nEsta acción\, prevista para los próxi
 mos 12 meses es posible gracias a la colaboración de las Concejalías de 
 Cultura y Biblioteca que en estos últimos años han hecho una apuesta imp
 ortante por la promoción de la lectura\, la narración y ahora de la escr
 itura entre el público adulto.\n\nRecuerda\, es imprescindible que rellen
 es el formulario de inscripción para asegurar tu plaza.
ATTACH;FMTTYPE=image/jpeg:https://www.larevistadelapalma.com/wp-content/up
 loads/2023/09/TALLER-DE-ESCRITURA-SEPTIEMBRE.png
CATEGORIES:Cine y Literatura,Formación,Literatura,Otras propuestas
LOCATION:Casa de la Cultura Braulio Martín Hernández de El Paso\, Av. Isl
 as Canarias\, 9\,\, El Paso\, 38750\, España
GEO:28.652923;-17.880463
X-APPLE-STRUCTURED-LOCATION;VALUE=URI;X-ADDRESS=Av. Islas Canarias\, 9\,\, 
 El Paso\, 38750\, España;X-APPLE-RADIUS=100;X-TITLE=Casa de la Cultura Br
 aulio Martín Hernández de El Paso:geo:28.652923,-17.880463
END:VEVENT
END:VCALENDARBEGIN:VCALENDAR
VERSION:2.0
PRODID:-//wp-events-plugin.com//7.2.3.1//EN
TZID:Europe/London
X-WR-TIMEZONE:Europe/London
BEGIN:VEVENT
UID:654@larevistadelapalma.com
DTSTART:20230915T180000Z
DTEND:20230915T200000Z
DTSTAMP:20230911T200734Z
URL:https://www.larevistadelapalma.com/events/brisas-el-paso-taller-de-esc
 ritura-de-novela-con-julieta-martin-fuentes/
SUMMARY:Brisas El Paso: Taller de escritura de novela con Julieta Martín F
 uentes
DESCRIPTION:Con la llegada de septiembre se reanuda la agenda cultural de l
 a Biblioteca y esta vez\, además de las habituales\, se proponen novedade
 s. La primera\, un Taller de Escritura de Novela que lleva por nombre Bri
 sas El Paso. Dirigido por la escritora y periodista Julieta Martín Fuen
 tes parte con la intención de desvelar los entresijos que posibilitarán
  la escritura de una novela: estructura\, narrador\, personajes\, escenari
 os\, cronología…\n\nAdemás de esas nociones magistrales\, Julieta ac
 ompañará\, mediante tutorías\, a quienes quieran terminar de dar forma 
 a su historia a la vez que guiará a las personas que sin proyecto\, prete
 ndan disfrutar de la escritura creativa.\n\nHabrá dos encuentros por mes\
 , previa inscripción ya que las plazas son limitadas y en cada uno se abo
 rdará un aspecto diferente\; son muchos los elementos que hacen posible l
 a cocción de una historia y se compaginarán con la asistencia a quien ne
 cesite revisión y o asesoramiento.\n\nLa primera cita\, el 15 de septiem
 bre\, lleva por título Tú eres lo único que necesitas para emprender e
 ste gran viaje y tendrá lugar a las 19.00 en el Auditorio de la Casa 
 de la Cultura Braulio Martín.\n\nEsta acción\, prevista para los próxi
 mos 12 meses es posible gracias a la colaboración de las Concejalías de 
 Cultura y Biblioteca que en estos últimos años han hecho una apuesta imp
 ortante por la promoción de la lectura\, la narración y ahora de la escr
 itura entre el público adulto.\n\nRecuerda\, es imprescindible que rellen
 es el formulario de inscripción para asegurar tu plaza.
ATTACH;FMTTYPE=image/jpeg:https://www.larevistadelapalma.com/wp-content/up
 loads/2023/09/TALLER-DE-ESCRITURA-SEPTIEMBRE.png
CATEGORIES:Cine y Literatura,Formación,Literatura,Otras propuestas
LOCATION:Casa de la Cultura Braulio Martín Hernández de El Paso\, Av. Isl
 as Canarias\, 9\,\, El Paso\, 38750\, España
GEO:28.652923;-17.880463
X-APPLE-STRUCTURED-LOCATION;VALUE=URI;X-ADDRESS=Av. Islas Canarias\, 9\,\, 
 El Paso\, 38750\, España;X-APPLE-RADIUS=100;X-TITLE=Casa de la Cultura Br
 aulio Martín Hernández de El Paso:geo:28.652923,-17.880463
END:VEVENT
END:VCALENDAR