BEGIN:VCALENDAR
VERSION:2.0
PRODID:-//wp-events-plugin.com//7.2.3.1//EN
TZID:Europe/London
X-WR-TIMEZONE:Europe/London
BEGIN:VEVENT
UID:3785@larevistadelapalma.com
DTSTART:20250606T200000Z
DTEND:20250606T200000Z
DTSTAMP:20250602T222419Z
URL:https://www.larevistadelapalma.com/events/bsn-banda-sin-nombre-lunatic
 o-la-palma/
SUMMARY:BSN( Banda sin nombre) en Lunático La Palma
DESCRIPTION:Banda Sin Nombre\, cinco músicos con una larga trayectoria art
 ística en una gran variedad de estilos. Sus composiciones mezclan sonidos
  synth de los 80 con letras profundas y toques del rock progresivo. Les es
 pera una noche de inspiración y magia musical.\n\nCompuesta por Yuliana 
 Kim (voz principal y teclado)\, Roberto Sánchez (bajo y coros)\, Jose
  Manuel Vázquez (guitarra eléctrica y programación) y Roberto Bacalla
 do (batería\, percusión y coros)\, su estilo es una mezcla entre un pop
  de los años ochenta y un sonido más actual aportando modernismo a sus c
 anciones con influencias que van desde los primeros grupos de postpunk has
 ta bandas muy actuales.
ATTACH;FMTTYPE=image/jpeg:https://www.larevistadelapalma.com/wp-content/up
 loads/2025/06/Banda-sin-nombre-lunatico.jpg
CATEGORIES:Conciertos,Música
LOCATION:Sala Lunático\, El Paso\, Calle Manuel Taño 9\, El Paso\, 38750\
 , España
GEO:28.651734;-17.879603
X-APPLE-STRUCTURED-LOCATION;VALUE=URI;X-ADDRESS=Calle Manuel Taño 9\, El P
 aso\, 38750\, España;X-APPLE-RADIUS=100;X-TITLE=Sala Lunático\, El Paso:
 geo:28.651734,-17.879603
END:VEVENT
END:VCALENDARBEGIN:VCALENDAR
VERSION:2.0
PRODID:-//wp-events-plugin.com//7.2.3.1//EN
TZID:Europe/London
X-WR-TIMEZONE:Europe/London
BEGIN:VEVENT
UID:3785@larevistadelapalma.com
DTSTART:20250606T200000Z
DTEND:20250606T200000Z
DTSTAMP:20250602T222419Z
URL:https://www.larevistadelapalma.com/events/bsn-banda-sin-nombre-lunatic
 o-la-palma/
SUMMARY:BSN( Banda sin nombre) en Lunático La Palma
DESCRIPTION:Banda Sin Nombre\, cinco músicos con una larga trayectoria art
 ística en una gran variedad de estilos. Sus composiciones mezclan sonidos
  synth de los 80 con letras profundas y toques del rock progresivo. Les es
 pera una noche de inspiración y magia musical.\n\nCompuesta por Yuliana 
 Kim (voz principal y teclado)\, Roberto Sánchez (bajo y coros)\, Jose
  Manuel Vázquez (guitarra eléctrica y programación) y Roberto Bacalla
 do (batería\, percusión y coros)\, su estilo es una mezcla entre un pop
  de los años ochenta y un sonido más actual aportando modernismo a sus c
 anciones con influencias que van desde los primeros grupos de postpunk has
 ta bandas muy actuales.
ATTACH;FMTTYPE=image/jpeg:https://www.larevistadelapalma.com/wp-content/up
 loads/2025/06/Banda-sin-nombre-lunatico.jpg
CATEGORIES:Conciertos,Música
LOCATION:Sala Lunático\, El Paso\, Calle Manuel Taño 9\, El Paso\, 38750\
 , España
GEO:28.651734;-17.879603
X-APPLE-STRUCTURED-LOCATION;VALUE=URI;X-ADDRESS=Calle Manuel Taño 9\, El P
 aso\, 38750\, España;X-APPLE-RADIUS=100;X-TITLE=Sala Lunático\, El Paso:
 geo:28.651734,-17.879603
END:VEVENT
END:VCALENDAR