BEGIN:VCALENDAR
VERSION:2.0
PRODID:-//wp-events-plugin.com//7.2.3.1//EN
TZID:Europe/London
X-WR-TIMEZONE:Europe/London
BEGIN:VEVENT
UID:3063@larevistadelapalma.com
DTSTART:20240614T193000Z
DTEND:20240614T210000Z
DTSTAMP:20240612T220739Z
URL:https://www.larevistadelapalma.com/events/buszjan-trio-en-concierto-en
 -la-pergola-del-quinto-pino/
SUMMARY:Buszjan Trio en concierto en La Pérgola del Quinto Pino
DESCRIPTION:\nEl viernes 14 de junio\, Buszjan Trio en La Pérgola del Quin
 to Pino.\nAbierto desde las 19:30 para disfrutar el rato tomando una copit
 a y saborear una exquisita Piadina u otra especialidad del bar de la Pérg
 ola. El restaurante El Quinto Pino es la otra opción para pasárselo bie
 n antes del concierto que empezará alrededor de las 20:30 horas.\n\n\n\nE
 l BuszJan Trio toca música original del artista BuszJan\, un belga que re
 side desde hace 10 años en el norte de nuestra isla\, y junto a sus compa
 ñeros de camino hacen música al estilo del Blues\, Jazz y folk americano
 .\nLa música varía desde cantautores hasta folk bailable y canciones de 
 jazz de Nueva Orleans.\n\n\n 	Krisitupas Noreika: Mandolina y Guitarra\n 	
 Benjamin Aleman: Contrabajo\n 	BuszJan: Voz y Guitarras\n\nhttps://www.you
 tube.com/watch?v=PtBu8ImVto8\n\n
ATTACH;FMTTYPE=image/jpeg:https://www.larevistadelapalma.com/wp-content/up
 loads/2024/06/BuszJan-Trio.jpg
CATEGORIES:Conciertos,Música
LOCATION:El Quinto Pino\, Ctra. la Pared Nueva\, 3. Las Indias. \, Fuencali
 ente\, 38749\, España
GEO:28.500094;-17.857762
X-APPLE-STRUCTURED-LOCATION;VALUE=URI;X-ADDRESS=Ctra. la Pared Nueva\, 3. L
 as Indias. \, Fuencaliente\, 38749\, España;X-APPLE-RADIUS=100;X-TITLE=El
  Quinto Pino:geo:28.500094,-17.857762
END:VEVENT
END:VCALENDARBEGIN:VCALENDAR
VERSION:2.0
PRODID:-//wp-events-plugin.com//7.2.3.1//EN
TZID:Europe/London
X-WR-TIMEZONE:Europe/London
BEGIN:VEVENT
UID:3063@larevistadelapalma.com
DTSTART:20240614T193000Z
DTEND:20240614T210000Z
DTSTAMP:20240612T220739Z
URL:https://www.larevistadelapalma.com/events/buszjan-trio-en-concierto-en
 -la-pergola-del-quinto-pino/
SUMMARY:Buszjan Trio en concierto en La Pérgola del Quinto Pino
DESCRIPTION:\nEl viernes 14 de junio\, Buszjan Trio en La Pérgola del Quin
 to Pino.\nAbierto desde las 19:30 para disfrutar el rato tomando una copit
 a y saborear una exquisita Piadina u otra especialidad del bar de la Pérg
 ola. El restaurante El Quinto Pino es la otra opción para pasárselo bie
 n antes del concierto que empezará alrededor de las 20:30 horas.\n\n\n\nE
 l BuszJan Trio toca música original del artista BuszJan\, un belga que re
 side desde hace 10 años en el norte de nuestra isla\, y junto a sus compa
 ñeros de camino hacen música al estilo del Blues\, Jazz y folk americano
 .\nLa música varía desde cantautores hasta folk bailable y canciones de 
 jazz de Nueva Orleans.\n\n\n 	Krisitupas Noreika: Mandolina y Guitarra\n 	
 Benjamin Aleman: Contrabajo\n 	BuszJan: Voz y Guitarras\n\nhttps://www.you
 tube.com/watch?v=PtBu8ImVto8\n\n
ATTACH;FMTTYPE=image/jpeg:https://www.larevistadelapalma.com/wp-content/up
 loads/2024/06/BuszJan-Trio.jpg
CATEGORIES:Conciertos,Música
LOCATION:El Quinto Pino\, Ctra. la Pared Nueva\, 3. Las Indias. \, Fuencali
 ente\, 38749\, España
GEO:28.500094;-17.857762
X-APPLE-STRUCTURED-LOCATION;VALUE=URI;X-ADDRESS=Ctra. la Pared Nueva\, 3. L
 as Indias. \, Fuencaliente\, 38749\, España;X-APPLE-RADIUS=100;X-TITLE=El
  Quinto Pino:geo:28.500094,-17.857762
END:VEVENT
END:VCALENDAR