BEGIN:VCALENDAR
VERSION:2.0
PRODID:-//wp-events-plugin.com//7.2.3.1//EN
TZID:Europe/London
X-WR-TIMEZONE:Europe/London
BEGIN:VEVENT
UID:3898@larevistadelapalma.com
DTSTART:20250809T150000Z
DTEND:20250809T170000Z
DTSTAMP:20250802T212410Z
URL:https://www.larevistadelapalma.com/events/cabrito-frito-los-alamos-2/
SUMMARY:Cabrito Frito en Los Álamos
DESCRIPTION:La banda de Cabrito Frito estará el 9 de agosto en el Bodegón
  Los Álamos.
ATTACH;FMTTYPE=image/jpeg:https://www.larevistadelapalma.com/wp-content/up
 loads/2025/08/Cabrito-frito-Los-Alamos.png
CATEGORIES:Conciertos,Música
LOCATION:Parque de Los Álamos\, Bodegón Los Alamos\, Breña Alta\, 38710\
 , España
GEO:28.667222;-17.787778
X-APPLE-STRUCTURED-LOCATION;VALUE=URI;X-ADDRESS=Bodegón Los Alamos\, Breñ
 a Alta\, 38710\, España;X-APPLE-RADIUS=100;X-TITLE=Parque de Los Álamos:
 geo:28.667222,-17.787778
END:VEVENT
END:VCALENDARBEGIN:VCALENDAR
VERSION:2.0
PRODID:-//wp-events-plugin.com//7.2.3.1//EN
TZID:Europe/London
X-WR-TIMEZONE:Europe/London
BEGIN:VEVENT
UID:3898@larevistadelapalma.com
DTSTART:20250809T150000Z
DTEND:20250809T170000Z
DTSTAMP:20250802T212410Z
URL:https://www.larevistadelapalma.com/events/cabrito-frito-los-alamos-2/
SUMMARY:Cabrito Frito en Los Álamos
DESCRIPTION:La banda de Cabrito Frito estará el 9 de agosto en el Bodegón
  Los Álamos.
ATTACH;FMTTYPE=image/jpeg:https://www.larevistadelapalma.com/wp-content/up
 loads/2025/08/Cabrito-frito-Los-Alamos.png
CATEGORIES:Conciertos,Música
LOCATION:Parque de Los Álamos\, Bodegón Los Alamos\, Breña Alta\, 38710\
 , España
GEO:28.667222;-17.787778
X-APPLE-STRUCTURED-LOCATION;VALUE=URI;X-ADDRESS=Bodegón Los Alamos\, Breñ
 a Alta\, 38710\, España;X-APPLE-RADIUS=100;X-TITLE=Parque de Los Álamos:
 geo:28.667222,-17.787778
END:VEVENT
END:VCALENDAR