BEGIN:VCALENDAR
VERSION:2.0
PRODID:-//wp-events-plugin.com//7.2.3.1//EN
TZID:Europe/London
X-WR-TIMEZONE:Europe/London
BEGIN:VEVENT
UID:3919@larevistadelapalma.com
DTSTART:20250830T193000Z
DTEND:20250830T210000Z
DTSTAMP:20250819T122942Z
URL:https://www.larevistadelapalma.com/events/cabritofrito-en-la-pergola-d
 el-quinto-pino/
SUMMARY:Cabritofrito en la Pérgola del Quinto Pino
DESCRIPTION:\nEl próximo sábado 30 de agosto\, Cabritofrito aterriza en L
 a Pérgola del Quinto Pino\, para presentar sus últimas composiciones.\nE
 l bar estará abierto desde las 19:30 para disfrutar el rato tomando una c
 opita y saboreando una exquisita Piadina u otra especialidad del bar de la
  Pérgola. El concierto empezará a las 20:30 horas.\nDespués de un año
 \, José Álvarez nos cuenta.\n"En el verano de 2024 y durante 4 días nos
  encerramos en Botazo\, Breña Alta\, La Palma\, Canarias. Y montamos al a
 ire libre un set de grabación donde plasmar unas ideas y bocetos muy prim
 arios que yo había escrito. A la batería se sentó el gran Giuseppe Fabr
 icio (Josiño de Lacruz)\, en el bajo se sentó el gran Giovanni Copérnic
 o (Juan Sosa)\, con la tuba y la trompeta se inspiró el maravilloso Nicol
 o Nuttini (Jose Ignacio San Luis). En los teclados Luiggi Martorelli aca (
 Luis de Paz) aportó su serenidad y calma. El Maestro Jorge Lozano de la B
 urbuja Estudios se puso a los mando de la nave. Así fue como durante esos
  4 días fuimos generando la base de lo que hoy tienes la oportunidad de e
 scuchar.\nSinceramente no tengo palabras para agradecer el entusiasmo\, el
  esfuerzo\, el espacio y el tiempo que estos poderosos músicos me ofrecie
 ron. Gracias a ellos hemos podido seguir buscando formas en las nubes\, ma
 nteniendo vivo el sueño y el niño que llevamos dentro y retomado fuerzas
  para este viaje sin retorno que emprendimos cuando descubrimos que la mú
 sica es algo tan mágico que nos atrae hasta su núcleo y nos empuja a con
 tinuar hasta los valles de Tharsis y más allá."\n\n\n\nYa está disponib
 le  lo último de Cabritofrito\, "Para seguir buscando formas en las nube
 s"\, en:  Spotify.com y Music.youtube.com\n\n\n\n\n\n\n\n\n\n 	JOSÉ ÁLV
 AREZ (CABRITOFRITO) VOZ Y GUITARRAS\n 	JUAN SOSA: BAJO Y COROS\n 	JOSÉ DE
  LA CRUZ: BATERÍA\n 	JOSÉ IGNACIO SAN LUIS: TUBA Y TROMPETA\, COROS.\n 	
 LUIS DE PAZ: TECLAS\n\n\n\nGRABADO\, MEZCLADO Y MASTERIZADO POR JORGE LOZA
 NO.\n\n
ATTACH;FMTTYPE=image/jpeg:https://www.larevistadelapalma.com/wp-content/up
 loads/2025/08/Cabrito-Quinto-PIno.jpg
CATEGORIES:Conciertos,Música
LOCATION:El Quinto Pino\, Ctra. la Pared Nueva\, 3. Las Indias. \, Fuencali
 ente\, 38749\, España
GEO:28.500094;-17.857762
X-APPLE-STRUCTURED-LOCATION;VALUE=URI;X-ADDRESS=Ctra. la Pared Nueva\, 3. L
 as Indias. \, Fuencaliente\, 38749\, España;X-APPLE-RADIUS=100;X-TITLE=El
  Quinto Pino:geo:28.500094,-17.857762
END:VEVENT
END:VCALENDARBEGIN:VCALENDAR
VERSION:2.0
PRODID:-//wp-events-plugin.com//7.2.3.1//EN
TZID:Europe/London
X-WR-TIMEZONE:Europe/London
BEGIN:VEVENT
UID:3919@larevistadelapalma.com
DTSTART:20250830T193000Z
DTEND:20250830T210000Z
DTSTAMP:20250819T122942Z
URL:https://www.larevistadelapalma.com/events/cabritofrito-en-la-pergola-d
 el-quinto-pino/
SUMMARY:Cabritofrito en la Pérgola del Quinto Pino
DESCRIPTION:\nEl próximo sábado 30 de agosto\, Cabritofrito aterriza en L
 a Pérgola del Quinto Pino\, para presentar sus últimas composiciones.\nE
 l bar estará abierto desde las 19:30 para disfrutar el rato tomando una c
 opita y saboreando una exquisita Piadina u otra especialidad del bar de la
  Pérgola. El concierto empezará a las 20:30 horas.\nDespués de un año
 \, José Álvarez nos cuenta.\n"En el verano de 2024 y durante 4 días nos
  encerramos en Botazo\, Breña Alta\, La Palma\, Canarias. Y montamos al a
 ire libre un set de grabación donde plasmar unas ideas y bocetos muy prim
 arios que yo había escrito. A la batería se sentó el gran Giuseppe Fabr
 icio (Josiño de Lacruz)\, en el bajo se sentó el gran Giovanni Copérnic
 o (Juan Sosa)\, con la tuba y la trompeta se inspiró el maravilloso Nicol
 o Nuttini (Jose Ignacio San Luis). En los teclados Luiggi Martorelli aca (
 Luis de Paz) aportó su serenidad y calma. El Maestro Jorge Lozano de la B
 urbuja Estudios se puso a los mando de la nave. Así fue como durante esos
  4 días fuimos generando la base de lo que hoy tienes la oportunidad de e
 scuchar.\nSinceramente no tengo palabras para agradecer el entusiasmo\, el
  esfuerzo\, el espacio y el tiempo que estos poderosos músicos me ofrecie
 ron. Gracias a ellos hemos podido seguir buscando formas en las nubes\, ma
 nteniendo vivo el sueño y el niño que llevamos dentro y retomado fuerzas
  para este viaje sin retorno que emprendimos cuando descubrimos que la mú
 sica es algo tan mágico que nos atrae hasta su núcleo y nos empuja a con
 tinuar hasta los valles de Tharsis y más allá."\n\n\n\nYa está disponib
 le  lo último de Cabritofrito\, "Para seguir buscando formas en las nube
 s"\, en:  Spotify.com y Music.youtube.com\n\n\n\n\n\n\n\n\n\n 	JOSÉ ÁLV
 AREZ (CABRITOFRITO) VOZ Y GUITARRAS\n 	JUAN SOSA: BAJO Y COROS\n 	JOSÉ DE
  LA CRUZ: BATERÍA\n 	JOSÉ IGNACIO SAN LUIS: TUBA Y TROMPETA\, COROS.\n 	
 LUIS DE PAZ: TECLAS\n\n\n\nGRABADO\, MEZCLADO Y MASTERIZADO POR JORGE LOZA
 NO.\n\n
ATTACH;FMTTYPE=image/jpeg:https://www.larevistadelapalma.com/wp-content/up
 loads/2025/08/Cabrito-Quinto-PIno.jpg
CATEGORIES:Conciertos,Música
LOCATION:El Quinto Pino\, Ctra. la Pared Nueva\, 3. Las Indias. \, Fuencali
 ente\, 38749\, España
GEO:28.500094;-17.857762
X-APPLE-STRUCTURED-LOCATION;VALUE=URI;X-ADDRESS=Ctra. la Pared Nueva\, 3. L
 as Indias. \, Fuencaliente\, 38749\, España;X-APPLE-RADIUS=100;X-TITLE=El
  Quinto Pino:geo:28.500094,-17.857762
END:VEVENT
END:VCALENDAR