BEGIN:VCALENDAR
VERSION:2.0
PRODID:-//wp-events-plugin.com//7.2.3.1//EN
TZID:Europe/London
X-WR-TIMEZONE:Europe/London
BEGIN:VEVENT
UID:3997@larevistadelapalma.com
DTSTART:20251011T170000Z
DTEND:20251011T183000Z
DTSTAMP:20251007T182336Z
URL:https://www.larevistadelapalma.com/events/cafe-concierto-con-isla-cata
 lufa-en-la-casa-roja/
SUMMARY:Café-Concierto con Isla Catalufa en la Casa Roja
DESCRIPTION:\nEl sábado 11 de octubre a las 18:00h\, disfruta de una tarde
  especial con música en vivo en el encantador Café-Concierto en el Museo
  Casa Roja.\n\n\n\n\nIsla Catalufa ofrece un repertorio único de versione
 s en inglés con toques de jazz\, soul\, pop y ritmos latinos\, interpreta
 das por músicos de primer nivel y la prometedora voz de Cristina Lozano.\
 n\n\n 	Federico San Juan – Piano\n 	Mike Fernández – Bajo\n 	Andrés 
 Pérez – Batería\n 	Cristina Lozano – Voz\n\nEl repertorio incluye:\n
 \n 	“On Green Dolphin Street” – Bronislav Kaper\n 	“Can’t Take M
 y Eyes off You” – Bob Crewe\n 	“Smells Like Teen Spirit” – Nirva
 na\n 	“Nigh And Day” – Cole Porter\n 	“Just The Two Of Us” – G
 rover Washington Jr\n 	“On The Sunny Side Of The Street” – Jimmy McH
 ugh\n 	“Rolling in the Deep” – Adele\n 	“TRIO – Close To You” 
 – Burt Bahara // Arr. Robi Botos\n 	“Summertime” – George Gershwin
 \n 	“Blame It On the Boogle” – The Jackson Five // Arr. Francesca Ta
 ndoi\n 	“If I Got You” – Alicia Keys\n 	“Streetlife” – The Cru
 saders\n 	“Attther You’ve Gone” – Turner Layton\n 	“One And Only
 ” – Adele\n\nEntrada: 2€ | Aforo limitado\nReserva al: 628 014 138\n
 \n
ATTACH;FMTTYPE=image/jpeg:https://www.larevistadelapalma.com/wp-content/up
 loads/2025/10/Isla-Catalufa.jpeg
CATEGORIES:Conciertos,Música
LOCATION:Museo Casa Roja\, C. Maximiliano Pérez Díaz\, 23\, Villa de Mazo
 \, 38730\, España
GEO:28.607435;-17.77894
X-APPLE-STRUCTURED-LOCATION;VALUE=URI;X-ADDRESS=C. Maximiliano Pérez Díaz
 \, 23\, Villa de Mazo\, 38730\, España;X-APPLE-RADIUS=100;X-TITLE=Museo C
 asa Roja:geo:28.607435,-17.77894
END:VEVENT
END:VCALENDARBEGIN:VCALENDAR
VERSION:2.0
PRODID:-//wp-events-plugin.com//7.2.3.1//EN
TZID:Europe/London
X-WR-TIMEZONE:Europe/London
BEGIN:VEVENT
UID:3997@larevistadelapalma.com
DTSTART:20251011T170000Z
DTEND:20251011T183000Z
DTSTAMP:20251007T182336Z
URL:https://www.larevistadelapalma.com/events/cafe-concierto-con-isla-cata
 lufa-en-la-casa-roja/
SUMMARY:Café-Concierto con Isla Catalufa en la Casa Roja
DESCRIPTION:\nEl sábado 11 de octubre a las 18:00h\, disfruta de una tarde
  especial con música en vivo en el encantador Café-Concierto en el Museo
  Casa Roja.\n\n\n\n\nIsla Catalufa ofrece un repertorio único de versione
 s en inglés con toques de jazz\, soul\, pop y ritmos latinos\, interpreta
 das por músicos de primer nivel y la prometedora voz de Cristina Lozano.\
 n\n\n 	Federico San Juan – Piano\n 	Mike Fernández – Bajo\n 	Andrés 
 Pérez – Batería\n 	Cristina Lozano – Voz\n\nEl repertorio incluye:\n
 \n 	“On Green Dolphin Street” – Bronislav Kaper\n 	“Can’t Take M
 y Eyes off You” – Bob Crewe\n 	“Smells Like Teen Spirit” – Nirva
 na\n 	“Nigh And Day” – Cole Porter\n 	“Just The Two Of Us” – G
 rover Washington Jr\n 	“On The Sunny Side Of The Street” – Jimmy McH
 ugh\n 	“Rolling in the Deep” – Adele\n 	“TRIO – Close To You” 
 – Burt Bahara // Arr. Robi Botos\n 	“Summertime” – George Gershwin
 \n 	“Blame It On the Boogle” – The Jackson Five // Arr. Francesca Ta
 ndoi\n 	“If I Got You” – Alicia Keys\n 	“Streetlife” – The Cru
 saders\n 	“Attther You’ve Gone” – Turner Layton\n 	“One And Only
 ” – Adele\n\nEntrada: 2€ | Aforo limitado\nReserva al: 628 014 138\n
 \n
ATTACH;FMTTYPE=image/jpeg:https://www.larevistadelapalma.com/wp-content/up
 loads/2025/10/Isla-Catalufa.jpeg
CATEGORIES:Conciertos,Música
LOCATION:Museo Casa Roja\, C. Maximiliano Pérez Díaz\, 23\, Villa de Mazo
 \, 38730\, España
GEO:28.607435;-17.77894
X-APPLE-STRUCTURED-LOCATION;VALUE=URI;X-ADDRESS=C. Maximiliano Pérez Díaz
 \, 23\, Villa de Mazo\, 38730\, España;X-APPLE-RADIUS=100;X-TITLE=Museo C
 asa Roja:geo:28.607435,-17.77894
END:VEVENT
END:VCALENDAR