BEGIN:VCALENDAR
VERSION:2.0
PRODID:-//wp-events-plugin.com//7.2.3.1//EN
TZID:Europe/London
X-WR-TIMEZONE:Europe/London
BEGIN:VEVENT
UID:2916@larevistadelapalma.com
DTSTART:20240406T170000Z
DTEND:20240406T183000Z
DTSTAMP:20240401T235905Z
URL:https://www.larevistadelapalma.com/events/cafe-concierto-en-el-museo-c
 asa-roja-con-javier-llopis-y-mara-jaubert/
SUMMARY:Café Concierto en el Museo Casa Roja con Javier Llopis y Mara Jaub
 ert
DESCRIPTION:\nEl sábado 6 de abril de 2024\, a las 18:00 horas\, en el Mus
 eo Casa Roja podremos disfrutar de Café Concierto "Colors"\, con Javier L
 lopis y Mara Jaubert\, dúo de clarinete y piano.\nReserva tu entrada desd
 e el lunes 01/04/2024 en el 628014138 en horario de 10:00 h a 14:00 h. Pre
 cio 2€.\n*En caso de reservar y no poder acudir\, agradecen que canceles
  para que otra persona pueda asistir.\n\n\n
ATTACH;FMTTYPE=image/jpeg:https://www.larevistadelapalma.com/wp-content/up
 loads/2024/04/javier-llopis-mara-jaubert.jpg
CATEGORIES:Conciertos,Música
LOCATION:Museo Casa Roja\, C. Maximiliano Pérez Díaz\, 23\, Villa de Mazo
 \, 38730\, España
GEO:28.607435;-17.77894
X-APPLE-STRUCTURED-LOCATION;VALUE=URI;X-ADDRESS=C. Maximiliano Pérez Díaz
 \, 23\, Villa de Mazo\, 38730\, España;X-APPLE-RADIUS=100;X-TITLE=Museo C
 asa Roja:geo:28.607435,-17.77894
END:VEVENT
END:VCALENDARBEGIN:VCALENDAR
VERSION:2.0
PRODID:-//wp-events-plugin.com//7.2.3.1//EN
TZID:Europe/London
X-WR-TIMEZONE:Europe/London
BEGIN:VEVENT
UID:2916@larevistadelapalma.com
DTSTART:20240406T170000Z
DTEND:20240406T183000Z
DTSTAMP:20240401T235905Z
URL:https://www.larevistadelapalma.com/events/cafe-concierto-en-el-museo-c
 asa-roja-con-javier-llopis-y-mara-jaubert/
SUMMARY:Café Concierto en el Museo Casa Roja con Javier Llopis y Mara Jaub
 ert
DESCRIPTION:\nEl sábado 6 de abril de 2024\, a las 18:00 horas\, en el Mus
 eo Casa Roja podremos disfrutar de Café Concierto "Colors"\, con Javier L
 lopis y Mara Jaubert\, dúo de clarinete y piano.\nReserva tu entrada desd
 e el lunes 01/04/2024 en el 628014138 en horario de 10:00 h a 14:00 h. Pre
 cio 2€.\n*En caso de reservar y no poder acudir\, agradecen que canceles
  para que otra persona pueda asistir.\n\n\n
ATTACH;FMTTYPE=image/jpeg:https://www.larevistadelapalma.com/wp-content/up
 loads/2024/04/javier-llopis-mara-jaubert.jpg
CATEGORIES:Conciertos,Música
LOCATION:Museo Casa Roja\, C. Maximiliano Pérez Díaz\, 23\, Villa de Mazo
 \, 38730\, España
GEO:28.607435;-17.77894
X-APPLE-STRUCTURED-LOCATION;VALUE=URI;X-ADDRESS=C. Maximiliano Pérez Díaz
 \, 23\, Villa de Mazo\, 38730\, España;X-APPLE-RADIUS=100;X-TITLE=Museo C
 asa Roja:geo:28.607435,-17.77894
END:VEVENT
END:VCALENDAR