BEGIN:VCALENDAR
VERSION:2.0
PRODID:-//wp-events-plugin.com//7.2.3.1//EN
TZID:Europe/London
X-WR-TIMEZONE:Europe/London
BEGIN:VEVENT
UID:3790@larevistadelapalma.com
DTSTART:20250607T170000Z
DTEND:20250607T183000Z
DTSTAMP:20250604T204252Z
URL:https://www.larevistadelapalma.com/events/cafe-concierto-en-la-casa-ro
 ja-con-el-tenor-gabriel-alvarez-y-mara-jaubert/
SUMMARY:Café Concierto en la Casa Roja con el tenor Gabriel Álvarez y Mar
 a Jaubert
DESCRIPTION:Concierto del tenor gran canario Gabriel Álvarez\, acompañado
  al piano por Mara Jaubert\, en el Museo Casa Roja.\n\nGabriel ha sido gan
 ador del primer premio en el concurso internacional de canto de Medinacel
 i un futuro Dearte\, premio Ferrer Salat en el concurso internacional te
 nor viñas\, ganador del 3º premio Voces masculinas en el concurso Inter
 nacional de canto “Ciudad de Logroño\, La Rioja”\, Ganador concurso 
 regional Maria Orán de la fundación Caja Canarias\, finalista del conc
 urso internacional Alfredo Kraus y finalista del 17 certamen nuevas voce
 s de Sevilla en el teatro de la Maestranza.\n\nEl pasado mes de marzo de
 butó en Ópera de Tenerife con ‘Giovanna d’Arco’\, de Verdi\, en el
  papel de Delil\, oficial del ejército francés.\n\nReserva tu entrada ll
 amando al 628014138\, en el horario del Museo (10:00 a 14:00 h\, de lunes 
 a sábado)\n\nMás info &gt\;&gt\;
ATTACH;FMTTYPE=image/jpeg:https://www.larevistadelapalma.com/wp-content/up
 loads/2025/06/Concierto-Casa-Roja.png
CATEGORIES:Conciertos,Música
LOCATION:Museo Casa Roja\, C. Maximiliano Pérez Díaz\, 23\, Villa de Mazo
 \, 38730\, España
GEO:28.607435;-17.77894
X-APPLE-STRUCTURED-LOCATION;VALUE=URI;X-ADDRESS=C. Maximiliano Pérez Díaz
 \, 23\, Villa de Mazo\, 38730\, España;X-APPLE-RADIUS=100;X-TITLE=Museo C
 asa Roja:geo:28.607435,-17.77894
END:VEVENT
END:VCALENDARBEGIN:VCALENDAR
VERSION:2.0
PRODID:-//wp-events-plugin.com//7.2.3.1//EN
TZID:Europe/London
X-WR-TIMEZONE:Europe/London
BEGIN:VEVENT
UID:3790@larevistadelapalma.com
DTSTART:20250607T170000Z
DTEND:20250607T183000Z
DTSTAMP:20250604T204252Z
URL:https://www.larevistadelapalma.com/events/cafe-concierto-en-la-casa-ro
 ja-con-el-tenor-gabriel-alvarez-y-mara-jaubert/
SUMMARY:Café Concierto en la Casa Roja con el tenor Gabriel Álvarez y Mar
 a Jaubert
DESCRIPTION:Concierto del tenor gran canario Gabriel Álvarez\, acompañado
  al piano por Mara Jaubert\, en el Museo Casa Roja.\n\nGabriel ha sido gan
 ador del primer premio en el concurso internacional de canto de Medinacel
 i un futuro Dearte\, premio Ferrer Salat en el concurso internacional te
 nor viñas\, ganador del 3º premio Voces masculinas en el concurso Inter
 nacional de canto “Ciudad de Logroño\, La Rioja”\, Ganador concurso 
 regional Maria Orán de la fundación Caja Canarias\, finalista del conc
 urso internacional Alfredo Kraus y finalista del 17 certamen nuevas voce
 s de Sevilla en el teatro de la Maestranza.\n\nEl pasado mes de marzo de
 butó en Ópera de Tenerife con ‘Giovanna d’Arco’\, de Verdi\, en el
  papel de Delil\, oficial del ejército francés.\n\nReserva tu entrada ll
 amando al 628014138\, en el horario del Museo (10:00 a 14:00 h\, de lunes 
 a sábado)\n\nMás info &gt\;&gt\;
ATTACH;FMTTYPE=image/jpeg:https://www.larevistadelapalma.com/wp-content/up
 loads/2025/06/Concierto-Casa-Roja.png
CATEGORIES:Conciertos,Música
LOCATION:Museo Casa Roja\, C. Maximiliano Pérez Díaz\, 23\, Villa de Mazo
 \, 38730\, España
GEO:28.607435;-17.77894
X-APPLE-STRUCTURED-LOCATION;VALUE=URI;X-ADDRESS=C. Maximiliano Pérez Díaz
 \, 23\, Villa de Mazo\, 38730\, España;X-APPLE-RADIUS=100;X-TITLE=Museo C
 asa Roja:geo:28.607435,-17.77894
END:VEVENT
END:VCALENDAR