BEGIN:VCALENDAR
VERSION:2.0
PRODID:-//wp-events-plugin.com//7.2.3.1//EN
TZID:Europe/London
X-WR-TIMEZONE:Europe/London
BEGIN:VEVENT
UID:2731@larevistadelapalma.com
DTSTART:20240120T170000Z
DTEND:20240120T183000Z
DTSTAMP:20240116T222711Z
URL:https://www.larevistadelapalma.com/events/cafe-concierto-en-la-casa-ro
 ja-con-ensemble-sempiternun/
SUMMARY:Café Concierto en la Casa Roja\, con Ensemble Sempiternun
DESCRIPTION:\n\nReserva tu entrada en el 628014138. Precio 2€.\n\n\nEn c
 aso de reservar y no poder acudir\, agradecen que canceles para que otra p
 ersona pueda asistir.\n
ATTACH;FMTTYPE=image/jpeg:https://www.larevistadelapalma.com/wp-content/up
 loads/2024/01/Cafe-concierto-Ensemble-Sempiternum.jpg
CATEGORIES:Conciertos,Música
LOCATION:Museo Casa Roja\, C. Maximiliano Pérez Díaz\, 23\, Villa de Mazo
 \, 38730\, España
GEO:28.607435;-17.77894
X-APPLE-STRUCTURED-LOCATION;VALUE=URI;X-ADDRESS=C. Maximiliano Pérez Díaz
 \, 23\, Villa de Mazo\, 38730\, España;X-APPLE-RADIUS=100;X-TITLE=Museo C
 asa Roja:geo:28.607435,-17.77894
END:VEVENT
END:VCALENDARBEGIN:VCALENDAR
VERSION:2.0
PRODID:-//wp-events-plugin.com//7.2.3.1//EN
TZID:Europe/London
X-WR-TIMEZONE:Europe/London
BEGIN:VEVENT
UID:2731@larevistadelapalma.com
DTSTART:20240120T170000Z
DTEND:20240120T183000Z
DTSTAMP:20240116T222711Z
URL:https://www.larevistadelapalma.com/events/cafe-concierto-en-la-casa-ro
 ja-con-ensemble-sempiternun/
SUMMARY:Café Concierto en la Casa Roja\, con Ensemble Sempiternun
DESCRIPTION:\n\nReserva tu entrada en el 628014138. Precio 2€.\n\n\nEn c
 aso de reservar y no poder acudir\, agradecen que canceles para que otra p
 ersona pueda asistir.\n
ATTACH;FMTTYPE=image/jpeg:https://www.larevistadelapalma.com/wp-content/up
 loads/2024/01/Cafe-concierto-Ensemble-Sempiternum.jpg
CATEGORIES:Conciertos,Música
LOCATION:Museo Casa Roja\, C. Maximiliano Pérez Díaz\, 23\, Villa de Mazo
 \, 38730\, España
GEO:28.607435;-17.77894
X-APPLE-STRUCTURED-LOCATION;VALUE=URI;X-ADDRESS=C. Maximiliano Pérez Díaz
 \, 23\, Villa de Mazo\, 38730\, España;X-APPLE-RADIUS=100;X-TITLE=Museo C
 asa Roja:geo:28.607435,-17.77894
END:VEVENT
END:VCALENDAR