BEGIN:VCALENDAR
VERSION:2.0
PRODID:-//wp-events-plugin.com//7.2.3.1//EN
TZID:Europe/London
X-WR-TIMEZONE:Europe/London
BEGIN:VEVENT
UID:3670@larevistadelapalma.com
DTSTART:20250328T190000Z
DTEND:20250328T220000Z
DTSTAMP:20250327T204134Z
URL:https://www.larevistadelapalma.com/events/calamity-jane-monterreina-en
 -elvis-cocktail-bar/
SUMMARY:Calamity Jane Monterreina en Elvis Cocktail Bar
DESCRIPTION:Calamity Jane y Monterreina se verán las caras en el mejor gar
 ito de la ciudad el viernes 28 de marzo.
ATTACH;FMTTYPE=image/jpeg:https://www.larevistadelapalma.com/wp-content/up
 loads/2025/03/Calamity-Jane-Monterreina-en-Elvis-Cocktail-Bar.jpg
CATEGORIES:Festivales/Fiestas,Música
LOCATION:Elvis Cocktail Bar\, Calle del Medio\, 15\, Los Llanos de Aridane\
 ,  38760\, España
GEO:28.658959;-17.911405
X-APPLE-STRUCTURED-LOCATION;VALUE=URI;X-ADDRESS=Calle del Medio\, 15\, Los 
 Llanos de Aridane\,  38760\, España;X-APPLE-RADIUS=100;X-TITLE=Elvis Cock
 tail Bar:geo:28.658959,-17.911405
END:VEVENT
END:VCALENDARBEGIN:VCALENDAR
VERSION:2.0
PRODID:-//wp-events-plugin.com//7.2.3.1//EN
TZID:Europe/London
X-WR-TIMEZONE:Europe/London
BEGIN:VEVENT
UID:3670@larevistadelapalma.com
DTSTART:20250328T190000Z
DTEND:20250328T220000Z
DTSTAMP:20250327T204134Z
URL:https://www.larevistadelapalma.com/events/calamity-jane-monterreina-en
 -elvis-cocktail-bar/
SUMMARY:Calamity Jane Monterreina en Elvis Cocktail Bar
DESCRIPTION:Calamity Jane y Monterreina se verán las caras en el mejor gar
 ito de la ciudad el viernes 28 de marzo.
ATTACH;FMTTYPE=image/jpeg:https://www.larevistadelapalma.com/wp-content/up
 loads/2025/03/Calamity-Jane-Monterreina-en-Elvis-Cocktail-Bar.jpg
CATEGORIES:Festivales/Fiestas,Música
LOCATION:Elvis Cocktail Bar\, Calle del Medio\, 15\, Los Llanos de Aridane\
 ,  38760\, España
GEO:28.658959;-17.911405
X-APPLE-STRUCTURED-LOCATION;VALUE=URI;X-ADDRESS=Calle del Medio\, 15\, Los 
 Llanos de Aridane\,  38760\, España;X-APPLE-RADIUS=100;X-TITLE=Elvis Cock
 tail Bar:geo:28.658959,-17.911405
END:VEVENT
END:VCALENDAR