BEGIN:VCALENDAR
VERSION:2.0
PRODID:-//wp-events-plugin.com//7.2.3.1//EN
TZID:Europe/London
X-WR-TIMEZONE:Europe/London
BEGIN:VEVENT
UID:3026@larevistadelapalma.com
DTSTART:20240601T180000Z
DTEND:20240601T193000Z
DTSTAMP:20240530T170547Z
URL:https://www.larevistadelapalma.com/events/cali-fernandez-sabor-argenti
 no-en-las-salinas/
SUMMARY:Cali Fernández\, sabor argentino en las Salinas
DESCRIPTION:Undécimo concierto de la décima edición del Ciclo de Cámara
  Salinas en las Antiguas Salinas de Los Cancajos\, con la actuación de Ca
 li Fernández\, presentando el disco “Argéntea” y acompañada al pian
 o por Diego Expósito.\n\n\nArgéntea es el cuarto y último trabajo disco
 gráfico de la cantante tinerfeña Cali Fernández un recorrido por las ca
 nciones folklóricas argentinas. Un concierto de voz y piano.\nTanto Cali 
 como Diego\, son dos intérpretes con una dilatada trayectoria musical. En
  el caso de Cali Fernández\, una cantante de tradición popular muy conoc
 ida\, colabora con músicos del mundo clásico\, como es el caso de Diego 
 Expósito\, pianista versátil\, que juntos han logrado plasmar una fusió
 n atractiva para el público.\n\nPara reserva de entradas y abonos en el c
 orreo: musicadecamaracancajos@hotmail.com.\n\n&nbsp\;\n\n
ATTACH;FMTTYPE=image/jpeg:https://www.larevistadelapalma.com/wp-content/up
 loads/2024/05/Cali-Frnandez-Argentea.jpg
CATEGORIES:Conciertos,Música
LOCATION:Antiguas Salinas de Los Cancajos\, P.º del litoral\, Breña Baja\
 , 38712\, España
GEO:28.650095;-17.75849
X-APPLE-STRUCTURED-LOCATION;VALUE=URI;X-ADDRESS=P.º del litoral\, Breña B
 aja\, 38712\, España;X-APPLE-RADIUS=100;X-TITLE=Antiguas Salinas de Los C
 ancajos:geo:28.650095,-17.75849
END:VEVENT
END:VCALENDARBEGIN:VCALENDAR
VERSION:2.0
PRODID:-//wp-events-plugin.com//7.2.3.1//EN
TZID:Europe/London
X-WR-TIMEZONE:Europe/London
BEGIN:VEVENT
UID:3026@larevistadelapalma.com
DTSTART:20240601T180000Z
DTEND:20240601T193000Z
DTSTAMP:20240530T170547Z
URL:https://www.larevistadelapalma.com/events/cali-fernandez-sabor-argenti
 no-en-las-salinas/
SUMMARY:Cali Fernández\, sabor argentino en las Salinas
DESCRIPTION:Undécimo concierto de la décima edición del Ciclo de Cámara
  Salinas en las Antiguas Salinas de Los Cancajos\, con la actuación de Ca
 li Fernández\, presentando el disco “Argéntea” y acompañada al pian
 o por Diego Expósito.\n\n\nArgéntea es el cuarto y último trabajo disco
 gráfico de la cantante tinerfeña Cali Fernández un recorrido por las ca
 nciones folklóricas argentinas. Un concierto de voz y piano.\nTanto Cali 
 como Diego\, son dos intérpretes con una dilatada trayectoria musical. En
  el caso de Cali Fernández\, una cantante de tradición popular muy conoc
 ida\, colabora con músicos del mundo clásico\, como es el caso de Diego 
 Expósito\, pianista versátil\, que juntos han logrado plasmar una fusió
 n atractiva para el público.\n\nPara reserva de entradas y abonos en el c
 orreo: musicadecamaracancajos@hotmail.com.\n\n&nbsp\;\n\n
ATTACH;FMTTYPE=image/jpeg:https://www.larevistadelapalma.com/wp-content/up
 loads/2024/05/Cali-Frnandez-Argentea.jpg
CATEGORIES:Conciertos,Música
LOCATION:Antiguas Salinas de Los Cancajos\, P.º del litoral\, Breña Baja\
 , 38712\, España
GEO:28.650095;-17.75849
X-APPLE-STRUCTURED-LOCATION;VALUE=URI;X-ADDRESS=P.º del litoral\, Breña B
 aja\, 38712\, España;X-APPLE-RADIUS=100;X-TITLE=Antiguas Salinas de Los C
 ancajos:geo:28.650095,-17.75849
END:VEVENT
END:VCALENDAR