BEGIN:VCALENDAR
VERSION:2.0
PRODID:-//wp-events-plugin.com//7.2.3.1//EN
TZID:Europe/London
X-WR-TIMEZONE:Europe/London
BEGIN:VEVENT
UID:3558@larevistadelapalma.com
DTSTART:20250124T200000Z
DTEND:20250124T225900Z
DTSTAMP:20250124T163633Z
URL:https://www.larevistadelapalma.com/events/calufa-en-lunatico/
SUMMARY:Música brasileña en Lunático\, con "Calufa"
DESCRIPTION:Brasil\, Uruguay\, Canarias: las composiciones del dúo Calufa 
 os invitan este viernes a un viaje acústico muy diverso con una variedad 
 de instrumentos desde la guitarra y flauta travesera hasta más exóticos 
 como pandeiro o ronroco. Entre sonidos cálidos y cantos encantadores disf
 rutaremos de un ambiente muy especial
ATTACH;FMTTYPE=image/jpeg:https://www.larevistadelapalma.com/wp-content/up
 loads/2025/01/Lunatico-Musica-brasilena.jpg
CATEGORIES:Conciertos,Música
LOCATION:Sala Lunático\, El Paso\, Calle Manuel Taño 9\, El Paso\, 38750\
 , España
GEO:28.651734;-17.879603
X-APPLE-STRUCTURED-LOCATION;VALUE=URI;X-ADDRESS=Calle Manuel Taño 9\, El P
 aso\, 38750\, España;X-APPLE-RADIUS=100;X-TITLE=Sala Lunático\, El Paso:
 geo:28.651734,-17.879603
END:VEVENT
END:VCALENDARBEGIN:VCALENDAR
VERSION:2.0
PRODID:-//wp-events-plugin.com//7.2.3.1//EN
TZID:Europe/London
X-WR-TIMEZONE:Europe/London
BEGIN:VEVENT
UID:3558@larevistadelapalma.com
DTSTART:20250124T200000Z
DTEND:20250124T225900Z
DTSTAMP:20250124T163633Z
URL:https://www.larevistadelapalma.com/events/calufa-en-lunatico/
SUMMARY:Música brasileña en Lunático\, con "Calufa"
DESCRIPTION:Brasil\, Uruguay\, Canarias: las composiciones del dúo Calufa 
 os invitan este viernes a un viaje acústico muy diverso con una variedad 
 de instrumentos desde la guitarra y flauta travesera hasta más exóticos 
 como pandeiro o ronroco. Entre sonidos cálidos y cantos encantadores disf
 rutaremos de un ambiente muy especial
ATTACH;FMTTYPE=image/jpeg:https://www.larevistadelapalma.com/wp-content/up
 loads/2025/01/Lunatico-Musica-brasilena.jpg
CATEGORIES:Conciertos,Música
LOCATION:Sala Lunático\, El Paso\, Calle Manuel Taño 9\, El Paso\, 38750\
 , España
GEO:28.651734;-17.879603
X-APPLE-STRUCTURED-LOCATION;VALUE=URI;X-ADDRESS=Calle Manuel Taño 9\, El P
 aso\, 38750\, España;X-APPLE-RADIUS=100;X-TITLE=Sala Lunático\, El Paso:
 geo:28.651734,-17.879603
END:VEVENT
END:VCALENDAR