BEGIN:VCALENDAR
VERSION:2.0
PRODID:-//wp-events-plugin.com//7.2.3.1//EN
TZID:Europe/London
X-WR-TIMEZONE:Europe/London
BEGIN:VEVENT
UID:3020@larevistadelapalma.com
DTSTART:20240601T060000Z
DTEND:20240601T104500Z
DTSTAMP:20240528T193754Z
URL:https://www.larevistadelapalma.com/events/caminata-galeria-barbuzano-p
 untallana/
SUMMARY:Caminata Galería Barbuzano - Puntallana
DESCRIPTION:El sábado 1 de junio\, el C. D. de Caminantes "El Atajo" y la 
 Concejalía de Deportes del Ayuntamiento de Breña Baja organizan\, dentro
  del Programa de Senderismo de Breña Baja\, la caminata nº 879 "Galería
  Barbuzano - Puntallana".\n\nSe trata de visitar varias galerías importan
 tes de la comarca noreste de la isla como son Barbuzano\, Risco Blanco o l
 a Fuente Benamas."La Galería Barbuzano se encuentra situada en el paraje 
 conocido por Barranco de Los Gomeros. La bocamina está situada a una cota
  de 940 metros sobre el nivel del mar\, en las inmediaciones del Paraje Na
 tural Cardonal de Martín Luis\, tiene una longitud de 4.681 m.\, y el man
 antial se encuentra en el frente alcanzando el Parque Natural de Las Nieve
 s."\n\nInscripciones al teléfono del club (636 60 94 99) o al ayuntamient
 o (922 43 59 55\, ext. 219).\n\n
ATTACH;FMTTYPE=image/jpeg:https://www.larevistadelapalma.com/wp-content/up
 loads/2024/05/Galeria-Barbuzano-Puntallana.jpg
CATEGORIES:Actividades deportivas,Otras propuestas
END:VEVENT
END:VCALENDARBEGIN:VCALENDAR
VERSION:2.0
PRODID:-//wp-events-plugin.com//7.2.3.1//EN
TZID:Europe/London
X-WR-TIMEZONE:Europe/London
BEGIN:VEVENT
UID:3020@larevistadelapalma.com
DTSTART:20240601T060000Z
DTEND:20240601T104500Z
DTSTAMP:20240528T193754Z
URL:https://www.larevistadelapalma.com/events/caminata-galeria-barbuzano-p
 untallana/
SUMMARY:Caminata Galería Barbuzano - Puntallana
DESCRIPTION:El sábado 1 de junio\, el C. D. de Caminantes "El Atajo" y la 
 Concejalía de Deportes del Ayuntamiento de Breña Baja organizan\, dentro
  del Programa de Senderismo de Breña Baja\, la caminata nº 879 "Galería
  Barbuzano - Puntallana".\n\nSe trata de visitar varias galerías importan
 tes de la comarca noreste de la isla como son Barbuzano\, Risco Blanco o l
 a Fuente Benamas."La Galería Barbuzano se encuentra situada en el paraje 
 conocido por Barranco de Los Gomeros. La bocamina está situada a una cota
  de 940 metros sobre el nivel del mar\, en las inmediaciones del Paraje Na
 tural Cardonal de Martín Luis\, tiene una longitud de 4.681 m.\, y el man
 antial se encuentra en el frente alcanzando el Parque Natural de Las Nieve
 s."\n\nInscripciones al teléfono del club (636 60 94 99) o al ayuntamient
 o (922 43 59 55\, ext. 219).\n\n
ATTACH;FMTTYPE=image/jpeg:https://www.larevistadelapalma.com/wp-content/up
 loads/2024/05/Galeria-Barbuzano-Puntallana.jpg
CATEGORIES:Actividades deportivas,Otras propuestas
END:VEVENT
END:VCALENDAR