BEGIN:VCALENDAR
VERSION:2.0
PRODID:-//wp-events-plugin.com//7.2.3.1//EN
TZID:Europe/London
X-WR-TIMEZONE:Europe/London
BEGIN:VEVENT
UID:3242@larevistadelapalma.com
DTSTART;VALUE=DATE:20240921
DTEND;VALUE=DATE:20240922
DTSTAMP:20240918T161033Z
URL:https://www.larevistadelapalma.com/events/caminata-las-tricias-buracas
 /
SUMMARY:Caminata "Las Tricias - Buracas"
DESCRIPTION:El sábado 21 de septiembre\, el C. D. de Caminantes "El Atajo"
  y la Concejalía de Deportes del Ayuntamiento de Breña Baja organizan\, 
 dentro del Programa de Senderismo de Breña Baja\, la caminata nº 898 "La
 s Tricias - Buracas"\, en el municipio de la Villa de Garafía.\n\nInscrip
 ciones al teléfono del club (636 60 94 99) o al ayuntamiento (922 43 59 5
 5\, ext. 219).\n\n+ Info&gt\;&gt\;
ATTACH;FMTTYPE=image/jpeg:https://www.larevistadelapalma.com/wp-content/up
 loads/2024/09/Caminata-24-Buracas2-Cartel.jpg
CATEGORIES:Actividades deportivas,Otras propuestas
LOCATION:Municipio Villa de Garafía\, Garafía\, Garafía\, 38787\, Españ
 a
GEO:28.822803;-17.950221
X-APPLE-STRUCTURED-LOCATION;VALUE=URI;X-ADDRESS=Garafía\, Garafía\, 38787
 \, España;X-APPLE-RADIUS=100;X-TITLE=Municipio Villa de Garafía:geo:28.8
 22803,-17.950221
END:VEVENT
END:VCALENDARBEGIN:VCALENDAR
VERSION:2.0
PRODID:-//wp-events-plugin.com//7.2.3.1//EN
TZID:Europe/London
X-WR-TIMEZONE:Europe/London
BEGIN:VEVENT
UID:3242@larevistadelapalma.com
DTSTART;VALUE=DATE:20240921
DTEND;VALUE=DATE:20240922
DTSTAMP:20240918T161033Z
URL:https://www.larevistadelapalma.com/events/caminata-las-tricias-buracas
 /
SUMMARY:Caminata "Las Tricias - Buracas"
DESCRIPTION:El sábado 21 de septiembre\, el C. D. de Caminantes "El Atajo"
  y la Concejalía de Deportes del Ayuntamiento de Breña Baja organizan\, 
 dentro del Programa de Senderismo de Breña Baja\, la caminata nº 898 "La
 s Tricias - Buracas"\, en el municipio de la Villa de Garafía.\n\nInscrip
 ciones al teléfono del club (636 60 94 99) o al ayuntamiento (922 43 59 5
 5\, ext. 219).\n\n+ Info&gt\;&gt\;
ATTACH;FMTTYPE=image/jpeg:https://www.larevistadelapalma.com/wp-content/up
 loads/2024/09/Caminata-24-Buracas2-Cartel.jpg
CATEGORIES:Actividades deportivas,Otras propuestas
LOCATION:Municipio Villa de Garafía\, Garafía\, Garafía\, 38787\, Españ
 a
GEO:28.822803;-17.950221
X-APPLE-STRUCTURED-LOCATION;VALUE=URI;X-ADDRESS=Garafía\, Garafía\, 38787
 \, España;X-APPLE-RADIUS=100;X-TITLE=Municipio Villa de Garafía:geo:28.8
 22803,-17.950221
END:VEVENT
END:VCALENDAR