BEGIN:VCALENDAR
VERSION:2.0
PRODID:-//wp-events-plugin.com//7.2.3.1//EN
TZID:Europe/London
X-WR-TIMEZONE:Europe/London
BEGIN:VEVENT
UID:3890@larevistadelapalma.com
DTSTART:20250726T060000Z
DTEND:20250726T110000Z
DTSTAMP:20250722T210901Z
URL:https://www.larevistadelapalma.com/events/caminata-llano-negro-cueva-d
 el-agua/
SUMMARY:Caminata Llano Negro - Cueva del Agua
DESCRIPTION:El sábado 26 de julio\, el C. D. de Caminantes "El Atajo" y la
  Concejalía de Deportes del Ayuntamiento de Breña Baja organizan\, dentr
 o del Programa de Senderismo de Breña Baja\, la caminata nº 940 "Llano N
 egro - Cueva del Agua" en el municipio de la Villa de Garafía.\n\nPrecios
 a caminata que transcurre por las medianías de Garafía por lugares como 
 Llano Negro\, la Machorra\, el Hornito o Cueva del agua. Llegando hasta la
  costa\, a El Callejoncito.Inscripciones al teléfono del club (636 60 94 
 99) o al ayuntamiento (922 43 59 55\, ext. 3034).\n\nMás info &gt\; \n\n
ATTACH;FMTTYPE=image/jpeg:https://www.larevistadelapalma.com/wp-content/up
 loads/2025/07/Caminata-25-LlanoNegroJulio-Cartel.jpg
CATEGORIES:Actividades deportivas,Otras propuestas
LOCATION:Municipio Villa de Garafía\, Garafía\, Garafía\, 38787\, Españ
 a
GEO:28.822803;-17.950221
X-APPLE-STRUCTURED-LOCATION;VALUE=URI;X-ADDRESS=Garafía\, Garafía\, 38787
 \, España;X-APPLE-RADIUS=100;X-TITLE=Municipio Villa de Garafía:geo:28.8
 22803,-17.950221
END:VEVENT
END:VCALENDARBEGIN:VCALENDAR
VERSION:2.0
PRODID:-//wp-events-plugin.com//7.2.3.1//EN
TZID:Europe/London
X-WR-TIMEZONE:Europe/London
BEGIN:VEVENT
UID:3890@larevistadelapalma.com
DTSTART:20250726T060000Z
DTEND:20250726T110000Z
DTSTAMP:20250722T210901Z
URL:https://www.larevistadelapalma.com/events/caminata-llano-negro-cueva-d
 el-agua/
SUMMARY:Caminata Llano Negro - Cueva del Agua
DESCRIPTION:El sábado 26 de julio\, el C. D. de Caminantes "El Atajo" y la
  Concejalía de Deportes del Ayuntamiento de Breña Baja organizan\, dentr
 o del Programa de Senderismo de Breña Baja\, la caminata nº 940 "Llano N
 egro - Cueva del Agua" en el municipio de la Villa de Garafía.\n\nPrecios
 a caminata que transcurre por las medianías de Garafía por lugares como 
 Llano Negro\, la Machorra\, el Hornito o Cueva del agua. Llegando hasta la
  costa\, a El Callejoncito.Inscripciones al teléfono del club (636 60 94 
 99) o al ayuntamiento (922 43 59 55\, ext. 3034).\n\nMás info &gt\; \n\n
ATTACH;FMTTYPE=image/jpeg:https://www.larevistadelapalma.com/wp-content/up
 loads/2025/07/Caminata-25-LlanoNegroJulio-Cartel.jpg
CATEGORIES:Actividades deportivas,Otras propuestas
LOCATION:Municipio Villa de Garafía\, Garafía\, Garafía\, 38787\, Españ
 a
GEO:28.822803;-17.950221
X-APPLE-STRUCTURED-LOCATION;VALUE=URI;X-ADDRESS=Garafía\, Garafía\, 38787
 \, España;X-APPLE-RADIUS=100;X-TITLE=Municipio Villa de Garafía:geo:28.8
 22803,-17.950221
END:VEVENT
END:VCALENDAR