BEGIN:VCALENDAR
VERSION:2.0
PRODID:-//wp-events-plugin.com//7.2.3.1//EN
TZID:Europe/London
X-WR-TIMEZONE:Europe/London
BEGIN:VEVENT
UID:150@larevistadelapalma.com
DTSTART:20230715T090000Z
DTEND:20230715T140000Z
DTSTAMP:20230706T114152Z
URL:https://www.larevistadelapalma.com/events/campeonato-basketplaya-santa
 -cruz/
SUMMARY:Campeonato de Basketplaya en Santa Cruz de La Palma
DESCRIPTION:La Playa del Malecón de Santa Cruz de La Palma acoge el primer
  Campeonato de Canarias de Basketplaya el sábado 15 de julio.
ATTACH;FMTTYPE=image/jpeg:https://www.larevistadelapalma.com/wp-content/up
 loads/2023/07/basket-playa-santa-cruz.jpg
CATEGORIES:Actividades deportivas,Otras propuestas
LOCATION:Playa del Malecón en Santa Cruz de La Palma\, Avenida Marítima\,
  Santa Cruz De La Palma\, Santa Cruz de Tenerife\, 38700\, España
GEO:28.689651;-17.760535
X-APPLE-STRUCTURED-LOCATION;VALUE=URI;X-ADDRESS=Avenida Marítima\, Santa C
 ruz De La Palma\, Santa Cruz de Tenerife\, 38700\, España;X-APPLE-RADIUS=
 100;X-TITLE=Playa del Malecón en Santa Cruz de La Palma:geo:28.689651,-17
 .760535
END:VEVENT
END:VCALENDARBEGIN:VCALENDAR
VERSION:2.0
PRODID:-//wp-events-plugin.com//7.2.3.1//EN
TZID:Europe/London
X-WR-TIMEZONE:Europe/London
BEGIN:VEVENT
UID:150@larevistadelapalma.com
DTSTART:20230715T090000Z
DTEND:20230715T140000Z
DTSTAMP:20230706T114152Z
URL:https://www.larevistadelapalma.com/events/campeonato-basketplaya-santa
 -cruz/
SUMMARY:Campeonato de Basketplaya en Santa Cruz de La Palma
DESCRIPTION:La Playa del Malecón de Santa Cruz de La Palma acoge el primer
  Campeonato de Canarias de Basketplaya el sábado 15 de julio.
ATTACH;FMTTYPE=image/jpeg:https://www.larevistadelapalma.com/wp-content/up
 loads/2023/07/basket-playa-santa-cruz.jpg
CATEGORIES:Actividades deportivas,Otras propuestas
LOCATION:Playa del Malecón en Santa Cruz de La Palma\, Avenida Marítima\,
  Santa Cruz De La Palma\, Santa Cruz de Tenerife\, 38700\, España
GEO:28.689651;-17.760535
X-APPLE-STRUCTURED-LOCATION;VALUE=URI;X-ADDRESS=Avenida Marítima\, Santa C
 ruz De La Palma\, Santa Cruz de Tenerife\, 38700\, España;X-APPLE-RADIUS=
 100;X-TITLE=Playa del Malecón en Santa Cruz de La Palma:geo:28.689651,-17
 .760535
END:VEVENT
END:VCALENDAR