BEGIN:VCALENDAR
VERSION:2.0
PRODID:-//wp-events-plugin.com//7.2.3.1//EN
TZID:Europe/London
X-WR-TIMEZONE:Europe/London
BEGIN:VEVENT
UID:3812@larevistadelapalma.com
DTSTART;VALUE=DATE:20250701
DTEND;VALUE=DATE:20250702
DTSTAMP:20250616T195637Z
URL:https://www.larevistadelapalma.com/events/campus-de-verano-de-puntagor
 da/
SUMMARY:Campus de verano de Puntagorda
DESCRIPTION:Se desarrollará entre el 1 de julio y el 8 de septiembre con e
 ntretenimiento y desarrollo de habilidades para un total de 70 niños de e
 ntre 3 y 12 años\, todo de forma gratuita.\n\nEl Ayuntamiento de Puntagor
 da ha puesto en marcha una nueva edición de su popular Campus de Verano "
 Un Mundo de Color". Este programa\, que se llevará a cabo desde el 1 de j
 ulio hasta el 8 de septiembre\, ofrece un espacio de conciliación laboral
  y familiar\, así como de entretenimiento y desarrollo de habilidades par
 a un total de 70 niños y niñas de entre 3 y 12 años\, todo de forma gra
 tuita.\n\nEn esta undécima edición\, los participantes disfrutarán de u
 n variado programa que incluye excursiones a la playa y al área recreativ
 a de El Fayal\, fiestas temáticas\, talleres\, deportes y actividades acu
 áticas diarias en la piscina municipal. Estas actividades están coordina
 das por Magüi Ruiz y surge de un proyecto liderado por las concejalas de 
 Servicios Sociales y Educación\, Mercedes Candelario y Sheila Pérez\, qu
 ienes han expresado su satisfacción por el alto nivel de participación.\
 n\nAdemás de las actividades recreativas\, el campus ofrecerá un servici
 o de acogida desde las 7:30h hasta las 14:30 horas en el pabellón municip
 al\, donde un equipo de cinco monitores se encargará de atender a los ni
 ños y niñas\, organizándolos en grupos según su edad y necesidades.\n\
 nCon la mirada puesta en el bienestar de las familias de Puntagorda\, el 
 “Campus de Verano “Un Mundo de Color” se consolida como una propuest
 a indispensable para el desarrollo integral de los más pequeños\, foment
 ando no solo su entretenimiento\, sino también su socialización y aprend
 izaje en un entorno seguro y divertido.
ATTACH;FMTTYPE=image/jpeg:https://www.larevistadelapalma.com/wp-content/up
 loads/2025/06/Imagen-de-WhatsApp-2025-06-16-a-las-12.03.20_28f28110.jpg
CATEGORIES:Otras propuestas,Varios
LOCATION:Municipio de Puntagorda\, Puntagorda\, Puntagorda\, 38789\, Españ
 a
GEO:28.774265;-17.977666
X-APPLE-STRUCTURED-LOCATION;VALUE=URI;X-ADDRESS=Puntagorda\, Puntagorda\, 3
 8789\, España;X-APPLE-RADIUS=100;X-TITLE=Municipio de Puntagorda:geo:28.7
 74265,-17.977666
END:VEVENT
END:VCALENDARBEGIN:VCALENDAR
VERSION:2.0
PRODID:-//wp-events-plugin.com//7.2.3.1//EN
TZID:Europe/London
X-WR-TIMEZONE:Europe/London
BEGIN:VEVENT
UID:3812@larevistadelapalma.com
DTSTART;VALUE=DATE:20250701
DTEND;VALUE=DATE:20250702
DTSTAMP:20250616T195637Z
URL:https://www.larevistadelapalma.com/events/campus-de-verano-de-puntagor
 da/
SUMMARY:Campus de verano de Puntagorda
DESCRIPTION:Se desarrollará entre el 1 de julio y el 8 de septiembre con e
 ntretenimiento y desarrollo de habilidades para un total de 70 niños de e
 ntre 3 y 12 años\, todo de forma gratuita.\n\nEl Ayuntamiento de Puntagor
 da ha puesto en marcha una nueva edición de su popular Campus de Verano "
 Un Mundo de Color". Este programa\, que se llevará a cabo desde el 1 de j
 ulio hasta el 8 de septiembre\, ofrece un espacio de conciliación laboral
  y familiar\, así como de entretenimiento y desarrollo de habilidades par
 a un total de 70 niños y niñas de entre 3 y 12 años\, todo de forma gra
 tuita.\n\nEn esta undécima edición\, los participantes disfrutarán de u
 n variado programa que incluye excursiones a la playa y al área recreativ
 a de El Fayal\, fiestas temáticas\, talleres\, deportes y actividades acu
 áticas diarias en la piscina municipal. Estas actividades están coordina
 das por Magüi Ruiz y surge de un proyecto liderado por las concejalas de 
 Servicios Sociales y Educación\, Mercedes Candelario y Sheila Pérez\, qu
 ienes han expresado su satisfacción por el alto nivel de participación.\
 n\nAdemás de las actividades recreativas\, el campus ofrecerá un servici
 o de acogida desde las 7:30h hasta las 14:30 horas en el pabellón municip
 al\, donde un equipo de cinco monitores se encargará de atender a los ni
 ños y niñas\, organizándolos en grupos según su edad y necesidades.\n\
 nCon la mirada puesta en el bienestar de las familias de Puntagorda\, el 
 “Campus de Verano “Un Mundo de Color” se consolida como una propuest
 a indispensable para el desarrollo integral de los más pequeños\, foment
 ando no solo su entretenimiento\, sino también su socialización y aprend
 izaje en un entorno seguro y divertido.
ATTACH;FMTTYPE=image/jpeg:https://www.larevistadelapalma.com/wp-content/up
 loads/2025/06/Imagen-de-WhatsApp-2025-06-16-a-las-12.03.20_28f28110.jpg
CATEGORIES:Otras propuestas,Varios
LOCATION:Municipio de Puntagorda\, Puntagorda\, Puntagorda\, 38789\, Españ
 a
GEO:28.774265;-17.977666
X-APPLE-STRUCTURED-LOCATION;VALUE=URI;X-ADDRESS=Puntagorda\, Puntagorda\, 3
 8789\, España;X-APPLE-RADIUS=100;X-TITLE=Municipio de Puntagorda:geo:28.7
 74265,-17.977666
END:VEVENT
END:VCALENDAR