BEGIN:VCALENDAR
VERSION:2.0
PRODID:-//wp-events-plugin.com//7.2.3.1//EN
TZID:Europe/London
X-WR-TIMEZONE:Europe/London
BEGIN:VEVENT
UID:3134@larevistadelapalma.com
DTSTART:20240720T193000Z
DTEND:20240720T213000Z
DTSTAMP:20240712T191834Z
URL:https://www.larevistadelapalma.com/events/canarias-jazz-mas-la-palma/
SUMMARY:Vuelve a La Palma el Canarias Jazz & Más con Dainius Pulauskas y A
 lto For Two
DESCRIPTION:El Festival Internacional Canarias Jazz &amp\; Más Músicas Cr
 eativas vuelve este año a Los Llanos de Aridane\, su sede casi permanente
  en la isla de La Palma\, para ofrecer dos conciertos de su programación.
 \n\nEn esta 33ª edición\, el festival regresa tras un año de ausencia (
 el año pasado se tuvo que cancelar con motivo del incendio) con dos forma
 ciones de ámbito internacional\, el grupo lituano de Dainius Pulauskas y 
 el dúo de saxofonista Alto For Two.\n\nAlto For Two es el proyecto lidera
 do por dos de las saxofonistas actuales más innovadoras de Europa: Kika 
 Sprangers e Irene Reig con un repertorio de composiciones propias. La unio
 ́n de los bagajes musicales de las dos artistas da como resultado una pro
 puesta ecléctica y distintiva que ofrece un amplio abanico de sonoridade
 s que traducen en formato quinteto. Próximamente\, Alto For Two publicar
 á su primer disco\, compuesto por un nuevo repertorio original que muest
 ra la dirección artística y la evolución de la formación.\n\n\n\nD
 ainius Pulauskas Group se formó en 1996 e instantáneamente se convirtió
  en una de las unidades de jazz lituanas más influyentes y destacadas y e
 n un embajador de renombre internacional del jazz lituano. El crítico de 
 jazz Ian Patterson\, en su artículo del portal All About Jazz (10 de octu
 bre de 2011) escribió sobre el grupo: "El Dainius Pulauskas Group es un s
 exteto único cuya mezcla de melodía y músculo\, lirismo y lo inesperado
 \, lo sitúa firmemente en la vanguardia del jazz-fusión progresivo europ
 eo"\, y al líder del grupo lo caracteriza como "el pianista/teclista Pula
 uskas es\, sin duda\, uno de los compositores más interesantes en el extr
 emo fusión del jazz europeo\, y lleva diecisiete años al frente de este 
 sexteto".\n\n&nbsp\;\n\nhttps://www.youtube.com/watch?v=J6gtknfDzyM&amp\;t
 =60s
ATTACH;FMTTYPE=image/jpeg:https://www.larevistadelapalma.com/wp-content/up
 loads/2024/07/cnarias-jazz-y-mas.jpg
CATEGORIES:Festivales/Fiestas,Música
LOCATION:Plaza de España en Los Llanos de Aridane\, Plaza de España\, Los
  Llanos de Aridane\, 38760\, España
GEO:28.658934;-17.913174
X-APPLE-STRUCTURED-LOCATION;VALUE=URI;X-ADDRESS=Plaza de España\, Los Llan
 os de Aridane\, 38760\, España;X-APPLE-RADIUS=100;X-TITLE=Plaza de Españ
 a en Los Llanos de Aridane:geo:28.658934,-17.913174
END:VEVENT
END:VCALENDARBEGIN:VCALENDAR
VERSION:2.0
PRODID:-//wp-events-plugin.com//7.2.3.1//EN
TZID:Europe/London
X-WR-TIMEZONE:Europe/London
BEGIN:VEVENT
UID:3134@larevistadelapalma.com
DTSTART:20240720T193000Z
DTEND:20240720T213000Z
DTSTAMP:20240712T191834Z
URL:https://www.larevistadelapalma.com/events/canarias-jazz-mas-la-palma/
SUMMARY:Vuelve a La Palma el Canarias Jazz & Más con Dainius Pulauskas y A
 lto For Two
DESCRIPTION:El Festival Internacional Canarias Jazz &amp\; Más Músicas Cr
 eativas vuelve este año a Los Llanos de Aridane\, su sede casi permanente
  en la isla de La Palma\, para ofrecer dos conciertos de su programación.
 \n\nEn esta 33ª edición\, el festival regresa tras un año de ausencia (
 el año pasado se tuvo que cancelar con motivo del incendio) con dos forma
 ciones de ámbito internacional\, el grupo lituano de Dainius Pulauskas y 
 el dúo de saxofonista Alto For Two.\n\nAlto For Two es el proyecto lidera
 do por dos de las saxofonistas actuales más innovadoras de Europa: Kika 
 Sprangers e Irene Reig con un repertorio de composiciones propias. La unio
 ́n de los bagajes musicales de las dos artistas da como resultado una pro
 puesta ecléctica y distintiva que ofrece un amplio abanico de sonoridade
 s que traducen en formato quinteto. Próximamente\, Alto For Two publicar
 á su primer disco\, compuesto por un nuevo repertorio original que muest
 ra la dirección artística y la evolución de la formación.\n\n\n\nD
 ainius Pulauskas Group se formó en 1996 e instantáneamente se convirtió
  en una de las unidades de jazz lituanas más influyentes y destacadas y e
 n un embajador de renombre internacional del jazz lituano. El crítico de 
 jazz Ian Patterson\, en su artículo del portal All About Jazz (10 de octu
 bre de 2011) escribió sobre el grupo: "El Dainius Pulauskas Group es un s
 exteto único cuya mezcla de melodía y músculo\, lirismo y lo inesperado
 \, lo sitúa firmemente en la vanguardia del jazz-fusión progresivo europ
 eo"\, y al líder del grupo lo caracteriza como "el pianista/teclista Pula
 uskas es\, sin duda\, uno de los compositores más interesantes en el extr
 emo fusión del jazz europeo\, y lleva diecisiete años al frente de este 
 sexteto".\n\n&nbsp\;\n\nhttps://www.youtube.com/watch?v=J6gtknfDzyM&amp\;t
 =60s
ATTACH;FMTTYPE=image/jpeg:https://www.larevistadelapalma.com/wp-content/up
 loads/2024/07/cnarias-jazz-y-mas.jpg
CATEGORIES:Festivales/Fiestas,Música
LOCATION:Plaza de España en Los Llanos de Aridane\, Plaza de España\, Los
  Llanos de Aridane\, 38760\, España
GEO:28.658934;-17.913174
X-APPLE-STRUCTURED-LOCATION;VALUE=URI;X-ADDRESS=Plaza de España\, Los Llan
 os de Aridane\, 38760\, España;X-APPLE-RADIUS=100;X-TITLE=Plaza de Españ
 a en Los Llanos de Aridane:geo:28.658934,-17.913174
END:VEVENT
END:VCALENDAR