BEGIN:VCALENDAR
VERSION:2.0
PRODID:-//wp-events-plugin.com//7.2.3.1//EN
TZID:Europe/London
X-WR-TIMEZONE:Europe/London
BEGIN:VEVENT
UID:2968@larevistadelapalma.com
DTSTART:20240504T110000Z
DTEND:20240504T123000Z
DTSTAMP:20240430T210744Z
URL:https://www.larevistadelapalma.com/events/cancion-de-autor-con-alvaro-
 ruiz-y-ruben-rodriguez-en-los-llanos/
SUMMARY:Canción de autor con Álvaro Ruiz y Rubén Rodríguez\, en Los Lla
 nos
DESCRIPTION: El sevillano Álvaro Ruiz (guitarrista de El Kanka) y el gran
  canario Rubén Rodríguez.\nÁlvaro Ruiz es un compositor Sevillano\, gui
 tarrista y cantaor de trincheras. Durante más de 9 años se ha desempeña
 do como guitarrista de El Kanka. Presenta su tercera producción discográ
 fica en solitario titulada "La Llorería" una nueva propuesta sobre la can
 ción de autor que mezcla la tradición flamenca\, músicas latinoamerican
 as y armonías del Jazz.\n\nRubén Rodríguez\, cantautor y creativo de Gr
 an Canaria hace un repaso de las canciones de sus dos discos\, ‘Garabato
 s’ y ‘Maridaje’\, editados en 2016 y 2019\, además de adelantar alg
 unas canciones de su próximo trabajo que verá la luz este año "Querenci
 a". Estará acompañado por Abraham Ramos Chodo en el timple. El "Maridaje
 " de Rubén Rodríguez combina letras con aroma a nostalgia con la sonorid
 ad del timple de Abraham Ramos\, ofreciendo temas que salen del corazón y
  regresan al origen\, a través de sutiles ritmos que beben de la música 
 de raíz.
ATTACH;FMTTYPE=image/jpeg:https://www.larevistadelapalma.com/wp-content/up
 loads/2024/04/ciclo-cancion-de-autor-Autores-de-temporada-los-llanos.jpg
CATEGORIES:Conciertos,Música
LOCATION:Municipio de Los Llanos de Aridane\, Los Llanos de Aridane\, Los L
 lanos de Aridane\, 38760\, España
GEO:28.660236;-17.913187
X-APPLE-STRUCTURED-LOCATION;VALUE=URI;X-ADDRESS=Los Llanos de Aridane\, Los
  Llanos de Aridane\, 38760\, España;X-APPLE-RADIUS=100;X-TITLE=Municipio 
 de Los Llanos de Aridane:geo:28.660236,-17.913187
END:VEVENT
END:VCALENDARBEGIN:VCALENDAR
VERSION:2.0
PRODID:-//wp-events-plugin.com//7.2.3.1//EN
TZID:Europe/London
X-WR-TIMEZONE:Europe/London
BEGIN:VEVENT
UID:2968@larevistadelapalma.com
DTSTART:20240504T110000Z
DTEND:20240504T123000Z
DTSTAMP:20240430T210744Z
URL:https://www.larevistadelapalma.com/events/cancion-de-autor-con-alvaro-
 ruiz-y-ruben-rodriguez-en-los-llanos/
SUMMARY:Canción de autor con Álvaro Ruiz y Rubén Rodríguez\, en Los Lla
 nos
DESCRIPTION: El sevillano Álvaro Ruiz (guitarrista de El Kanka) y el gran
  canario Rubén Rodríguez.\nÁlvaro Ruiz es un compositor Sevillano\, gui
 tarrista y cantaor de trincheras. Durante más de 9 años se ha desempeña
 do como guitarrista de El Kanka. Presenta su tercera producción discográ
 fica en solitario titulada "La Llorería" una nueva propuesta sobre la can
 ción de autor que mezcla la tradición flamenca\, músicas latinoamerican
 as y armonías del Jazz.\n\nRubén Rodríguez\, cantautor y creativo de Gr
 an Canaria hace un repaso de las canciones de sus dos discos\, ‘Garabato
 s’ y ‘Maridaje’\, editados en 2016 y 2019\, además de adelantar alg
 unas canciones de su próximo trabajo que verá la luz este año "Querenci
 a". Estará acompañado por Abraham Ramos Chodo en el timple. El "Maridaje
 " de Rubén Rodríguez combina letras con aroma a nostalgia con la sonorid
 ad del timple de Abraham Ramos\, ofreciendo temas que salen del corazón y
  regresan al origen\, a través de sutiles ritmos que beben de la música 
 de raíz.
ATTACH;FMTTYPE=image/jpeg:https://www.larevistadelapalma.com/wp-content/up
 loads/2024/04/ciclo-cancion-de-autor-Autores-de-temporada-los-llanos.jpg
CATEGORIES:Conciertos,Música
LOCATION:Municipio de Los Llanos de Aridane\, Los Llanos de Aridane\, Los L
 lanos de Aridane\, 38760\, España
GEO:28.660236;-17.913187
X-APPLE-STRUCTURED-LOCATION;VALUE=URI;X-ADDRESS=Los Llanos de Aridane\, Los
  Llanos de Aridane\, 38760\, España;X-APPLE-RADIUS=100;X-TITLE=Municipio 
 de Los Llanos de Aridane:geo:28.660236,-17.913187
END:VEVENT
END:VCALENDAR