BEGIN:VCALENDAR
VERSION:2.0
PRODID:-//wp-events-plugin.com//7.2.3.1//EN
TZID:Europe/London
X-WR-TIMEZONE:Europe/London
BEGIN:VEVENT
UID:3319@larevistadelapalma.com
DTSTART:20241020T080000Z
DTEND:20241020T100000Z
DTSTAMP:20241014T165026Z
URL:https://www.larevistadelapalma.com/events/canicross-2024-brena-baja/
SUMMARY:Canicross 2024\, Breña Baja
DESCRIPTION:El domingo 20 de Octubre se celebrará el Canicross “Breña B
 aja 2024”\, prueba puntuable de la VIII Copa de Canicross “Isla de La 
 Palma – Haridaira” con salida a las 9:00 horas de la Sociedad “Balc
 ón Canario” de Las Ledas y llegada al mismo lugar.\n\nCon más de 6 kil
 ómetros y dificultad física y técnica alta. El recorrido transcurre por
  un 90% de sendero y un 10 % de pista de cemento. Salida y llegada desde l
 a Sociedad “Balcón Canario” a través del Barranco de Amargavinos y v
 uelta por la Vaquera y el Cementerio de La Ratona. Un trayecto agradable\,
  apacible y pintoresco para participantes y publico.\n\nLa entrega de trof
 eos esta prevista para las 11 hs. Para mayor información e inscripciones 
 contactar a los teléfonos: 699 722 956 / 620 572 826 y a través de la we
 b de Fitters.\nInscripciones &gt\;&gt\;
ATTACH;FMTTYPE=image/jpeg:https://www.larevistadelapalma.com/wp-content/up
 loads/2024/10/Canicross-Copa-24-Cartel-scaled.jpg
CATEGORIES:Actividades deportivas,Otras propuestas
LOCATION:Municipio de Breña Baja\, Breña Baja\, Breña Baja\, 38712\, Esp
 aña
GEO:28.641297;-17.772467
X-APPLE-STRUCTURED-LOCATION;VALUE=URI;X-ADDRESS=Breña Baja\, Breña Baja\,
  38712\, España;X-APPLE-RADIUS=100;X-TITLE=Municipio de Breña Baja:geo:2
 8.641297,-17.772467
END:VEVENT
END:VCALENDARBEGIN:VCALENDAR
VERSION:2.0
PRODID:-//wp-events-plugin.com//7.2.3.1//EN
TZID:Europe/London
X-WR-TIMEZONE:Europe/London
BEGIN:VEVENT
UID:3319@larevistadelapalma.com
DTSTART:20241020T080000Z
DTEND:20241020T100000Z
DTSTAMP:20241014T165026Z
URL:https://www.larevistadelapalma.com/events/canicross-2024-brena-baja/
SUMMARY:Canicross 2024\, Breña Baja
DESCRIPTION:El domingo 20 de Octubre se celebrará el Canicross “Breña B
 aja 2024”\, prueba puntuable de la VIII Copa de Canicross “Isla de La 
 Palma – Haridaira” con salida a las 9:00 horas de la Sociedad “Balc
 ón Canario” de Las Ledas y llegada al mismo lugar.\n\nCon más de 6 kil
 ómetros y dificultad física y técnica alta. El recorrido transcurre por
  un 90% de sendero y un 10 % de pista de cemento. Salida y llegada desde l
 a Sociedad “Balcón Canario” a través del Barranco de Amargavinos y v
 uelta por la Vaquera y el Cementerio de La Ratona. Un trayecto agradable\,
  apacible y pintoresco para participantes y publico.\n\nLa entrega de trof
 eos esta prevista para las 11 hs. Para mayor información e inscripciones 
 contactar a los teléfonos: 699 722 956 / 620 572 826 y a través de la we
 b de Fitters.\nInscripciones &gt\;&gt\;
ATTACH;FMTTYPE=image/jpeg:https://www.larevistadelapalma.com/wp-content/up
 loads/2024/10/Canicross-Copa-24-Cartel-scaled.jpg
CATEGORIES:Actividades deportivas,Otras propuestas
LOCATION:Municipio de Breña Baja\, Breña Baja\, Breña Baja\, 38712\, Esp
 aña
GEO:28.641297;-17.772467
X-APPLE-STRUCTURED-LOCATION;VALUE=URI;X-ADDRESS=Breña Baja\, Breña Baja\,
  38712\, España;X-APPLE-RADIUS=100;X-TITLE=Municipio de Breña Baja:geo:2
 8.641297,-17.772467
END:VEVENT
END:VCALENDAR