BEGIN:VCALENDAR
VERSION:2.0
PRODID:-//wp-events-plugin.com//7.2.3.1//EN
TZID:Europe/London
X-WR-TIMEZONE:Europe/London
BEGIN:VEVENT
UID:4085@larevistadelapalma.com
DTSTART:20251207T113000Z
DTEND:20251207T123000Z
DTSTAMP:20251203T141952Z
URL:https://www.larevistadelapalma.com/events/canta-con-alma-vibra-con-esp
 iritu-el-coro-de-gospel-mlou-en-brena-baja/
SUMMARY:“Canta con alma\, vibra con espíritu”\, el Coro de “Gospel M
 LOU” en Breña Baja
DESCRIPTION:El domingo 7 de diciembre siente el gospel con la actuación de
 l Coro de Gospel “MLOU” en la Plaza de Las Madres de San José de Bre
 ña Baja.\nCuenta con la colaboración del Programa Mares del Instituto Ca
 nario de Desarrollo Cultural – Gobierno de Canarias. Gospel MLou se fund
 ó en el año 2005 en la isla de Gran Canaria\, siendo el primer coro gosp
 el creado en el Archipiélago canario.\nSu repertorio está basado princip
 almente en el gospel contemporáneo\, aunque gracias a su versatilidad\, t
 ienen tendencias a otros estilos como el R&amp\;B\, pop y fusiones especta
 culares como el tango.Contando en su haber con cientos de actuaciones que 
 incluyen los festivales nacionales más importantes\, eventos europeos\, c
 elebraciones de personas de fama\, teatros del archipiélago\, cadenas de 
 hoteles... Sin duda poseen una carrera musical y académica muy llamativa.
 \nLa mayoría de sus componentes son profesores Graduados y Licenciados en
  música y canto. Su música y sus voces\, en riguroso directo\, despierta
 n la sensibilidad de un público que siempre aplaude satisfecho. Está lle
 no de alegría\, emoción\, diversión y frescura\, siendo un espectáculo
  original y lleno de espiritualidad.
ATTACH;FMTTYPE=image/jpeg:https://www.larevistadelapalma.com/wp-content/up
 loads/2025/12/Gospel-Mlou.jpg
CATEGORIES:Conciertos,Música
LOCATION:Plaza de las Madres\, San José\, Breña Baja\, 38712\, España
GEO:28.642202;-17.775828
X-APPLE-STRUCTURED-LOCATION;VALUE=URI;X-ADDRESS=San José\, Breña Baja\, 3
 8712\, España;X-APPLE-RADIUS=100;X-TITLE=Plaza de las Madres:geo:28.64220
 2,-17.775828
END:VEVENT
END:VCALENDARBEGIN:VCALENDAR
VERSION:2.0
PRODID:-//wp-events-plugin.com//7.2.3.1//EN
TZID:Europe/London
X-WR-TIMEZONE:Europe/London
BEGIN:VEVENT
UID:4085@larevistadelapalma.com
DTSTART:20251207T113000Z
DTEND:20251207T123000Z
DTSTAMP:20251203T141952Z
URL:https://www.larevistadelapalma.com/events/canta-con-alma-vibra-con-esp
 iritu-el-coro-de-gospel-mlou-en-brena-baja/
SUMMARY:“Canta con alma\, vibra con espíritu”\, el Coro de “Gospel M
 LOU” en Breña Baja
DESCRIPTION:El domingo 7 de diciembre siente el gospel con la actuación de
 l Coro de Gospel “MLOU” en la Plaza de Las Madres de San José de Bre
 ña Baja.\nCuenta con la colaboración del Programa Mares del Instituto Ca
 nario de Desarrollo Cultural – Gobierno de Canarias. Gospel MLou se fund
 ó en el año 2005 en la isla de Gran Canaria\, siendo el primer coro gosp
 el creado en el Archipiélago canario.\nSu repertorio está basado princip
 almente en el gospel contemporáneo\, aunque gracias a su versatilidad\, t
 ienen tendencias a otros estilos como el R&amp\;B\, pop y fusiones especta
 culares como el tango.Contando en su haber con cientos de actuaciones que 
 incluyen los festivales nacionales más importantes\, eventos europeos\, c
 elebraciones de personas de fama\, teatros del archipiélago\, cadenas de 
 hoteles... Sin duda poseen una carrera musical y académica muy llamativa.
 \nLa mayoría de sus componentes son profesores Graduados y Licenciados en
  música y canto. Su música y sus voces\, en riguroso directo\, despierta
 n la sensibilidad de un público que siempre aplaude satisfecho. Está lle
 no de alegría\, emoción\, diversión y frescura\, siendo un espectáculo
  original y lleno de espiritualidad.
ATTACH;FMTTYPE=image/jpeg:https://www.larevistadelapalma.com/wp-content/up
 loads/2025/12/Gospel-Mlou.jpg
CATEGORIES:Conciertos,Música
LOCATION:Plaza de las Madres\, San José\, Breña Baja\, 38712\, España
GEO:28.642202;-17.775828
X-APPLE-STRUCTURED-LOCATION;VALUE=URI;X-ADDRESS=San José\, Breña Baja\, 3
 8712\, España;X-APPLE-RADIUS=100;X-TITLE=Plaza de las Madres:geo:28.64220
 2,-17.775828
END:VEVENT
END:VCALENDAR