BEGIN:VCALENDAR
VERSION:2.0
PRODID:-//wp-events-plugin.com//7.2.3.1//EN
TZID:Europe/London
X-WR-TIMEZONE:Europe/London
BEGIN:VEVENT
UID:165@larevistadelapalma.com
DTSTART:20230719T190000Z
DTEND:20230719T203000Z
DTSTAMP:20230717T202800Z
URL:https://www.larevistadelapalma.com/events/cantar-en-tiempos-de-adversi
 dad-zarzuela/
SUMMARY:Recital "Cantar en tiempos de adversidad"
DESCRIPTION:Enmarcado en el IX Festival de Música Española y Zarzuela de 
 La Palma.\nCanciones de concierto españolas y romanzas de zarzuela.
ATTACH;FMTTYPE=image/jpeg:https://www.larevistadelapalma.com/wp-content/up
 loads/2023/07/Cantar-en-tiempos-de-adversidad.jpg
CATEGORIES:Conciertos,Música
LOCATION:Espacio Cultural El Secadero\, C. Rosal\, 3\,\, Los Llanos de Arid
 ane\, 38760\, España
GEO:28.659406;-17.907147
X-APPLE-STRUCTURED-LOCATION;VALUE=URI;X-ADDRESS=C. Rosal\, 3\,\, Los Llanos
  de Aridane\, 38760\, España;X-APPLE-RADIUS=100;X-TITLE=Espacio Cultural 
 El Secadero:geo:28.659406,-17.907147
END:VEVENT
END:VCALENDARBEGIN:VCALENDAR
VERSION:2.0
PRODID:-//wp-events-plugin.com//7.2.3.1//EN
TZID:Europe/London
X-WR-TIMEZONE:Europe/London
BEGIN:VEVENT
UID:165@larevistadelapalma.com
DTSTART:20230719T190000Z
DTEND:20230719T203000Z
DTSTAMP:20230717T202800Z
URL:https://www.larevistadelapalma.com/events/cantar-en-tiempos-de-adversi
 dad-zarzuela/
SUMMARY:Recital "Cantar en tiempos de adversidad"
DESCRIPTION:Enmarcado en el IX Festival de Música Española y Zarzuela de 
 La Palma.\nCanciones de concierto españolas y romanzas de zarzuela.
ATTACH;FMTTYPE=image/jpeg:https://www.larevistadelapalma.com/wp-content/up
 loads/2023/07/Cantar-en-tiempos-de-adversidad.jpg
CATEGORIES:Conciertos,Música
LOCATION:Espacio Cultural El Secadero\, C. Rosal\, 3\,\, Los Llanos de Arid
 ane\, 38760\, España
GEO:28.659406;-17.907147
X-APPLE-STRUCTURED-LOCATION;VALUE=URI;X-ADDRESS=C. Rosal\, 3\,\, Los Llanos
  de Aridane\, 38760\, España;X-APPLE-RADIUS=100;X-TITLE=Espacio Cultural 
 El Secadero:geo:28.659406,-17.907147
END:VEVENT
END:VCALENDAR