BEGIN:VCALENDAR
VERSION:2.0
PRODID:-//wp-events-plugin.com//7.2.3.1//EN
TZID:Europe/London
X-WR-TIMEZONE:Europe/London
BEGIN:VEVENT
UID:3870@larevistadelapalma.com
DTSTART:20250729T190000Z
DTEND:20250729T203000Z
DTSTAMP:20250709T155408Z
URL:https://www.larevistadelapalma.com/events/carnaval-de-los-animales-joc
 an/
SUMMARY:"El Carnaval de los Animales" con la Joven Orquesta de Canarias
DESCRIPTION:\nUna orquesta joven. Un repertorio brillante.\nRegresa la Jove
 n Orquesta de Canarias (JOCAN) con una nueva gira para celebrar la llegada
  del verano con un programa camerístico diseñado para que sea accesible 
 a todos los públicos. Interpretarán un programa ideal para disfrutar en 
 familia: EL CARNAVAL DE LOS ANIMALES\, de Saint-Saëns\, con la batuta del
  maestro Víctor Pablo Pérez\, acompañados por el músico y humorista V
 íctor Lemes como narrador de esta singular historia.\n Comprar entradas&
 gt\;&gt\;\nEl carnaval de los animales’ es una pieza de Camille Saint-
 Saëns compuesta en 1886\, una suite en catorce movimientos que realizó 
 durante unas vacaciones en Austria como una especie de broma musical para 
 entretener a sus amigos.\nDe hecho\, Saint Saëns prohibió que se publica
 ra o se interpretara en vida\, con la excepción del movimiento ‘El cisn
 e’\, que consideraba serio y bello. Así que la obra fue estrenada púb
 licamente después de su muerte en 1922 y se volvió muy popular desde en
 tonces\, ya que\, aunque se trata de una obra humorística\, está compues
 ta con gran maestría y conocimiento profundo del color instrumental.\nEn 
 cada uno de estos movimientos se representa un animal o escena con un toqu
 e humorístico y paródico. Por ejemplo\, en el movimiento ‘Fósiles’\
 , Saint-Saëns se parodia a sí mismo y a otros colegas como Rossini y Off
 enbach.\nComo antesala\, tocarán 'El Carnaval de los animales canarios'\,
  la versión isleña de la célebre pieza del compositor francés\, con re
 ferencia a la fauna y las melodías y sonidos de nuestro territorio.\n ¿
 Cómo sonará un cisne o un fósil? ¿Y un lagarto gigante o un cangrejo c
 iego?\n\n\nEl Carnaval de los Animales Canarios y el Carnaval de los Anima
 les de Saint-Saëns comparten escenario en un programa que te invita a des
 cubrir\, redescubrir y conectar. Con música compuesta aquí\, con fauna i
 sleña como protagonista. Y con una versión renovada del clásico de Sain
 t-Saëns\, narrada en directo por Víctor Lemes\, que transformará la obr
 a en algo único e irrepetible.\nCon pianistas por primera vez\nUna de las
  novedades de este año es que\, por primera vez\, participarán en la JOC
 AN dos jóvenes pianistas\, concretamente Gabriel Álvarez Doreste y Na
 talia Dionis Rodríguez\, elegidos en una reciente convocatoria pública.
  Junto a ellos estarán en el escenario una selección de músicos elegido
 s de la bolsa de instrumentistas de la Joven Orquesta: Unai Marrero Simó
 n (clarinete)\; Érika Gutiérrez Castillo (contrabajo)\, Sara Lorenzo Gon
 zález (flauta)\; Raúl Fernández Morales (percusión)\; Liz Flor Gonzál
 ez Durán (viola)\; Marie Cooper Aube (violín)\; Inés Ruiz Ortiz de Anti
 ñano (violín) y Aurora Fibla Tejedas (violonchelo).\nJóvenes músicos q
 ue proceden de las distintas islas del archipiélago canario\, que cursan 
 actualmente el último año de su formación musical académica en centros
  repartidos por el mundo\, o recién titulados. Para esta gira\, la JOCAN 
 volverá a contar con el joven director\, Santiago Padilla\, que acompañ
 ó a la orquesta en su parte formativa durante la gira del pasado año\, t
 res ser seleccionado en una convocatoria pública específica. En esta oca
 sión será además responsable de la dirección de una de las piezas del 
 programa\, ‘El carnaval de los animales canarios’.\n\n\n\n\n\n Un con
 cierto inclusivo\, con opciones para personas con discapacidad auditiva.\n
 Dada la buena acogida que tuvo en su última gira\, la JOCAN vuelve a dota
 r a sus conciertos de algunas iniciativas que los harán inclusivos y acc
 esibles para todo el mundo\, incluido personas con discapacidad auditiva.
  Para ello\, y en colaboración con Fundación DISA\, que asume este pat
 rocinio\, pone a disposición del público unas mochilas sensoriales con
  las que las personas con problemas de audición podrán disfrutar de form
 a más completa de esta experiencia.\nHabrá diez de estos dispositivos\, 
 que se cederán gratuitamente previa solicitud\, a partir del 14 de julio
 \, por correo electrónico a jocan@icdcultural.org y se gestionarán las
  invitaciones por orden de llegada. Asimismo\, y como ‘El carnaval de lo
 s animales’ de Saint-Saëns incorpora la figura de narrador\, habrá tam
 bién en el escenario un intérprete de Lengua de Signos Española LSE.\n
 \n
ATTACH;FMTTYPE=image/jpeg:https://www.larevistadelapalma.com/wp-content/up
 loads/2025/07/516722267_1268654848481210_1560197971466237932_n.jpg
CATEGORIES:Conciertos,Música
LOCATION:Teatro Circo de Marte\, Calle Virgen de La Luz\, 5\, Santa Cruz de
  La Palma\, 38700\, España
GEO:28.682989;-17.765755
X-APPLE-STRUCTURED-LOCATION;VALUE=URI;X-ADDRESS=Calle Virgen de La Luz\, 5\
 , Santa Cruz de La Palma\, 38700\, España;X-APPLE-RADIUS=100;X-TITLE=Teat
 ro Circo de Marte:geo:28.682989,-17.765755
END:VEVENT
END:VCALENDARBEGIN:VCALENDAR
VERSION:2.0
PRODID:-//wp-events-plugin.com//7.2.3.1//EN
TZID:Europe/London
X-WR-TIMEZONE:Europe/London
BEGIN:VEVENT
UID:3870@larevistadelapalma.com
DTSTART:20250729T190000Z
DTEND:20250729T203000Z
DTSTAMP:20250709T155408Z
URL:https://www.larevistadelapalma.com/events/carnaval-de-los-animales-joc
 an/
SUMMARY:"El Carnaval de los Animales" con la Joven Orquesta de Canarias
DESCRIPTION:\nUna orquesta joven. Un repertorio brillante.\nRegresa la Jove
 n Orquesta de Canarias (JOCAN) con una nueva gira para celebrar la llegada
  del verano con un programa camerístico diseñado para que sea accesible 
 a todos los públicos. Interpretarán un programa ideal para disfrutar en 
 familia: EL CARNAVAL DE LOS ANIMALES\, de Saint-Saëns\, con la batuta del
  maestro Víctor Pablo Pérez\, acompañados por el músico y humorista V
 íctor Lemes como narrador de esta singular historia.\n Comprar entradas&
 gt\;&gt\;\nEl carnaval de los animales’ es una pieza de Camille Saint-
 Saëns compuesta en 1886\, una suite en catorce movimientos que realizó 
 durante unas vacaciones en Austria como una especie de broma musical para 
 entretener a sus amigos.\nDe hecho\, Saint Saëns prohibió que se publica
 ra o se interpretara en vida\, con la excepción del movimiento ‘El cisn
 e’\, que consideraba serio y bello. Así que la obra fue estrenada púb
 licamente después de su muerte en 1922 y se volvió muy popular desde en
 tonces\, ya que\, aunque se trata de una obra humorística\, está compues
 ta con gran maestría y conocimiento profundo del color instrumental.\nEn 
 cada uno de estos movimientos se representa un animal o escena con un toqu
 e humorístico y paródico. Por ejemplo\, en el movimiento ‘Fósiles’\
 , Saint-Saëns se parodia a sí mismo y a otros colegas como Rossini y Off
 enbach.\nComo antesala\, tocarán 'El Carnaval de los animales canarios'\,
  la versión isleña de la célebre pieza del compositor francés\, con re
 ferencia a la fauna y las melodías y sonidos de nuestro territorio.\n ¿
 Cómo sonará un cisne o un fósil? ¿Y un lagarto gigante o un cangrejo c
 iego?\n\n\nEl Carnaval de los Animales Canarios y el Carnaval de los Anima
 les de Saint-Saëns comparten escenario en un programa que te invita a des
 cubrir\, redescubrir y conectar. Con música compuesta aquí\, con fauna i
 sleña como protagonista. Y con una versión renovada del clásico de Sain
 t-Saëns\, narrada en directo por Víctor Lemes\, que transformará la obr
 a en algo único e irrepetible.\nCon pianistas por primera vez\nUna de las
  novedades de este año es que\, por primera vez\, participarán en la JOC
 AN dos jóvenes pianistas\, concretamente Gabriel Álvarez Doreste y Na
 talia Dionis Rodríguez\, elegidos en una reciente convocatoria pública.
  Junto a ellos estarán en el escenario una selección de músicos elegido
 s de la bolsa de instrumentistas de la Joven Orquesta: Unai Marrero Simó
 n (clarinete)\; Érika Gutiérrez Castillo (contrabajo)\, Sara Lorenzo Gon
 zález (flauta)\; Raúl Fernández Morales (percusión)\; Liz Flor Gonzál
 ez Durán (viola)\; Marie Cooper Aube (violín)\; Inés Ruiz Ortiz de Anti
 ñano (violín) y Aurora Fibla Tejedas (violonchelo).\nJóvenes músicos q
 ue proceden de las distintas islas del archipiélago canario\, que cursan 
 actualmente el último año de su formación musical académica en centros
  repartidos por el mundo\, o recién titulados. Para esta gira\, la JOCAN 
 volverá a contar con el joven director\, Santiago Padilla\, que acompañ
 ó a la orquesta en su parte formativa durante la gira del pasado año\, t
 res ser seleccionado en una convocatoria pública específica. En esta oca
 sión será además responsable de la dirección de una de las piezas del 
 programa\, ‘El carnaval de los animales canarios’.\n\n\n\n\n\n Un con
 cierto inclusivo\, con opciones para personas con discapacidad auditiva.\n
 Dada la buena acogida que tuvo en su última gira\, la JOCAN vuelve a dota
 r a sus conciertos de algunas iniciativas que los harán inclusivos y acc
 esibles para todo el mundo\, incluido personas con discapacidad auditiva.
  Para ello\, y en colaboración con Fundación DISA\, que asume este pat
 rocinio\, pone a disposición del público unas mochilas sensoriales con
  las que las personas con problemas de audición podrán disfrutar de form
 a más completa de esta experiencia.\nHabrá diez de estos dispositivos\, 
 que se cederán gratuitamente previa solicitud\, a partir del 14 de julio
 \, por correo electrónico a jocan@icdcultural.org y se gestionarán las
  invitaciones por orden de llegada. Asimismo\, y como ‘El carnaval de lo
 s animales’ de Saint-Saëns incorpora la figura de narrador\, habrá tam
 bién en el escenario un intérprete de Lengua de Signos Española LSE.\n
 \n
ATTACH;FMTTYPE=image/jpeg:https://www.larevistadelapalma.com/wp-content/up
 loads/2025/07/516722267_1268654848481210_1560197971466237932_n.jpg
CATEGORIES:Conciertos,Música
LOCATION:Teatro Circo de Marte\, Calle Virgen de La Luz\, 5\, Santa Cruz de
  La Palma\, 38700\, España
GEO:28.682989;-17.765755
X-APPLE-STRUCTURED-LOCATION;VALUE=URI;X-ADDRESS=Calle Virgen de La Luz\, 5\
 , Santa Cruz de La Palma\, 38700\, España;X-APPLE-RADIUS=100;X-TITLE=Teat
 ro Circo de Marte:geo:28.682989,-17.765755
END:VEVENT
END:VCALENDAR