BEGIN:VCALENDAR
VERSION:2.0
PRODID:-//wp-events-plugin.com//7.2.3.1//EN
TZID:Europe/London
X-WR-TIMEZONE:Europe/London
BEGIN:VEVENT
UID:3637@larevistadelapalma.com
DTSTART:20250308T170000Z
DTEND:20250308T225900Z
DTSTAMP:20250307T211321Z
URL:https://www.larevistadelapalma.com/events/carnaval-de-pinata-en-santa-
 cruz-de-la-palma/
SUMMARY:Actuaciones y Dj's en el Carnaval de Piñata de Santa Cruz de La Pa
 lma
DESCRIPTION:\nCarnaval de Piñata\, a partir de las 18:00 horas\, con Tonn
 y Tun Tun\, Orquesta Tropicana’s\, Tributo a Manny Manuel\, Grupo Libert
 ad\, DJ Equis y Dj Gero.\n
ATTACH;FMTTYPE=image/jpeg:https://www.larevistadelapalma.com/wp-content/up
 loads/2025/03/Carnaval-pinata-santa-cruz-25.jpg
CATEGORIES:Festivales/Fiestas,Fiestas populares,Música,Otras propuestas
LOCATION:Municipio de Santa Cruz de La Palma\, Santa Cruz de La Palma \, Sa
 nta Cruz de La Palma \, 38700\, España
GEO:28.688757;-17.765102
X-APPLE-STRUCTURED-LOCATION;VALUE=URI;X-ADDRESS=Santa Cruz de La Palma \, S
 anta Cruz de La Palma \, 38700\, España;X-APPLE-RADIUS=100;X-TITLE=Munici
 pio de Santa Cruz de La Palma:geo:28.688757,-17.765102
END:VEVENT
END:VCALENDARBEGIN:VCALENDAR
VERSION:2.0
PRODID:-//wp-events-plugin.com//7.2.3.1//EN
TZID:Europe/London
X-WR-TIMEZONE:Europe/London
BEGIN:VEVENT
UID:3637@larevistadelapalma.com
DTSTART:20250308T170000Z
DTEND:20250308T225900Z
DTSTAMP:20250307T211321Z
URL:https://www.larevistadelapalma.com/events/carnaval-de-pinata-en-santa-
 cruz-de-la-palma/
SUMMARY:Actuaciones y Dj's en el Carnaval de Piñata de Santa Cruz de La Pa
 lma
DESCRIPTION:\nCarnaval de Piñata\, a partir de las 18:00 horas\, con Tonn
 y Tun Tun\, Orquesta Tropicana’s\, Tributo a Manny Manuel\, Grupo Libert
 ad\, DJ Equis y Dj Gero.\n
ATTACH;FMTTYPE=image/jpeg:https://www.larevistadelapalma.com/wp-content/up
 loads/2025/03/Carnaval-pinata-santa-cruz-25.jpg
CATEGORIES:Festivales/Fiestas,Fiestas populares,Música,Otras propuestas
LOCATION:Municipio de Santa Cruz de La Palma\, Santa Cruz de La Palma \, Sa
 nta Cruz de La Palma \, 38700\, España
GEO:28.688757;-17.765102
X-APPLE-STRUCTURED-LOCATION;VALUE=URI;X-ADDRESS=Santa Cruz de La Palma \, S
 anta Cruz de La Palma \, 38700\, España;X-APPLE-RADIUS=100;X-TITLE=Munici
 pio de Santa Cruz de La Palma:geo:28.688757,-17.765102
END:VEVENT
END:VCALENDAR